BEGIN:VCALENDAR
VERSION:2.0
PRODID:-//Le Village by CA Rouen Vallée de Seine - ECPv6.15.18//NONSGML v1.0//EN
CALSCALE:GREGORIAN
METHOD:PUBLISH
X-WR-CALNAME:Le Village by CA Rouen Vallée de Seine
X-ORIGINAL-URL:https://rouen.levillagebyca.com
X-WR-CALDESC:Évènements pour Le Village by CA Rouen Vallée de Seine
REFRESH-INTERVAL;VALUE=DURATION:PT1H
X-Robots-Tag:noindex
X-PUBLISHED-TTL:PT1H
BEGIN:VTIMEZONE
TZID:Europe/Paris
BEGIN:DAYLIGHT
TZOFFSETFROM:+0100
TZOFFSETTO:+0200
TZNAME:CEST
DTSTART:20190331T010000
END:DAYLIGHT
BEGIN:STANDARD
TZOFFSETFROM:+0200
TZOFFSETTO:+0100
TZNAME:CET
DTSTART:20191027T010000
END:STANDARD
BEGIN:DAYLIGHT
TZOFFSETFROM:+0100
TZOFFSETTO:+0200
TZNAME:CEST
DTSTART:20200329T010000
END:DAYLIGHT
BEGIN:STANDARD
TZOFFSETFROM:+0200
TZOFFSETTO:+0100
TZNAME:CET
DTSTART:20201025T010000
END:STANDARD
BEGIN:DAYLIGHT
TZOFFSETFROM:+0100
TZOFFSETTO:+0200
TZNAME:CEST
DTSTART:20210328T010000
END:DAYLIGHT
BEGIN:STANDARD
TZOFFSETFROM:+0200
TZOFFSETTO:+0100
TZNAME:CET
DTSTART:20211031T010000
END:STANDARD
END:VTIMEZONE
BEGIN:VEVENT
DTSTART;TZID=Europe/Paris:20201119T123000
DTEND;TZID=Europe/Paris:20201119T133000
DTSTAMP:20260425T061635
CREATED:20201117T145115Z
LAST-MODIFIED:20201117T145439Z
UID:629-1605789000-1605792600@rouen.levillagebyca.com
SUMMARY:Atelier "Savoir réaliser un brief efficace"
DESCRIPTION:Le Village by CA Normandie vous propose un atelier en visio ce Jeudi 19 Novembre de 12h30 à 13h30\, il sera animé par Laetitia Verfaillie qui nous expliquera comment rédiger un brief de manière efficace. \nInscription : https://docs.google.com/forms/d/e/1FAIpQLScg9Y6a929UP0ifE-veS8_xqQU82ubkoJXzNQkXQHINVTI6JA/viewform?usp=sf_link
URL:https://rouen.levillagebyca.com/evenement/webinar-savoir-realiser-un-brief-efficace/
LOCATION:100% Digital
CATEGORIES:Atelier
END:VEVENT
BEGIN:VEVENT
DTSTART;TZID=Europe/Paris:20201126T100000
DTEND;TZID=Europe/Paris:20201126T120000
DTSTAMP:20260425T061635
CREATED:20201123T083542Z
LAST-MODIFIED:20201123T083542Z
UID:722-1606384800-1606392000@rouen.levillagebyca.com
SUMMARY:Atelier "Construire du contenu et le valoriser"
DESCRIPTION:Depuis combien de temps n’avez-vous pas expliqué ce que vous faisiez comme métier ? Seriez-vous capable de l’expliquer ? Quels sont les défis que vous relevez au quotidien ? Quels sont les projets qui se sont moins bien déroulés mais dont vous avez tiré les leçons ? \nVotre activité est riche de sens. Sachez repérer ces petits et grands moments et valorisez-les. C’est important\, à titre individuel mais aussi collectif ! \nAtelier : théorique + pratique \nDurée : 2h \nPar Laetitia Verfaillie \nInscriptions : https://docs.google.com/forms/d/e/1FAIpQLSdIvW3bIGolO8yhfR2qKU0o6veMr93SVyYmc8Vz0nFN7S2G_w/viewform?usp=sf_link
URL:https://rouen.levillagebyca.com/evenement/atelier-construire-du-contenu-et-le-valoriser/
LOCATION:100% Digital
CATEGORIES:Atelier
END:VEVENT
BEGIN:VEVENT
DTSTART;TZID=Europe/Paris:20201130T110000
DTEND;TZID=Europe/Paris:20201130T120000
DTSTAMP:20260425T061635
CREATED:20201117T145944Z
LAST-MODIFIED:20220425T122922Z
UID:637-1606734000-1606737600@rouen.levillagebyca.com
SUMMARY:Webinar "FI Online\, la solution DIY pour financer l'innovation"
DESCRIPTION:Les leviers de financement de l’innovation. \nEn partenariat avec Le Village by CA\, FI Group a le plaisir de vous présenter sa nouvelle plateforme FI Online\, la solution DIY pour financer l’innovation. \nPar Mehdi AINOUCHE\, Responsable Produit FI Online \nInscriptions : https://register.gotowebinar.com/register/1409912967475018767
URL:https://rouen.levillagebyca.com/evenement/presentation-de-la-plateforme-fi-online/
LOCATION:100% Digital
CATEGORIES:Atelier
ATTACH;FMTTYPE=image/jpeg:https://rouen.levillagebyca.com/wp-content/uploads/2020/11/Invitation-Webinar-FI-Online-Village-by-CA-1-1.jpg
END:VEVENT
END:VCALENDAR