BEGIN:VCALENDAR
VERSION:2.0
PRODID:-//Le Village by CA Rouen Vallée de Seine - ECPv6.15.18//NONSGML v1.0//EN
CALSCALE:GREGORIAN
METHOD:PUBLISH
X-WR-CALNAME:Le Village by CA Rouen Vallée de Seine
X-ORIGINAL-URL:https://rouen.levillagebyca.com
X-WR-CALDESC:Évènements pour Le Village by CA Rouen Vallée de Seine
REFRESH-INTERVAL;VALUE=DURATION:PT1H
X-Robots-Tag:noindex
X-PUBLISHED-TTL:PT1H
BEGIN:VTIMEZONE
TZID:Europe/Paris
BEGIN:DAYLIGHT
TZOFFSETFROM:+0100
TZOFFSETTO:+0200
TZNAME:CEST
DTSTART:20200329T010000
END:DAYLIGHT
BEGIN:STANDARD
TZOFFSETFROM:+0200
TZOFFSETTO:+0100
TZNAME:CET
DTSTART:20201025T010000
END:STANDARD
BEGIN:DAYLIGHT
TZOFFSETFROM:+0100
TZOFFSETTO:+0200
TZNAME:CEST
DTSTART:20210328T010000
END:DAYLIGHT
BEGIN:STANDARD
TZOFFSETFROM:+0200
TZOFFSETTO:+0100
TZNAME:CET
DTSTART:20211031T010000
END:STANDARD
BEGIN:DAYLIGHT
TZOFFSETFROM:+0100
TZOFFSETTO:+0200
TZNAME:CEST
DTSTART:20220327T010000
END:DAYLIGHT
BEGIN:STANDARD
TZOFFSETFROM:+0200
TZOFFSETTO:+0100
TZNAME:CET
DTSTART:20221030T010000
END:STANDARD
END:VTIMEZONE
BEGIN:VEVENT
DTSTART;TZID=Europe/Paris:20210204T140000
DTEND;TZID=Europe/Paris:20210204T163000
DTSTAMP:20260425T020424
CREATED:20201216T160440Z
LAST-MODIFIED:20201217T130839Z
UID:792-1612447200-1612456200@rouen.levillagebyca.com
SUMMARY:Board Éphémère Financier
DESCRIPTION:Écoutez\, challengez\, conseillez les jeunes entrepreneurs et valorisez les expertises de vos collaborateurs en les faisant participer à des sessions de coaching collectif et thématisé à destination des Start-Up.
URL:https://rouen.levillagebyca.com/evenement/board-ephemere-financier/
LOCATION:Village by CA Rouen Vallée de Seine
CATEGORIES:Atelier
ATTACH;FMTTYPE=image/jpeg:https://rouen.levillagebyca.com/wp-content/uploads/2020/10/Eh9e5paXkAEjaM7-scaled.jpeg
ORGANIZER;CN="Le Village by CA Rouen Vall%C3%A9e de Seine":MAILTO:contact.rouen@levillagebyca.com
END:VEVENT
BEGIN:VEVENT
DTSTART;TZID=Europe/Paris:20210216T140000
DTEND;TZID=Europe/Paris:20210216T163000
DTSTAMP:20260425T020424
CREATED:20201217T083731Z
LAST-MODIFIED:20210129T150609Z
UID:802-1613484000-1613493000@rouen.levillagebyca.com
SUMMARY:Atelier "Bien utiliser les réseaux sociaux"
DESCRIPTION:Animé par Medhi Djebbara de l’agence d’accompagnement digital 6ble\nPlaces limitées – Inscription ci-dessous\nDe nombreux ateliers rythment la vie du Village autour de thématiques très diverses : Co-création/expérimentation\, développement de nouveaux produits\, conquête de nouveaux marches\, structuration… Ces ateliers\, proposés par nos partenaires ou des experts du domaine concerné\, sont ouverts à tous sur inscription\, dans la limite des places disponibles.
URL:https://rouen.levillagebyca.com/evenement/atelier-bien-utiliser-les-reseaux-sociaux/
LOCATION:Village by CA Rouen Vallée de Seine
CATEGORIES:Atelier
ATTACH;FMTTYPE=image/jpeg:https://rouen.levillagebyca.com/wp-content/uploads/2020/10/PART_1601987817050.jpeg
ORGANIZER;CN="Le Village by CA Rouen Vall%C3%A9e de Seine":MAILTO:contact.rouen@levillagebyca.com
END:VEVENT
END:VCALENDAR