BEGIN:VCALENDAR
VERSION:2.0
PRODID:-//Le Village by CA Rouen Vallée de Seine - ECPv6.15.18//NONSGML v1.0//EN
CALSCALE:GREGORIAN
METHOD:PUBLISH
X-WR-CALNAME:Le Village by CA Rouen Vallée de Seine
X-ORIGINAL-URL:https://rouen.levillagebyca.com
X-WR-CALDESC:Évènements pour Le Village by CA Rouen Vallée de Seine
REFRESH-INTERVAL;VALUE=DURATION:PT1H
X-Robots-Tag:noindex
X-PUBLISHED-TTL:PT1H
BEGIN:VTIMEZONE
TZID:Europe/Paris
BEGIN:DAYLIGHT
TZOFFSETFROM:+0100
TZOFFSETTO:+0200
TZNAME:CEST
DTSTART:20200329T010000
END:DAYLIGHT
BEGIN:STANDARD
TZOFFSETFROM:+0200
TZOFFSETTO:+0100
TZNAME:CET
DTSTART:20201025T010000
END:STANDARD
BEGIN:DAYLIGHT
TZOFFSETFROM:+0100
TZOFFSETTO:+0200
TZNAME:CEST
DTSTART:20210328T010000
END:DAYLIGHT
BEGIN:STANDARD
TZOFFSETFROM:+0200
TZOFFSETTO:+0100
TZNAME:CET
DTSTART:20211031T010000
END:STANDARD
BEGIN:DAYLIGHT
TZOFFSETFROM:+0100
TZOFFSETTO:+0200
TZNAME:CEST
DTSTART:20220327T010000
END:DAYLIGHT
BEGIN:STANDARD
TZOFFSETFROM:+0200
TZOFFSETTO:+0100
TZNAME:CET
DTSTART:20221030T010000
END:STANDARD
END:VTIMEZONE
BEGIN:VEVENT
DTSTART;TZID=Europe/Paris:20210511T140000
DTEND;TZID=Europe/Paris:20210511T170000
DTSTAMP:20260424T220647
CREATED:20201217T095229Z
LAST-MODIFIED:20210324T102803Z
UID:863-1620741600-1620752400@rouen.levillagebyca.com
SUMMARY:Board Éphémère Développement Commercial
DESCRIPTION:Écoutez\, challengez\, conseillez les jeunes entrepreneurs et valorisez les expertises de vos collaborateurs en les faisant participer à des sessions de coaching collectif et thématisé à destination des Start-Up.
URL:https://rouen.levillagebyca.com/evenement/board-ephemere-developpement-commercial-2/
LOCATION:Village by CA Rouen Vallée de Seine
CATEGORIES:Atelier
ATTACH;FMTTYPE=image/jpeg:https://rouen.levillagebyca.com/wp-content/uploads/2020/10/Eh9e5paXkAEjaM7-scaled.jpeg
ORGANIZER;CN="Le Village by CA Rouen Vall%C3%A9e de Seine":MAILTO:contact.rouen@levillagebyca.com
END:VEVENT
BEGIN:VEVENT
DTSTART;TZID=Europe/Paris:20210525T140000
DTEND;TZID=Europe/Paris:20210525T163000
DTSTAMP:20260424T220647
CREATED:20201217T102801Z
LAST-MODIFIED:20210427T082649Z
UID:906-1621951200-1621960200@rouen.levillagebyca.com
SUMMARY:Atelier "360 du financement et de la levée de fonds" par PTBG Conseil
DESCRIPTION:De nombreux ateliers rythment la vie du Village autour de thématiques très diverses : Co- création/expérimentation\, développement de nouveaux produits\, conquête de nouveaux marches\, structuration… Ces ateliers\, proposés par nos partenaires ou des experts du domaine concerné\, sont ouverts à tous sur inscription\, dans la limite des places disponibles.
URL:https://rouen.levillagebyca.com/evenement/atelier-360-du-financement-et-de-la-levee-de-fonds-par-ptbg-conseil/
LOCATION:Village by CA Rouen Vallée de Seine
CATEGORIES:Atelier
ATTACH;FMTTYPE=image/jpeg:https://rouen.levillagebyca.com/wp-content/uploads/2020/10/PART_1601987817050.jpeg
ORGANIZER;CN="Le Village by CA Rouen Vall%C3%A9e de Seine":MAILTO:contact.rouen@levillagebyca.com
END:VEVENT
END:VCALENDAR