BEGIN:VCALENDAR
VERSION:2.0
PRODID:-//Le Village by CA Rouen Vallée de Seine - ECPv6.15.18//NONSGML v1.0//EN
CALSCALE:GREGORIAN
METHOD:PUBLISH
X-WR-CALNAME:Le Village by CA Rouen Vallée de Seine
X-ORIGINAL-URL:https://rouen.levillagebyca.com
X-WR-CALDESC:Évènements pour Le Village by CA Rouen Vallée de Seine
REFRESH-INTERVAL;VALUE=DURATION:PT1H
X-Robots-Tag:noindex
X-PUBLISHED-TTL:PT1H
BEGIN:VTIMEZONE
TZID:Europe/Paris
BEGIN:DAYLIGHT
TZOFFSETFROM:+0100
TZOFFSETTO:+0200
TZNAME:CEST
DTSTART:20200329T010000
END:DAYLIGHT
BEGIN:STANDARD
TZOFFSETFROM:+0200
TZOFFSETTO:+0100
TZNAME:CET
DTSTART:20201025T010000
END:STANDARD
BEGIN:DAYLIGHT
TZOFFSETFROM:+0100
TZOFFSETTO:+0200
TZNAME:CEST
DTSTART:20210328T010000
END:DAYLIGHT
BEGIN:STANDARD
TZOFFSETFROM:+0200
TZOFFSETTO:+0100
TZNAME:CET
DTSTART:20211031T010000
END:STANDARD
BEGIN:DAYLIGHT
TZOFFSETFROM:+0100
TZOFFSETTO:+0200
TZNAME:CEST
DTSTART:20220327T010000
END:DAYLIGHT
BEGIN:STANDARD
TZOFFSETFROM:+0200
TZOFFSETTO:+0100
TZNAME:CET
DTSTART:20221030T010000
END:STANDARD
END:VTIMEZONE
BEGIN:VEVENT
DTSTART;TZID=Europe/Paris:20211207T140000
DTEND;TZID=Europe/Paris:20211207T171500
DTSTAMP:20260424T125914
CREATED:20201217T145219Z
LAST-MODIFIED:20211129T140656Z
UID:1088-1638885600-1638897300@rouen.levillagebyca.com
SUMMARY:Board Éphémère Communication et Marketing
DESCRIPTION:Écoutez\, challengez\, conseillez les jeunes entrepreneurs et valorisez les expertises de vos collaborateurs en les faisant participer à des sessions de coaching collectif et thématisé à destination des Start-Up.
URL:https://rouen.levillagebyca.com/evenement/board-ephemere-communication-et-marketing/
LOCATION:Village by CA Rouen Vallée de Seine
CATEGORIES:Atelier
ATTACH;FMTTYPE=image/jpeg:https://rouen.levillagebyca.com/wp-content/uploads/2020/10/PART_1601987817050.jpeg
ORGANIZER;CN="Le Village by CA Rouen Vall%C3%A9e de Seine":MAILTO:contact.rouen@levillagebyca.com
END:VEVENT
BEGIN:VEVENT
DTSTART;TZID=Europe/Paris:20211214T150000
DTEND;TZID=Europe/Paris:20211214T170000
DTSTAMP:20260424T125914
CREATED:20201217T145552Z
LAST-MODIFIED:20220425T123044Z
UID:1094-1639494000-1639501200@rouen.levillagebyca.com
SUMMARY:Atelier "Manager votre équipe comme un coach"
DESCRIPTION:Nous avons le plaisir d’accueillir Nicolas GODIGNON\, nouvel entraîneur du Rouen Normandie Rugby\, pour un atelier sur le management : \n  \nMardi 14 décembre de 15h à 17h \nPlace du Village \nVillage by CA – Hangar 107 à Rouen \n  \n🏉Développer son intelligence collective\, travailler sur l’identité d’un groupe\, feedback réguliers… \nou comment s’inspirer des pratiques du management du sport pour manager son équipe. 🏉 \n  \n👉 Atelier ouvert à toutes et tous\, sur INSCRIPTION uniquement\, jauge à 50 personnes.  \nInscription par mail sur : celine.rat@levillagebyca.com
URL:https://rouen.levillagebyca.com/evenement/atelier-manager-son-manager/
LOCATION:Village by CA Rouen Vallée de Seine
CATEGORIES:Atelier,Convivialité
ATTACH;FMTTYPE=image/jpeg:https://rouen.levillagebyca.com/wp-content/uploads/2020/12/Bannière_RNR_14122021-1.jpg
ORGANIZER;CN="Le Village by CA Rouen Vall%C3%A9e de Seine":MAILTO:contact.rouen@levillagebyca.com
END:VEVENT
END:VCALENDAR