BEGIN:VCALENDAR
VERSION:2.0
PRODID:-//Le Village by CA Rouen Vallée de Seine - ECPv6.15.18//NONSGML v1.0//EN
CALSCALE:GREGORIAN
METHOD:PUBLISH
X-WR-CALNAME:Le Village by CA Rouen Vallée de Seine
X-ORIGINAL-URL:https://rouen.levillagebyca.com
X-WR-CALDESC:Évènements pour Le Village by CA Rouen Vallée de Seine
REFRESH-INTERVAL;VALUE=DURATION:PT1H
X-Robots-Tag:noindex
X-PUBLISHED-TTL:PT1H
BEGIN:VTIMEZONE
TZID:Europe/Paris
BEGIN:DAYLIGHT
TZOFFSETFROM:+0100
TZOFFSETTO:+0200
TZNAME:CEST
DTSTART:20210328T010000
END:DAYLIGHT
BEGIN:STANDARD
TZOFFSETFROM:+0200
TZOFFSETTO:+0100
TZNAME:CET
DTSTART:20211031T010000
END:STANDARD
BEGIN:DAYLIGHT
TZOFFSETFROM:+0100
TZOFFSETTO:+0200
TZNAME:CEST
DTSTART:20220327T010000
END:DAYLIGHT
BEGIN:STANDARD
TZOFFSETFROM:+0200
TZOFFSETTO:+0100
TZNAME:CET
DTSTART:20221030T010000
END:STANDARD
BEGIN:DAYLIGHT
TZOFFSETFROM:+0100
TZOFFSETTO:+0200
TZNAME:CEST
DTSTART:20230326T010000
END:DAYLIGHT
BEGIN:STANDARD
TZOFFSETFROM:+0200
TZOFFSETTO:+0100
TZNAME:CET
DTSTART:20231029T010000
END:STANDARD
END:VTIMEZONE
BEGIN:VEVENT
DTSTART;TZID=Europe/Paris:20220906T140000
DTEND;TZID=Europe/Paris:20220906T163000
DTSTAMP:20260422T051714
CREATED:20220720T133248Z
LAST-MODIFIED:20220720T133248Z
UID:5297-1662472800-1662481800@rouen.levillagebyca.com
SUMMARY:Accélérer ses ventes – D&A Development
DESCRIPTION:Venez assister à l’atelier « Accélérer ses ventes »\, animé par D&A Development. \nComment accélérer ses ventes par les campagnes d’emailing automatisées.
URL:https://rouen.levillagebyca.com/evenement/accelerer-ses-ventes-da-development/
LOCATION:Village by CA Rouen Vallée de Seine
CATEGORIES:Atelier
ORGANIZER;CN="Le Village by CA Rouen Vall%C3%A9e de Seine":MAILTO:contact.rouen@levillagebyca.com
END:VEVENT
BEGIN:VEVENT
DTSTART;TZID=Europe/Paris:20220913T140000
DTEND;TZID=Europe/Paris:20220913T173000
DTSTAMP:20260422T051714
CREATED:20220106T102838Z
LAST-MODIFIED:20220106T102838Z
UID:2621-1663077600-1663090200@rouen.levillagebyca.com
SUMMARY:Board Éphémère RH
DESCRIPTION:Écoutez\, challengez\, conseillez les jeunes entrepreneurs et valorisez les expertises de vos collaborateurs en les faisant participer à des sessions de coaching collectif et thématisé à destination des Start-Up.
URL:https://rouen.levillagebyca.com/evenement/board-ephemere-rh/
LOCATION:Village by CA Rouen Vallée de Seine
CATEGORIES:Atelier
ORGANIZER;CN="Le Village by CA Rouen Vall%C3%A9e de Seine":MAILTO:contact.rouen@levillagebyca.com
END:VEVENT
BEGIN:VEVENT
DTSTART;TZID=Europe/Paris:20220915T140000
DTEND;TZID=Europe/Paris:20220915T173000
DTSTAMP:20260422T051714
CREATED:20220720T135138Z
LAST-MODIFIED:20220720T135138Z
UID:5301-1663250400-1663263000@rouen.levillagebyca.com
SUMMARY:Atelier "Structurer sa prise de parole pour impacter"
DESCRIPTION:Atelier « Structurer sa prise de parole pour impacter » animé par Samuel Moreaux de Parler en confiance.
URL:https://rouen.levillagebyca.com/evenement/atelier-structurer-sa-prise-de-parole-pour-impacter/
CATEGORIES:Atelier
END:VEVENT
BEGIN:VEVENT
DTSTART;TZID=Europe/Paris:20220920T140000
DTEND;TZID=Europe/Paris:20220920T163000
DTSTAMP:20260422T051714
CREATED:20220720T135951Z
LAST-MODIFIED:20220720T140012Z
UID:5303-1663682400-1663691400@rouen.levillagebyca.com
SUMMARY:Atelier "Pro Nursing"
DESCRIPTION:Atelier « Pro Nursing » sur les levées des freins et les clés de la réussite à l’international.
URL:https://rouen.levillagebyca.com/evenement/atelier-pro-nursing/
LOCATION:Village by CA Rouen Vallée de Seine
CATEGORIES:Atelier
ORGANIZER;CN="Le Village by CA Rouen Vall%C3%A9e de Seine":MAILTO:contact.rouen@levillagebyca.com
END:VEVENT
BEGIN:VEVENT
DTSTART;TZID=Europe/Paris:20220929T140000
DTEND;TZID=Europe/Paris:20220929T160000
DTSTAMP:20260422T051714
CREATED:20220720T140931Z
LAST-MODIFIED:20220720T141020Z
UID:5308-1664460000-1664467200@rouen.levillagebyca.com
SUMMARY:Atelier "Sensibilisation sur le risque juridiques entre associés"
DESCRIPTION:Atelier « Sensibilisation sur le risque juridiques entre associés » animé par Maître Matthieu Renaut\, avocat au barreau de Rouen.
URL:https://rouen.levillagebyca.com/evenement/atelier-sensibilisation-sur-le-risque-juridiques-entre-associes/
LOCATION:Village by CA Rouen Vallée de Seine
CATEGORIES:Atelier
ORGANIZER;CN="Le Village by CA Rouen Vall%C3%A9e de Seine":MAILTO:contact.rouen@levillagebyca.com
END:VEVENT
END:VCALENDAR