BEGIN:VCALENDAR
VERSION:2.0
PRODID:-//Le Village by CA Rouen Vallée de Seine - ECPv6.15.18//NONSGML v1.0//EN
CALSCALE:GREGORIAN
METHOD:PUBLISH
X-ORIGINAL-URL:https://rouen.levillagebyca.com
X-WR-CALDESC:Évènements pour Le Village by CA Rouen Vallée de Seine
REFRESH-INTERVAL;VALUE=DURATION:PT1H
X-Robots-Tag:noindex
X-PUBLISHED-TTL:PT1H
BEGIN:VTIMEZONE
TZID:Europe/Paris
BEGIN:DAYLIGHT
TZOFFSETFROM:+0100
TZOFFSETTO:+0200
TZNAME:CEST
DTSTART:20210328T010000
END:DAYLIGHT
BEGIN:STANDARD
TZOFFSETFROM:+0200
TZOFFSETTO:+0100
TZNAME:CET
DTSTART:20211031T010000
END:STANDARD
BEGIN:DAYLIGHT
TZOFFSETFROM:+0100
TZOFFSETTO:+0200
TZNAME:CEST
DTSTART:20220327T010000
END:DAYLIGHT
BEGIN:STANDARD
TZOFFSETFROM:+0200
TZOFFSETTO:+0100
TZNAME:CET
DTSTART:20221030T010000
END:STANDARD
BEGIN:DAYLIGHT
TZOFFSETFROM:+0100
TZOFFSETTO:+0200
TZNAME:CEST
DTSTART:20230326T010000
END:DAYLIGHT
BEGIN:STANDARD
TZOFFSETFROM:+0200
TZOFFSETTO:+0100
TZNAME:CET
DTSTART:20231029T010000
END:STANDARD
END:VTIMEZONE
BEGIN:VEVENT
DTSTART;TZID=Europe/Paris:20221011T140000
DTEND;TZID=Europe/Paris:20221011T163000
DTSTAMP:20260422T035105
CREATED:20220720T142654Z
LAST-MODIFIED:20220720T142654Z
UID:5312-1665496800-1665505800@rouen.levillagebyca.com
SUMMARY:Atelier "Connaître ses bases juridiques et sociales"
DESCRIPTION:Atelier « Connaître ses bases juridiques et sociales » animé par l’INPI. \nUn expert de l’Institut National de la Propriété Industrielle est présent pour répondre à toutes vos interrogations concernant le dépôt et la protection de vos titres de propriété industrielle et intellectuel (brevet\, marque\, dessin\, modèle). ​​
URL:https://rouen.levillagebyca.com/evenement/atelier-connaitre-ses-bases-juridiques-et-sociales-2/
LOCATION:Village by CA Rouen Vallée de Seine
CATEGORIES:Atelier
ORGANIZER;CN="Le Village by CA Rouen Vall%C3%A9e de Seine":MAILTO:contact.rouen@levillagebyca.com
END:VEVENT
BEGIN:VEVENT
DTSTART;TZID=Europe/Paris:20221018T140000
DTEND;TZID=Europe/Paris:20221018T163000
DTSTAMP:20260422T035105
CREATED:20220720T143942Z
LAST-MODIFIED:20220720T144039Z
UID:5318-1666101600-1666110600@rouen.levillagebyca.com
SUMMARY:Atelier "Pro Nursing"
DESCRIPTION:Atelier « Pro Nursing » sur les subventions et les financements.
URL:https://rouen.levillagebyca.com/evenement/atelier-pro-nursing-2/
LOCATION:Village by CA Rouen Vallée de Seine
CATEGORIES:Atelier
ORGANIZER;CN="Le Village by CA Rouen Vall%C3%A9e de Seine":MAILTO:contact.rouen@levillagebyca.com
END:VEVENT
BEGIN:VEVENT
DTSTART;TZID=Europe/Paris:20221019T131500
DTEND;TZID=Europe/Paris:20221019T140000
DTSTAMP:20260422T035105
CREATED:20220928T133518Z
LAST-MODIFIED:20220928T133518Z
UID:6255-1666185300-1666188000@rouen.levillagebyca.com
SUMMARY:Stand Up Café : Sophrologie
DESCRIPTION:Découvrez les bienfaits de la sophrologie avec Ingrid Lecoeur
URL:https://rouen.levillagebyca.com/evenement/stand-up-cafe-sophrologie/
CATEGORIES:Atelier
END:VEVENT
BEGIN:VEVENT
DTSTART;TZID=Europe/Paris:20221020T140000
DTEND;TZID=Europe/Paris:20221020T173000
DTSTAMP:20260422T035105
CREATED:20220106T103118Z
LAST-MODIFIED:20220106T104133Z
UID:2623-1666274400-1666287000@rouen.levillagebyca.com
SUMMARY:Board Éphémère Industrie - Qualité - Process
DESCRIPTION:Écoutez\, challengez\, conseillez les jeunes entrepreneurs et valorisez les expertises de vos collaborateurs en les faisant participer à des sessions de coaching collectif et thématisé à destination des Start-Up.
URL:https://rouen.levillagebyca.com/evenement/board-ephemere-industrie-qualite-process-2/
LOCATION:Village by CA Rouen Vallée de Seine
CATEGORIES:Atelier
ORGANIZER;CN="Le Village by CA Rouen Vall%C3%A9e de Seine":MAILTO:contact.rouen@levillagebyca.com
END:VEVENT
END:VCALENDAR