BEGIN:VCALENDAR
VERSION:2.0
PRODID:-//Le Village by CA Rouen Vallée de Seine - ECPv6.15.18//NONSGML v1.0//EN
CALSCALE:GREGORIAN
METHOD:PUBLISH
X-WR-CALNAME:Le Village by CA Rouen Vallée de Seine
X-ORIGINAL-URL:https://rouen.levillagebyca.com
X-WR-CALDESC:Évènements pour Le Village by CA Rouen Vallée de Seine
REFRESH-INTERVAL;VALUE=DURATION:PT1H
X-Robots-Tag:noindex
X-PUBLISHED-TTL:PT1H
BEGIN:VTIMEZONE
TZID:Europe/Paris
BEGIN:DAYLIGHT
TZOFFSETFROM:+0100
TZOFFSETTO:+0200
TZNAME:CEST
DTSTART:20210328T010000
END:DAYLIGHT
BEGIN:STANDARD
TZOFFSETFROM:+0200
TZOFFSETTO:+0100
TZNAME:CET
DTSTART:20211031T010000
END:STANDARD
BEGIN:DAYLIGHT
TZOFFSETFROM:+0100
TZOFFSETTO:+0200
TZNAME:CEST
DTSTART:20220327T010000
END:DAYLIGHT
BEGIN:STANDARD
TZOFFSETFROM:+0200
TZOFFSETTO:+0100
TZNAME:CET
DTSTART:20221030T010000
END:STANDARD
BEGIN:DAYLIGHT
TZOFFSETFROM:+0100
TZOFFSETTO:+0200
TZNAME:CEST
DTSTART:20230326T010000
END:DAYLIGHT
BEGIN:STANDARD
TZOFFSETFROM:+0200
TZOFFSETTO:+0100
TZNAME:CET
DTSTART:20231029T010000
END:STANDARD
END:VTIMEZONE
BEGIN:VEVENT
DTSTART;TZID=Europe/Paris:20221115T140000
DTEND;TZID=Europe/Paris:20221115T163000
DTSTAMP:20260422T021403
CREATED:20220720T151648Z
LAST-MODIFIED:20220720T151648Z
UID:5325-1668520800-1668529800@rouen.levillagebyca.com
SUMMARY:Atelier "Pro Nursing"
DESCRIPTION:Atelier « Pro Nursing « sur l’accompagnement à l’international » animé par le Crédit Agricole.
URL:https://rouen.levillagebyca.com/evenement/atelier-pro-nursing-3/
LOCATION:Village by CA Rouen Vallée de Seine
CATEGORIES:Atelier
ORGANIZER;CN="Le Village by CA Rouen Vall%C3%A9e de Seine":MAILTO:contact.rouen@levillagebyca.com
END:VEVENT
BEGIN:VEVENT
DTSTART;TZID=Europe/Paris:20221117T140000
DTEND;TZID=Europe/Paris:20221117T173000
DTSTAMP:20260422T021403
CREATED:20220928T133735Z
LAST-MODIFIED:20220928T134524Z
UID:6258-1668693600-1668706200@rouen.levillagebyca.com
SUMMARY:Board Ephémère
DESCRIPTION:Écoutez\, challengez\, conseillez les jeunes entrepreneurs et valorisez les expertises de vos collaborateurs en les faisant participer à des sessions de coaching collectif et thématisé à destination des Start-Up.
URL:https://rouen.levillagebyca.com/evenement/board-ephemere/
CATEGORIES:Atelier
END:VEVENT
BEGIN:VEVENT
DTSTART;TZID=Europe/Paris:20221122T140000
DTEND;TZID=Europe/Paris:20221122T163000
DTSTAMP:20260422T021403
CREATED:20220928T141324Z
LAST-MODIFIED:20220928T142251Z
UID:6268-1669125600-1669134600@rouen.levillagebyca.com
SUMMARY:Atelier 6H Evolution : Gestion des conflits
DESCRIPTION:6H EVOLUTION\, activateur de changement pour gagner en efficacité à l’aide du potentiel humain
URL:https://rouen.levillagebyca.com/evenement/atelier-6h-evolution-gestion-des-conflits/
CATEGORIES:Atelier
END:VEVENT
BEGIN:VEVENT
DTSTART;TZID=Europe/Paris:20221124T140000
DTEND;TZID=Europe/Paris:20221124T163000
DTSTAMP:20260422T021403
CREATED:20220720T152304Z
LAST-MODIFIED:20220720T152304Z
UID:5329-1669298400-1669307400@rouen.levillagebyca.com
SUMMARY:Atelier "Gestion du Temps"
DESCRIPTION:Atelier « Gestion du Temps » animé par Nathalie Machado.
URL:https://rouen.levillagebyca.com/evenement/atelier-gestion-du-temps/
CATEGORIES:Atelier
END:VEVENT
BEGIN:VEVENT
DTSTART;TZID=Europe/Paris:20221129T140000
DTEND;TZID=Europe/Paris:20221129T160000
DTSTAMP:20260422T021403
CREATED:20221025T173005Z
LAST-MODIFIED:20221130T171333Z
UID:6929-1669730400-1669737600@rouen.levillagebyca.com
SUMMARY:Atelier Avocat : «Valorisation de ta start-up»
DESCRIPTION:
URL:https://rouen.levillagebyca.com/evenement/atelier-avocat-valorisation-de-ta-start-up/
CATEGORIES:Atelier
END:VEVENT
END:VCALENDAR