BEGIN:VCALENDAR
VERSION:2.0
PRODID:-//Le Village by CA Rouen Vallée de Seine - ECPv6.15.18//NONSGML v1.0//EN
CALSCALE:GREGORIAN
METHOD:PUBLISH
X-WR-CALNAME:Le Village by CA Rouen Vallée de Seine
X-ORIGINAL-URL:https://rouen.levillagebyca.com
X-WR-CALDESC:Évènements pour Le Village by CA Rouen Vallée de Seine
REFRESH-INTERVAL;VALUE=DURATION:PT1H
X-Robots-Tag:noindex
X-PUBLISHED-TTL:PT1H
BEGIN:VTIMEZONE
TZID:Europe/Paris
BEGIN:DAYLIGHT
TZOFFSETFROM:+0100
TZOFFSETTO:+0200
TZNAME:CEST
DTSTART:20220327T010000
END:DAYLIGHT
BEGIN:STANDARD
TZOFFSETFROM:+0200
TZOFFSETTO:+0100
TZNAME:CET
DTSTART:20221030T010000
END:STANDARD
BEGIN:DAYLIGHT
TZOFFSETFROM:+0100
TZOFFSETTO:+0200
TZNAME:CEST
DTSTART:20230326T010000
END:DAYLIGHT
BEGIN:STANDARD
TZOFFSETFROM:+0200
TZOFFSETTO:+0100
TZNAME:CET
DTSTART:20231029T010000
END:STANDARD
BEGIN:DAYLIGHT
TZOFFSETFROM:+0100
TZOFFSETTO:+0200
TZNAME:CEST
DTSTART:20240331T010000
END:DAYLIGHT
BEGIN:STANDARD
TZOFFSETFROM:+0200
TZOFFSETTO:+0100
TZNAME:CET
DTSTART:20241027T010000
END:STANDARD
END:VTIMEZONE
BEGIN:VEVENT
DTSTART;TZID=Europe/Paris:20230124T140000
DTEND;TZID=Europe/Paris:20230124T160000
DTSTAMP:20260421T232809
CREATED:20221220T160247Z
LAST-MODIFIED:20221220T160247Z
UID:7475-1674568800-1674576000@rouen.levillagebyca.com
SUMMARY:Atelier : L'art de communiquer
DESCRIPTION:Atelier organisé par Emoart\, Xavière Makouche
URL:https://rouen.levillagebyca.com/evenement/atelier-lart-de-communiquer/
CATEGORIES:Atelier
END:VEVENT
BEGIN:VEVENT
DTSTART;TZID=Europe/Paris:20230126T140000
DTEND;TZID=Europe/Paris:20230126T140000
DTSTAMP:20260421T232809
CREATED:20221220T155938Z
LAST-MODIFIED:20230105T083409Z
UID:7471-1674741600-1674741600@rouen.levillagebyca.com
SUMMARY:Atelier : Travailler sa marque employeur
DESCRIPTION:Atelier en collaboration avec l’APEC et ASTERIA Communication
URL:https://rouen.levillagebyca.com/evenement/atelier-travailler-sa-marque-employeur-2/
CATEGORIES:Atelier
END:VEVENT
BEGIN:VEVENT
DTSTART;TZID=Europe/Paris:20230131T140000
DTEND;TZID=Europe/Paris:20230131T171500
DTSTAMP:20260421T232809
CREATED:20221220T161027Z
LAST-MODIFIED:20221220T161027Z
UID:7486-1675173600-1675185300@rouen.levillagebyca.com
SUMMARY:Board éphémère : Financier
DESCRIPTION:Écoutez\, challengez\, conseillez les jeunes entrepreneurs et valorisez les expertises de vos collaborateurs en les faisant participer à des sessions de coaching collectif et thématisé à destination des Start-Up.
URL:https://rouen.levillagebyca.com/evenement/board-ephemere-financier-3/
CATEGORIES:Atelier
END:VEVENT
END:VCALENDAR