BEGIN:VCALENDAR
VERSION:2.0
PRODID:-//Le Village by CA Rouen Vallée de Seine - ECPv6.15.18//NONSGML v1.0//EN
CALSCALE:GREGORIAN
METHOD:PUBLISH
X-WR-CALNAME:Le Village by CA Rouen Vallée de Seine
X-ORIGINAL-URL:https://rouen.levillagebyca.com
X-WR-CALDESC:Évènements pour Le Village by CA Rouen Vallée de Seine
REFRESH-INTERVAL;VALUE=DURATION:PT1H
X-Robots-Tag:noindex
X-PUBLISHED-TTL:PT1H
BEGIN:VTIMEZONE
TZID:Europe/Paris
BEGIN:DAYLIGHT
TZOFFSETFROM:+0100
TZOFFSETTO:+0200
TZNAME:CEST
DTSTART:20220327T010000
END:DAYLIGHT
BEGIN:STANDARD
TZOFFSETFROM:+0200
TZOFFSETTO:+0100
TZNAME:CET
DTSTART:20221030T010000
END:STANDARD
BEGIN:DAYLIGHT
TZOFFSETFROM:+0100
TZOFFSETTO:+0200
TZNAME:CEST
DTSTART:20230326T010000
END:DAYLIGHT
BEGIN:STANDARD
TZOFFSETFROM:+0200
TZOFFSETTO:+0100
TZNAME:CET
DTSTART:20231029T010000
END:STANDARD
BEGIN:DAYLIGHT
TZOFFSETFROM:+0100
TZOFFSETTO:+0200
TZNAME:CEST
DTSTART:20240331T010000
END:DAYLIGHT
BEGIN:STANDARD
TZOFFSETFROM:+0200
TZOFFSETTO:+0100
TZNAME:CET
DTSTART:20241027T010000
END:STANDARD
END:VTIMEZONE
BEGIN:VEVENT
DTSTART;TZID=Europe/Paris:20230404T140000
DTEND;TZID=Europe/Paris:20230404T171500
DTSTAMP:20260421T182506
CREATED:20230323T164734Z
LAST-MODIFIED:20230323T164806Z
UID:7884-1680616800-1680628500@rouen.levillagebyca.com
SUMMARY:Board éphémère : Développement commercial
DESCRIPTION:Écoutez\, challengez\, conseillez les jeunes entrepreneurs et valorisez les expertises de vos collaborateurs en les faisant participer à des sessions de coaching collectif et thématisé à destination des Start-Up.
URL:https://rouen.levillagebyca.com/evenement/board-ephemere-developpement-commercial-3/
CATEGORIES:Atelier
END:VEVENT
BEGIN:VEVENT
DTSTART;TZID=Europe/Paris:20230406T173000
DTEND;TZID=Europe/Paris:20230406T193000
DTSTAMP:20260421T182506
CREATED:20230323T165238Z
LAST-MODIFIED:20230323T165238Z
UID:7888-1680802200-1680809400@rouen.levillagebyca.com
SUMMARY:Atelier 1 du programme MANAGEMENT : La confiance
DESCRIPTION:Atelier animé en collaboration avec Emilie Guibert\, Coach en développement personnel et Joanthan Serait\, Equicoach
URL:https://rouen.levillagebyca.com/evenement/atelier-1-du-programme-management-la-confiance/
CATEGORIES:Atelier
END:VEVENT
BEGIN:VEVENT
DTSTART;TZID=Europe/Paris:20230411T140000
DTEND;TZID=Europe/Paris:20230411T160000
DTSTAMP:20260421T182506
CREATED:20230323T170246Z
LAST-MODIFIED:20230323T170246Z
UID:7898-1681221600-1681228800@rouen.levillagebyca.com
SUMMARY:Atelier : Vendre mais à quel prix? avec BDDD - Olivier Deverly
DESCRIPTION:
URL:https://rouen.levillagebyca.com/evenement/atelier-vendre-mais-a-quel-prix-avec-bddd-olivier-deverly/
CATEGORIES:Atelier
END:VEVENT
END:VCALENDAR