BEGIN:VCALENDAR
VERSION:2.0
PRODID:-//Le Village by CA Rouen Vallée de Seine - ECPv6.15.18//NONSGML v1.0//EN
CALSCALE:GREGORIAN
METHOD:PUBLISH
X-WR-CALNAME:Le Village by CA Rouen Vallée de Seine
X-ORIGINAL-URL:https://rouen.levillagebyca.com
X-WR-CALDESC:Évènements pour Le Village by CA Rouen Vallée de Seine
REFRESH-INTERVAL;VALUE=DURATION:PT1H
X-Robots-Tag:noindex
X-PUBLISHED-TTL:PT1H
BEGIN:VTIMEZONE
TZID:Europe/Paris
BEGIN:DAYLIGHT
TZOFFSETFROM:+0100
TZOFFSETTO:+0200
TZNAME:CEST
DTSTART:20220327T010000
END:DAYLIGHT
BEGIN:STANDARD
TZOFFSETFROM:+0200
TZOFFSETTO:+0100
TZNAME:CET
DTSTART:20221030T010000
END:STANDARD
BEGIN:DAYLIGHT
TZOFFSETFROM:+0100
TZOFFSETTO:+0200
TZNAME:CEST
DTSTART:20230326T010000
END:DAYLIGHT
BEGIN:STANDARD
TZOFFSETFROM:+0200
TZOFFSETTO:+0100
TZNAME:CET
DTSTART:20231029T010000
END:STANDARD
BEGIN:DAYLIGHT
TZOFFSETFROM:+0100
TZOFFSETTO:+0200
TZNAME:CEST
DTSTART:20240331T010000
END:DAYLIGHT
BEGIN:STANDARD
TZOFFSETFROM:+0200
TZOFFSETTO:+0100
TZNAME:CET
DTSTART:20241027T010000
END:STANDARD
END:VTIMEZONE
BEGIN:VEVENT
DTSTART;TZID=Europe/Paris:20230504T140000
DTEND;TZID=Europe/Paris:20230504T160000
DTSTAMP:20260421T165213
CREATED:20230421T063238Z
LAST-MODIFIED:20230421T063238Z
UID:8078-1683208800-1683216000@rouen.levillagebyca.com
SUMMARY:Atelier : 360 du financement et de la levée de fonds avec Morgane Marc de PTBG
DESCRIPTION:
URL:https://rouen.levillagebyca.com/evenement/atelier-360-du-financement-et-de-la-levee-de-fonds-avec-morgane-marc-de-ptbg/
LOCATION:Le village by CA Rouen\, salle Rouen
CATEGORIES:Atelier
END:VEVENT
BEGIN:VEVENT
DTSTART;TZID=Europe/Paris:20230509T173000
DTEND;TZID=Europe/Paris:20230509T190000
DTSTAMP:20260421T165213
CREATED:20230421T065015Z
LAST-MODIFIED:20230421T065015Z
UID:8084-1683653400-1683658800@rouen.levillagebyca.com
SUMMARY:Atelier Management - acte 2 : Le feedback
DESCRIPTION:Acte 2 de cette série d’atelier autour de la thématique « management » : Le feedback \nLe feedback est un retour d’information qui sert à renforcer un comportement par rapport au référentiel de l’entreprise. Pour recadrer ou reconnaître\, le feedback en entreprise doit être réactif\, centré sur les actes\, et tourné vers l’avenir. \nEmilie Guibert et Jonathan Serait\, coach en développement personnel animeront cet atelier et vous prodigueront les meilleurs conseils pour réaliser des feedback efficace et constructifs au sein de votre équipe.
URL:https://rouen.levillagebyca.com/evenement/atelier-management-acte-2-le-feedback/
LOCATION:Le Village by CA Rouen\, salle Les docks
CATEGORIES:Atelier
END:VEVENT
BEGIN:VEVENT
DTSTART;TZID=Europe/Paris:20230510T100000
DTEND;TZID=Europe/Paris:20230510T120000
DTSTAMP:20260421T165213
CREATED:20230421T065811Z
LAST-MODIFIED:20230421T065811Z
UID:8087-1683712800-1683720000@rouen.levillagebyca.com
SUMMARY:Atelier : Droit du travail avec Caroline Bret\, cabinet BGL avocats
DESCRIPTION:Le sujet qui sera partagé au cours de cet atelier :  Encadrement du contrat de travail\, stage\, alternance et les écueils à éviter dans la rédaction du contrat.
URL:https://rouen.levillagebyca.com/evenement/atelier-droit-du-travail-avec-caroline-bret-cabinet-bgl-avocats/
LOCATION:Salle Créativité\, Village by CA Rouen Vallée de Seine
CATEGORIES:Atelier
END:VEVENT
BEGIN:VEVENT
DTSTART;TZID=Europe/Paris:20230523T140000
DTEND;TZID=Europe/Paris:20230523T160000
DTSTAMP:20260421T165213
CREATED:20230421T072751Z
LAST-MODIFIED:20230421T072751Z
UID:8101-1684850400-1684857600@rouen.levillagebyca.com
SUMMARY:Atelier "Booster sa confiance en soi"  animé par Nathalie Machado
DESCRIPTION:La confiance en soi permet d’avoir une vision réaliste de nos capacités. Croire en nos capacités permet de mieux gérer nos émotions et atteindre nos objectifs. Avoir confiance en soi est bénéfique pour la santé mentale\, la réussite\, la prise de décision et la résilience.
URL:https://rouen.levillagebyca.com/evenement/atelier-booster-sa-confiance-en-soi-anime-par-nathalie-machado/
CATEGORIES:Atelier
END:VEVENT
END:VCALENDAR