BEGIN:VCALENDAR
VERSION:2.0
PRODID:-//Le Village by CA Rouen Vallée de Seine - ECPv6.15.18//NONSGML v1.0//EN
CALSCALE:GREGORIAN
METHOD:PUBLISH
X-WR-CALNAME:Le Village by CA Rouen Vallée de Seine
X-ORIGINAL-URL:https://rouen.levillagebyca.com
X-WR-CALDESC:Évènements pour Le Village by CA Rouen Vallée de Seine
REFRESH-INTERVAL;VALUE=DURATION:PT1H
X-Robots-Tag:noindex
X-PUBLISHED-TTL:PT1H
BEGIN:VTIMEZONE
TZID:Europe/Paris
BEGIN:DAYLIGHT
TZOFFSETFROM:+0100
TZOFFSETTO:+0200
TZNAME:CEST
DTSTART:20200329T010000
END:DAYLIGHT
BEGIN:STANDARD
TZOFFSETFROM:+0200
TZOFFSETTO:+0100
TZNAME:CET
DTSTART:20201025T010000
END:STANDARD
BEGIN:DAYLIGHT
TZOFFSETFROM:+0100
TZOFFSETTO:+0200
TZNAME:CEST
DTSTART:20210328T010000
END:DAYLIGHT
BEGIN:STANDARD
TZOFFSETFROM:+0200
TZOFFSETTO:+0100
TZNAME:CET
DTSTART:20211031T010000
END:STANDARD
BEGIN:DAYLIGHT
TZOFFSETFROM:+0100
TZOFFSETTO:+0200
TZNAME:CEST
DTSTART:20220327T010000
END:DAYLIGHT
BEGIN:STANDARD
TZOFFSETFROM:+0200
TZOFFSETTO:+0100
TZNAME:CET
DTSTART:20221030T010000
END:STANDARD
END:VTIMEZONE
BEGIN:VEVENT
DTSTART;TZID=Europe/Paris:20210105T100000
DTEND;TZID=Europe/Paris:20210105T120000
DTSTAMP:20260422T142054
CREATED:20201117T150907Z
LAST-MODIFIED:20201218T104945Z
UID:652-1609840800-1609848000@rouen.levillagebyca.com
SUMMARY:Webinar "Comment répondre efficacement à un appel d'offres ?"
DESCRIPTION:Par Lena PASTOR – Deloitte \nOrganisé par l’équipe d’animation FNCA
URL:https://rouen.levillagebyca.com/evenement/comment-repondre-efficacement-a-un-appel-doffres/
LOCATION:100% Digital
ATTACH;FMTTYPE=image/jpeg:https://rouen.levillagebyca.com/wp-content/uploads/2020/11/LE-VILLAGE-BY-CA-...-VOUS-PROPOSE-UN-8.jpg
END:VEVENT
BEGIN:VEVENT
DTSTART;TZID=Europe/Paris:20210106T100000
DTEND;TZID=Europe/Paris:20210106T120000
DTSTAMP:20260422T142054
CREATED:20201216T141118Z
LAST-MODIFIED:20201216T141118Z
UID:787-1609927200-1609934400@rouen.levillagebyca.com
SUMMARY:Permanence APEC
DESCRIPTION:Bénéficiez d’un suivi individuel avec l’un de nos experts du domaine concerné lors des Permanences organisées au Village. \nL’APEC\, Association Pour l’Emploi des Cadres\, propose des services pour optimiser vos recrutements et la gestion de vos compétences internes.
URL:https://rouen.levillagebyca.com/evenement/permanence-apec-3/
LOCATION:Village by CA Rouen Vallée de Seine
CATEGORIES:Permanence
ATTACH;FMTTYPE=image/jpeg:https://rouen.levillagebyca.com/wp-content/uploads/2020/10/permanence-apec-scaled.jpeg
ORGANIZER;CN="Le Village by CA Rouen Vall%C3%A9e de Seine":MAILTO:contact.rouen@levillagebyca.com
END:VEVENT
BEGIN:VEVENT
DTSTART;TZID=Europe/Paris:20210112T100000
DTEND;TZID=Europe/Paris:20210112T120000
DTSTAMP:20260422T142054
CREATED:20201217T134532Z
LAST-MODIFIED:20201217T134532Z
UID:1001-1610445600-1610452800@rouen.levillagebyca.com
SUMMARY:Permanence F. Iniciativas
DESCRIPTION:Bénéficiez d’un suivi individuel avec l’un de nos experts du domaine concerné lors des Permanences organisées au Village. \nDes experts sont à votre disposition pour vous conseiller sur l’obtention du statut JEI ou encore l’obtention du CIR (ou autres mécanismes de financement de l’innovation).
URL:https://rouen.levillagebyca.com/evenement/permanence-f-iniciativas-4/
LOCATION:Village by CA Rouen Vallée de Seine
CATEGORIES:Permanence
ATTACH;FMTTYPE=image/jpeg:https://rouen.levillagebyca.com/wp-content/uploads/2020/04/SEINE.jpg
ORGANIZER;CN="Le Village by CA Rouen Vall%C3%A9e de Seine":MAILTO:contact.rouen@levillagebyca.com
END:VEVENT
BEGIN:VEVENT
DTSTART;TZID=Europe/Paris:20210112T140000
DTEND;TZID=Europe/Paris:20210112T150000
DTSTAMP:20260422T142054
CREATED:20210108T163515Z
LAST-MODIFIED:20210108T163537Z
UID:1154-1610460000-1610463600@rouen.levillagebyca.com
SUMMARY:Webinar "Comment auditer votre site web pour commencer 2021 avec une stratégie SEO gagnante ?"
DESCRIPTION:Intervenant : Julien Legay – Business Aptitude \n30 minutes de cas concrets basés sur des sites des participants (indiquez votre site lors de l’inscription pour qu’il serve d’exemple) \n\nCommentaire identifier les freins et les opportunités pour booster votre visibilité sur Google ?\nAudit de performances : Identifier les mots-clés à fort potentiel pour votre entreprise\nAudit Sur place : Identifier et corriger les freins techniques et éditoriaux pour votre SEO\n\n15 minutes de Q & A
URL:https://rouen.levillagebyca.com/evenement/webinar-comment-auditer-votre-site-web-pour-commencer-2021-avec-une-strategie-seo-gagnante/
LOCATION:100% Digital
ATTACH;FMTTYPE=image/png:https://rouen.levillagebyca.com/wp-content/uploads/2021/01/ef4e5713.png
END:VEVENT
BEGIN:VEVENT
DTSTART;TZID=Europe/Paris:20210112T183000
DTEND;TZID=Europe/Paris:20210112T200000
DTSTAMP:20260422T142054
CREATED:20201207T094457Z
LAST-MODIFIED:20220425T081932Z
UID:766-1610476200-1610481600@rouen.levillagebyca.com
SUMMARY:Conférence "Réfléchissons-nous avec le corps ou le cerveau ?"
DESCRIPTION:Comment votre cerveau fonctionne et comment cela se visualise dans vos mouvements ? \nProgramme de la conférence : \n\nLe cerveau\, un espace neuronal de travail : percevoir – se souvenir – donner de la valeur – focaliser son attention – agir\nLe cerveau en mouvement : observation du corps\nMise en action\nQuestions / Réponses\n\nPar Ghita Benkirane et Guillaume Rivas \nInscriptions : https://www.eventbrite.fr/e/billets-conference-neurosciences-corps-et-cerveau-128755317621
URL:https://rouen.levillagebyca.com/evenement/conference-reflechissons-nous-avec-le-corps-ou-le-cerveau/
LOCATION:100% Digital
ATTACH;FMTTYPE=image/jpeg:https://rouen.levillagebyca.com/wp-content/uploads/2020/12/Conference-Neurosciences-VCA-Jan2020-1-1-1536x1086-1.jpg
END:VEVENT
BEGIN:VEVENT
DTSTART;TZID=Europe/Paris:20210114T100000
DTEND;TZID=Europe/Paris:20210114T110000
DTSTAMP:20260422T142054
CREATED:20210108T163900Z
LAST-MODIFIED:20210108T163900Z
UID:1157-1610618400-1610622000@rouen.levillagebyca.com
SUMMARY:Webinar "L’art de demeurer positif avec ses collaborateurs en toutes circonstances"
DESCRIPTION:  \nIntervenants : Des Ressources & des Hommes / Mélanie Faye \nAtelier dédié à la gestion intitulé « l’art de demeurer positif avec ses collaborateurs en toutes circonstances ». Autrement dit\, commentaire savoir faire un retour à quelqu’un sans le froisser\, commentaire prendre soin de la relation même quand on est pas d’accord\, etc.
URL:https://rouen.levillagebyca.com/evenement/webinar-lart-de-demeurer-positif-avec-ses-collaborateurs-en-toutes-circonstances/
LOCATION:100% Digital
END:VEVENT
BEGIN:VEVENT
DTSTART;TZID=Europe/Paris:20210114T100000
DTEND;TZID=Europe/Paris:20210114T120000
DTSTAMP:20260422T142054
CREATED:20201217T134809Z
LAST-MODIFIED:20201217T134809Z
UID:1006-1610618400-1610625600@rouen.levillagebyca.com
SUMMARY:Permanence Avocats
DESCRIPTION:Bénéficiez d’un suivi individuel avec l’un de nos experts du domaine concerné lors des Permanences organisées au Village. \nDes avocats sont à votre disposition pour vous conseiller\, relire des documents et vous aiguiller sur l’aspect juridique de vos projets.
URL:https://rouen.levillagebyca.com/evenement/permanence-avocats-3/
LOCATION:Village by CA Rouen Vallée de Seine
CATEGORIES:Permanence
ATTACH;FMTTYPE=image/jpeg:https://rouen.levillagebyca.com/wp-content/uploads/2020/04/SEINE.jpg
ORGANIZER;CN="Le Village by CA Rouen Vall%C3%A9e de Seine":MAILTO:contact.rouen@levillagebyca.com
END:VEVENT
BEGIN:VEVENT
DTSTART;TZID=Europe/Paris:20210114T110000
DTEND;TZID=Europe/Paris:20210114T123000
DTSTAMP:20260422T142054
CREATED:20201222T102223Z
LAST-MODIFIED:20201222T103555Z
UID:1117-1610622000-1610627400@rouen.levillagebyca.com
SUMMARY:Webinar "Réussir dans un contexte particulier"
DESCRIPTION:Le Village by CA Aquitaine et son partenaire Mazars organisent un webinar afin de vous accompagner dans cette période particulière.
URL:https://rouen.levillagebyca.com/evenement/webinar-reussir-dans-un-contexte-particulier/
LOCATION:100% Digital
ATTACH;FMTTYPE=image/jpeg:https://rouen.levillagebyca.com/wp-content/uploads/2020/12/Réussir-dans-un-contexte-particulier.jpg
END:VEVENT
BEGIN:VEVENT
DTSTART;TZID=Europe/Paris:20210114T140000
DTEND;TZID=Europe/Paris:20210114T160000
DTSTAMP:20260422T142054
CREATED:20201217T134649Z
LAST-MODIFIED:20210108T163037Z
UID:1003-1610632800-1610640000@rouen.levillagebyca.com
SUMMARY:Atelier "Comment intégrer ses nouveaux collaborateurs ?" par l'APEC
DESCRIPTION:De nombreux ateliers rythment la vie du Village autour de thématiques très diverses : Co- création/expérimentation\, développement de nouveaux produits\, conquête de nouveaux marches\, structuration… Ces ateliers\, proposés par nos partenaires ou des experts du domaine concerné\, sont ouverts à tous sur inscription\, dans la limite des places disponibles.
URL:https://rouen.levillagebyca.com/evenement/atelier-comment-integrer-ses-nouveaux-collaborateurs-par-lapec/
LOCATION:Village by CA Rouen Vallée de Seine
CATEGORIES:Atelier
ATTACH;FMTTYPE=image/jpeg:https://rouen.levillagebyca.com/wp-content/uploads/2020/10/PART_1601987817050.jpeg
ORGANIZER;CN="Le Village by CA Rouen Vall%C3%A9e de Seine":MAILTO:contact.rouen@levillagebyca.com
END:VEVENT
BEGIN:VEVENT
DTSTART;TZID=Europe/Paris:20210115T100000
DTEND;TZID=Europe/Paris:20210115T120000
DTSTAMP:20260422T142054
CREATED:20201217T134858Z
LAST-MODIFIED:20201217T134858Z
UID:1008-1610704800-1610712000@rouen.levillagebyca.com
SUMMARY:Permanence Pôle TES
DESCRIPTION:Bénéficiez d’un suivi individuel avec l’un de nos experts du domaine concerné lors des Permanences organisées au Village.
URL:https://rouen.levillagebyca.com/evenement/permanence-pole-tes-4/
LOCATION:Village by CA Rouen Vallée de Seine
CATEGORIES:Permanence
ATTACH;FMTTYPE=image/jpeg:https://rouen.levillagebyca.com/wp-content/uploads/2020/04/SEINE.jpg
ORGANIZER;CN="Le Village by CA Rouen Vall%C3%A9e de Seine":MAILTO:contact.rouen@levillagebyca.com
END:VEVENT
BEGIN:VEVENT
DTSTART;TZID=Europe/Paris:20210115T133000
DTEND;TZID=Europe/Paris:20210115T140000
DTSTAMP:20260422T142054
CREATED:20201217T134954Z
LAST-MODIFIED:20210104T155934Z
UID:1011-1610717400-1610719200@rouen.levillagebyca.com
SUMMARY:Café des Ambassadeurs
DESCRIPTION:Venez échanger avec les partenaires Ambassadeurs du Village de vos projets\, problématiques… et ainsi partager vos bonnes pratiques et contacts !
URL:https://rouen.levillagebyca.com/evenement/colunch-janvier/
LOCATION:Village by CA Rouen Vallée de Seine
CATEGORIES:Convivialité
ATTACH;FMTTYPE=image/jpeg:https://rouen.levillagebyca.com/wp-content/uploads/2020/10/EhD61AJXYAIslCJ.jpeg
ORGANIZER;CN="Le Village by CA Rouen Vall%C3%A9e de Seine":MAILTO:contact.rouen@levillagebyca.com
END:VEVENT
BEGIN:VEVENT
DTSTART;TZID=Europe/Paris:20210119T100000
DTEND;TZID=Europe/Paris:20210119T120000
DTSTAMP:20260422T142054
CREATED:20201217T135153Z
LAST-MODIFIED:20201217T135153Z
UID:1015-1611050400-1611057600@rouen.levillagebyca.com
SUMMARY:Permanence Banque
DESCRIPTION:Bénéficiez d’un suivi individuel avec l’un de nos experts du domaine concerné lors des Permanences organisées au Village. \nÉchangez sur vos besoins de trésorerie et d’investissement avec un expert du Crédit Agricole pour bien préparer le financement de votre développement.
URL:https://rouen.levillagebyca.com/evenement/permanence-banque-7/
LOCATION:Village by CA Rouen Vallée de Seine
CATEGORIES:Permanence
ATTACH;FMTTYPE=image/jpeg:https://rouen.levillagebyca.com/wp-content/uploads/2020/04/SEINE.jpg
ORGANIZER;CN="Le Village by CA Rouen Vall%C3%A9e de Seine":MAILTO:contact.rouen@levillagebyca.com
END:VEVENT
BEGIN:VEVENT
DTSTART;TZID=Europe/Paris:20210120T090000
DTEND;TZID=Europe/Paris:20210120T170000
DTSTAMP:20260422T142054
CREATED:20201029T125902Z
LAST-MODIFIED:20201218T115539Z
UID:545-1611133200-1611162000@rouen.levillagebyca.com
SUMMARY:Business Connect "Tourisme et Patrimoine"
DESCRIPTION:Avec l’appui de Seine et Marne Attractivité\, partenaire du Village by CA Brie Picardie et conscients que l’innovation peut faire la différence dans cette période de relance\, nous vous proposons de participer à l’événement Business Connect Tourisme et Patrimoine. \nLes solutions déployées par les start-up sont déployables rapidement : \nØ  Innovations autour de la protection individuelle et collective\, de la réassurance sanitaire dans les sites\, … \nØ  Innovations autour de la gestion des flux\, de la dématérialisation des procédures clients\, de la digitalisation des parcours d’accueil\, de la visite en autonomie\,… \nØ  Innovations en termes de promotion digitale et de communication post-COVID \nØ  Innovations permettant d’enrichir l’offre : solutions interactives de narration\, expériences ludiques et digitales\, jeux de piste 2.0\, réalité augmentée\, photo et vidéo\, maquettes numériques\,… \nØ  Innovations favorisant un tourisme plus durable\, équitable et responsable\, … \n  \nAlors retrouvons-nous au  Business Connect Tourisme et Patrimoine le Mercredi 20 janvier 2021 à partir de 9 h \nEvénement gratuit – inscription obligatoire avant le 7 janvier – 18h via ce lien : https://tourismepatrimoine.matchmaking-studio.com/ \n  \nLes BUSINESS CONNECT sont des événements thématiques ou géographiques qui mettent en relation des Start-Up et des entreprises en quête d’innovation. Des rendez-vous en « one-to-one »\, en présentiel ou à distance via une plateforme en ligne dédiée\, permet de faire émerger les relations d’affaires entre les entreprises partenaires et les Start-Up du Réseau des 37 Villages by CA. Les BUSINESS CONNECT sont une véritable opportunité d’ouverture sur tout le territoire français et à l’international. \n  \n  \n 
URL:https://rouen.levillagebyca.com/evenement/business-connect-tourisme-et-patrimoine/
LOCATION:100% Digital
ATTACH;FMTTYPE=image/jpeg:https://rouen.levillagebyca.com/wp-content/uploads/2020/10/Invitation-BC-TOURISME-ET-PATRIMOINE.jpg
END:VEVENT
BEGIN:VEVENT
DTSTART;TZID=Europe/Paris:20210120T110000
DTEND;TZID=Europe/Paris:20210120T120000
DTSTAMP:20260422T142054
CREATED:20201217T091438Z
LAST-MODIFIED:20201217T091438Z
UID:833-1611140400-1611144000@rouen.levillagebyca.com
SUMMARY:Webinar "Comment mettre en place une stratégie d'acquisition multicanal ?"
DESCRIPTION:Comment créer un process de génération de Leads…… et méthode sur les réseaux sociaux. \nPar Nathaniel Elbaz
URL:https://rouen.levillagebyca.com/evenement/webinar-comment-mettre-en-place-une-strategie-dacquisition-multicanal/
LOCATION:100% Digital
ATTACH;FMTTYPE=image/png:https://rouen.levillagebyca.com/wp-content/uploads/2020/12/Developpement_commercial_avec_AbiStart_-_Accompagnement_operationnel.png
END:VEVENT
BEGIN:VEVENT
DTSTART;TZID=Europe/Paris:20210121T100000
DTEND;TZID=Europe/Paris:20210121T120000
DTSTAMP:20260422T142054
CREATED:20201217T135327Z
LAST-MODIFIED:20220425T081648Z
UID:1017-1611223200-1611230400@rouen.levillagebyca.com
SUMMARY:Permanence Internationale
DESCRIPTION:Vous souhaitez vous renseigner sur vos perspectives de business hors Union Européenne ? Être accompagnés sur vos démarches de développement d’affaires à l’international ? \nRendez-vous ce Jeudi 21 Janvier entre 10h et 12h pour la Permanence Internationale du Crédit Agricole 
URL:https://rouen.levillagebyca.com/evenement/permanence-internationale-6/
LOCATION:Village by CA Rouen Vallée de Seine
CATEGORIES:Permanence
ATTACH;FMTTYPE=image/jpeg:https://rouen.levillagebyca.com/wp-content/uploads/2020/10/IMG_20201022_115840-1536x1085-1.jpg
ORGANIZER;CN="Le Village by CA Rouen Vall%C3%A9e de Seine":MAILTO:contact.rouen@levillagebyca.com
END:VEVENT
BEGIN:VEVENT
DTSTART;TZID=Europe/Paris:20210121T160000
DTEND;TZID=Europe/Paris:20210121T173000
DTSTAMP:20260422T142054
CREATED:20201217T135616Z
LAST-MODIFIED:20210115T084107Z
UID:1021-1611244800-1611250200@rouen.levillagebyca.com
SUMMARY:Voeux du Village
DESCRIPTION:Nous vous donnons rendez-vous le jeudi 21 janvier à 16h sur la Place du Village pour partager un moment de convivialité (masqué 😉) entre start-up et partenaires et ainsi vous exprimer de vive voix nos vœux pour 2021. \nVous souhaitez participer  ? \nC’est par ici ⬇️
URL:https://rouen.levillagebyca.com/evenement/afterwork-voeux-du-village/
LOCATION:Village by CA Rouen Vallée de Seine
CATEGORIES:Convivialité
ATTACH;FMTTYPE=image/jpeg:https://rouen.levillagebyca.com/wp-content/uploads/2020/12/voeux-2021-e1609854405753.jpg
ORGANIZER;CN="Le Village by CA Rouen Vall%C3%A9e de Seine":MAILTO:contact.rouen@levillagebyca.com
END:VEVENT
BEGIN:VEVENT
DTSTART;TZID=Europe/Paris:20210122T100000
DTEND;TZID=Europe/Paris:20210122T120000
DTSTAMP:20260422T142054
CREATED:20201217T135517Z
LAST-MODIFIED:20201217T135517Z
UID:1019-1611309600-1611316800@rouen.levillagebyca.com
SUMMARY:Permanence AD Normandie
DESCRIPTION:Bénéficiez d’un suivi individuel avec l’un de nos experts du domaine concerné lors des Permanences organisées au Village.
URL:https://rouen.levillagebyca.com/evenement/permanence-ad-normandie-5/
LOCATION:Village by CA Rouen Vallée de Seine
CATEGORIES:Permanence
ATTACH;FMTTYPE=image/jpeg:https://rouen.levillagebyca.com/wp-content/uploads/2020/04/SEINE.jpg
ORGANIZER;CN="Le Village by CA Rouen Vall%C3%A9e de Seine":MAILTO:contact.rouen@levillagebyca.com
END:VEVENT
BEGIN:VEVENT
DTSTART;TZID=Europe/Paris:20210126T093000
DTEND;TZID=Europe/Paris:20210126T160000
DTSTAMP:20260422T142054
CREATED:20201210T084530Z
LAST-MODIFIED:20220425T122330Z
UID:774-1611653400-1611676800@rouen.levillagebyca.com
SUMMARY:Business Connect RSE
DESCRIPTION:Le Village by CA Alsace Vosges organise le mardi 26 janvier 2021\, un Business Connect sur le thème de la Responsabilité Sociale et Environnementale\, en format phygital. \nObjectif : Donner tous les moyens de réussite aux projets investis dans une démarche sociétale et environnementale ayant une contribution positive à l’économie. \nLes Business Connect sont des événements organisés par les Villages by CA pour favoriser les synergies entre des partenaires et des start-up. Le format : des speed-meetings de 20 minutes organisés en physique ou en digital selon vos préférences. \nStart-up et Partenaires : vous avez jusqu’au 19 janvier 2021 pour vous inscrire et vous présenter aux autres participants. \nDu 11 janvier au 21 janvier\, vous choisirez les participants que vous souhaitez rencontrer parmi ceux inscrits. \nDès le 22 janvier : vous aurez votre planning personnalisé pour l’évènement. \nNous vous attendons le 26 janvier 2021 au Village by CA Alsace Vosges (30 rue François Spoerry au KM0 à Mulhouse) ou en ligne pour une journée de rencontre. \nCe business Connect est gratuit pour les membres du réseau des Villages (start-up\, partenaires\, filiales du groupe CA). Pour les startups et entreprises externes\, le tarif est de 25€/structure si format digital OU de 35€/structure si format présentiel (repas compris). \nVous avez des questions ? Contactez nous par e-mail : bcrsealsacevosges@levillagebyca.com ou bien par téléphone au 06 86 45 44 00 \n\n  \nInscriptions : https://server.matchmaking-studio.com/fr/businessconnectrse2021/ 
URL:https://rouen.levillagebyca.com/evenement/business-connect-rse/
LOCATION:100% Digital
ATTACH;FMTTYPE=image/jpeg:https://rouen.levillagebyca.com/wp-content/uploads/2020/12/Capture-décran-2020-12-10-à-09.42.53-1.jpg
END:VEVENT
BEGIN:VEVENT
DTSTART;TZID=Europe/Paris:20210126T140000
DTEND;TZID=Europe/Paris:20210126T150000
DTSTAMP:20260422T142054
CREATED:20201217T091727Z
LAST-MODIFIED:20220425T123521Z
UID:836-1611669600-1611673200@rouen.levillagebyca.com
SUMMARY:Webinar International USA-Canada
DESCRIPTION:Organisé par Le Réseau des Villages de CA\, sur l’initiative et la collaboration du Village de CA Des Savoie \nNous invitons des experts à venir témoigner sur : \n\nla situation économique du pays ou de la zone\nl’accompagnement prévu pour les start-ups dans ces pays en terme d’initiatives publiques ou privées\nun retour d’expérience sur le développement international de start-ups précédemment accompagnés par ces experts sur le terrain\n\nPar Christine Adams & Frédéric Genoud
URL:https://rouen.levillagebyca.com/evenement/webinar-international-usa-canada/
LOCATION:100% Digital
ATTACH;FMTTYPE=image/jpeg:https://rouen.levillagebyca.com/wp-content/uploads/2020/12/1-1.jpg
END:VEVENT
BEGIN:VEVENT
DTSTART;TZID=Europe/Paris:20210128T090000
DTEND;TZID=Europe/Paris:20210128T093000
DTSTAMP:20260422T142054
CREATED:20210127T152743Z
LAST-MODIFIED:20210127T153210Z
UID:1300-1611824400-1611826200@rouen.levillagebyca.com
SUMMARY:Webinar SEO Garden Party 2
DESCRIPTION:La plateforme de netlinking linksgarden.com organisateur et sponsor de l’événement ouvre son jardin\, une nouvelle fois\, pour organisateur le webinaire SEO Garden Party 2 ! \nRetrouvez 6 nouveaux experts de la recherche le 28 janvier 2021 pour découvrir les dernières actualités et tendances du moteur de recherche Google. \nL’événement est gratuit et l’inscription est obligatoire\, nombre de places limitées!
URL:https://rouen.levillagebyca.com/evenement/webinar-seo-garden-party-2/
LOCATION:100% Digital
END:VEVENT
BEGIN:VEVENT
DTSTART;TZID=Europe/Paris:20210128T110000
DTEND;TZID=Europe/Paris:20210128T120000
DTSTAMP:20260422T142054
CREATED:20210127T153330Z
LAST-MODIFIED:20210127T153339Z
UID:1304-1611831600-1611835200@rouen.levillagebyca.com
SUMMARY:Webinar Communication Interne et Marque employeur
DESCRIPTION:Les points qui seront abordés lors de ce webinar :  \n\nBilan sur l’année 2020\nComment construire sa stratégie Marque employeur en 2021 ?\nQuelles sont les 5 grandes tendances pour construire une marque employeur forte ?\nComment la communication interne vous aide à améliorer votre marque employeur ?\n\nLa marque employeur : un levier pour retenir les talents ?
URL:https://rouen.levillagebyca.com/evenement/webinar-communication-interne-et-marque-employeur/
LOCATION:100% Digital
END:VEVENT
BEGIN:VEVENT
DTSTART;TZID=Europe/Paris:20210128T121500
DTEND;TZID=Europe/Paris:20210128T130000
DTSTAMP:20260422T142054
CREATED:20210127T153610Z
LAST-MODIFIED:20210127T153610Z
UID:1306-1611836100-1611838800@rouen.levillagebyca.com
SUMMARY:Webinar Debrief CES 2021
DESCRIPTION:Le Village de CA Ille-et-Vilaine en partenariat avec Niji\, vous donner rendez-vous virtuellement le 28 janvier prochain pour une édition DEBRIEF du CES 2021\, le plus grand rendez-vous #HighTech et #Innovation au monde. 🌍 \nPour vous donner les clés de compréhension de toutes ces innovations\, Niji vous proposez un débrief exclusif alliant analyses pragmatiques et mises en perspectives des tendances observées. \nQuelles tendances émergent d’ores et déjà ? Quelles innovations ne devrons-nous manquer sous aucun prétexte ? 🤔 \nAu programme : \nLutter contre les menaces invisibles\, garantir la sécurité globale\, le « Digital Health »\, le « Work Anywhere »\, utilisation de nouvelles énergies pour sauver la planète… l’édition 2021 s’annonce riche ! 🚀✨ \n🚨 Pour participer à cette rencontre\, votre INSCRIPTION est OBLIGATOIRE : retrouvez le lien dans le 1er commentaire.
URL:https://rouen.levillagebyca.com/evenement/webinar-debrief-ces-2021/
LOCATION:100% Digital
END:VEVENT
BEGIN:VEVENT
DTSTART;TZID=Europe/Paris:20210129T110000
DTEND;TZID=Europe/Paris:20210129T113000
DTSTAMP:20260422T142054
CREATED:20210127T153808Z
LAST-MODIFIED:20210127T153808Z
UID:1309-1611918000-1611919800@rouen.levillagebyca.com
SUMMARY:Webinar Présentiel versus distanciel : quels changements ? Quelles adaptations pour l’animation de vos réunions et ateliers ?
DESCRIPTION:Le Village by CA Nord de France est très heureux de vous annoncer le lancement de son Forum des solutions #1. \nLe concept ? – \nInvestiguer un sujet en 4 épisodes qui mettent en avant des expertises et expériences de l’écosystème Village by CA Nord de France\, ses partenaires et start-up. \n– SAISON #1 : Les nouveaux modèles de management et d’organisation du travail \n– EPISODE #1 (celui-ci) : Présentiel versus distanciel : quels changements ? Quelles adaptations pour l’animation de vos réunions et ateliers ? \n– Valéry Tréhout\, Le Village by CA Nord de France
URL:https://rouen.levillagebyca.com/evenement/webinar-presentiel-versus-distanciel-quels-changements-quelles-adaptations-pour-lanimation-de-vos-reunions-et-ateliers/
LOCATION:100% Digital
END:VEVENT
END:VCALENDAR