BEGIN:VCALENDAR
VERSION:2.0
PRODID:-//Le Village by CA Rouen Vallée de Seine - ECPv6.15.18//NONSGML v1.0//EN
CALSCALE:GREGORIAN
METHOD:PUBLISH
X-ORIGINAL-URL:https://rouen.levillagebyca.com
X-WR-CALDESC:Évènements pour Le Village by CA Rouen Vallée de Seine
REFRESH-INTERVAL;VALUE=DURATION:PT1H
X-Robots-Tag:noindex
X-PUBLISHED-TTL:PT1H
BEGIN:VTIMEZONE
TZID:Europe/Paris
BEGIN:DAYLIGHT
TZOFFSETFROM:+0100
TZOFFSETTO:+0200
TZNAME:CEST
DTSTART:20200329T010000
END:DAYLIGHT
BEGIN:STANDARD
TZOFFSETFROM:+0200
TZOFFSETTO:+0100
TZNAME:CET
DTSTART:20201025T010000
END:STANDARD
BEGIN:DAYLIGHT
TZOFFSETFROM:+0100
TZOFFSETTO:+0200
TZNAME:CEST
DTSTART:20210328T010000
END:DAYLIGHT
BEGIN:STANDARD
TZOFFSETFROM:+0200
TZOFFSETTO:+0100
TZNAME:CET
DTSTART:20211031T010000
END:STANDARD
BEGIN:DAYLIGHT
TZOFFSETFROM:+0100
TZOFFSETTO:+0200
TZNAME:CEST
DTSTART:20220327T010000
END:DAYLIGHT
BEGIN:STANDARD
TZOFFSETFROM:+0200
TZOFFSETTO:+0100
TZNAME:CET
DTSTART:20221030T010000
END:STANDARD
END:VTIMEZONE
BEGIN:VEVENT
DTSTART;TZID=Europe/Paris:20210302T100000
DTEND;TZID=Europe/Paris:20210302T110000
DTSTAMP:20260424T101857
CREATED:20210223T104010Z
LAST-MODIFIED:20210223T104010Z
UID:1384-1614679200-1614682800@rouen.levillagebyca.com
SUMMARY:Webinar "Génération de leads qualifiés grâce à l'inbound"
DESCRIPTION:INTERVENANT.E\n\n\n\n\n\n\n\nEli Harb – Hubspot\n\n\n\n\n\n\nLe Village de CA Côtes d’Armor et Hubspot vous propose un atelier numérique d’une heure pour travailler sur la génération de leads qualifiés grâce à l’entrée. \n\nIntroduction de la Flywheel ?\n. Pourquoi les ventes et le marketing deviennent plus difficiles?\n. L’évolution du processus d’achat\nQu’est-ce que l’entrant ?\n. La méthodologie entrante\n. Utilisation de la méthodologie entrante dans le marketing\nComment générer plus de leads qualifiés avec le marketing entrant ?\n. Stratégie de contenu pour attirer de nouveaux prospects\n. Nourrir les perspectives avec le marketing entrant\n. L’entrant marketing en action
URL:https://rouen.levillagebyca.com/evenement/webinar-generation-de-leads-qualifies-grace-a-linbound/
LOCATION:100% Digital
END:VEVENT
BEGIN:VEVENT
DTSTART;TZID=Europe/Paris:20210303T183000
DTEND;TZID=Europe/Paris:20210303T193000
DTSTAMP:20260424T101857
CREATED:20210223T104349Z
LAST-MODIFIED:20210223T104349Z
UID:1386-1614796200-1614799800@rouen.levillagebyca.com
SUMMARY:Webinar "Développer l'intelligence collective dans son équipe\, notamment à distance et / ou à l'international grâce aux Neurosciences"
DESCRIPTION:INTERVENANT.E \n\n\n\n\nBENKIRANE Ghita\n\n\n\n\n\nConférence en ligne et interactive pour partager des pratiques et des questions pour prendre le meilleur de ce moment ensemble ! \nLes Neurosciences apportent un éclairage essentiel sur nos comportements\, et notamment en groupe. Vous découvrirez l’Espace de Travail Neuronal et comment utiliser cette approche pour aligner des personnes différentes sur un objectif commun. \nConférence animée par Ghita BENKIRANE\, experte en accompagnement du changement et Neurosciences\, Exe. MSc. Consulting & Coaching for Change\, HEC Paris / Oxford Business School\, Coach EMCC et experte internationale pour l’ISO\, l’ONU\, l’UE\, la Banque Mondiale. \nwww.art-and-management.com \nwww.unspir.com : webinars hebdomadaires sur les Neurosciences
URL:https://rouen.levillagebyca.com/evenement/webinar-developper-lintelligence-collective-dans-son-equipe-notamment-a-distance-et-ou-a-linternational-grace-aux-neurosciences/
LOCATION:100% Digital
END:VEVENT
BEGIN:VEVENT
DTSTART;TZID=Europe/Paris:20210304T100000
DTEND;TZID=Europe/Paris:20210304T110000
DTSTAMP:20260424T101857
CREATED:20210223T104528Z
LAST-MODIFIED:20210223T104528Z
UID:1389-1614852000-1614855600@rouen.levillagebyca.com
SUMMARY:Webinar "Développer et optimiser ses relations avec la presse"
DESCRIPTION:INTERVENANT.E\n\n\n\n\n\n\n\nCOSTA Nathalie
URL:https://rouen.levillagebyca.com/evenement/webinar-developper-et-optimiser-ses-relations-avec-la-presse/
LOCATION:100% Digital
END:VEVENT
BEGIN:VEVENT
DTSTART;TZID=Europe/Paris:20210304T120000
DTEND;TZID=Europe/Paris:20210304T130000
DTSTAMP:20260424T101857
CREATED:20210223T104723Z
LAST-MODIFIED:20210223T104723Z
UID:1391-1614859200-1614862800@rouen.levillagebyca.com
SUMMARY:Webinar "Jamais trop tôt pour établir le comité stratégique de ta startup !"
DESCRIPTION:INTERVENANT.ES\n\n\n\n\n\n\n\nFlorence RICHARDSON Jean-Christophe LAMBERT et Ingrid SARLANDIE\n\n\n  \nLe Village by CA Toulouse vous invite autour d’une discussion avec Ascendance Flight Technologies et Femmes Business Angels. \nLa problématique s’articulera autour du comité stratégique au sein d’une startup. Nous aborderons les questions essentielles : \n– A quoi sert le advisory board ? \n– Quand le créer ? \n– Comment le fonder ? \nNos invités pour cette réunion seront Florence Richardson\, Jean-Christophe Lambert et Ingrid Sarlandie. \nPour vous joindre à la discussion\, n’hésitez pas à vous inscrire.
URL:https://rouen.levillagebyca.com/evenement/webinar-jamais-trop-tot-pour-etablir-le-comite-strategique-de-ta-startup/
LOCATION:100% Digital
END:VEVENT
BEGIN:VEVENT
DTSTART;TZID=Europe/Paris:20210304T120000
DTEND;TZID=Europe/Paris:20210304T130000
DTSTAMP:20260424T101857
CREATED:20210223T104954Z
LAST-MODIFIED:20210223T104954Z
UID:1393-1614859200-1614862800@rouen.levillagebyca.com
SUMMARY:Webinar "Legal Talks - Les erreurs juridiques à ne pas commettre"
DESCRIPTION:INTERVENANTS\n\n\n\n\n\n\n\nYann Payen & Jérémie Ferrian\n\n\n\n\nQuelles sont les erreurs juridiques à éviter lorsque l’on est le gérant de sa propre structure ? \nQuelles sont les bonnes pratiques en matière de gouvernance\, quel est l’impact de la loi RGPD sur votre business\, quelles sont les conditions d’embauche et de licenciement ? Conditions générales de vente\, mentions légales… n’ai-je rien omis ? \nEn 1h\, Yann Payen et Jérémie Ferrian respectivement Partner et Directeur chez Wildgen\, Luxembourg Law Firm parcourront toutes les questions que l’on ne peut pas – ne pas s’être posées lorsque l’on est gérant d’entreprise.
URL:https://rouen.levillagebyca.com/evenement/webinar-legal-talks-les-erreurs-juridiques-a-ne-pas-commettre/
LOCATION:100% Digital
END:VEVENT
BEGIN:VEVENT
DTSTART;TZID=Europe/Paris:20210309T100000
DTEND;TZID=Europe/Paris:20210309T120000
DTSTAMP:20260424T101857
CREATED:20201217T085151Z
LAST-MODIFIED:20210127T103134Z
UID:818-1615284000-1615291200@rouen.levillagebyca.com
SUMMARY:Permanence F. Iniciativas (Financement R&D)
DESCRIPTION:Bénéficiez d’un suivi individuel avec l’un de nos experts du domaine concerné lors des Permanences organisées au Village. \nDes experts sont à votre disposition pour vous conseiller sur l’obtention du statut JEI ou encore l’obtention du CIR (ou autres mécanismes de financement de l’innovation).
URL:https://rouen.levillagebyca.com/evenement/permanence-f-iniciativas/
LOCATION:Village by CA Rouen Vallée de Seine
CATEGORIES:Permanence
ATTACH;FMTTYPE=image/jpeg:https://rouen.levillagebyca.com/wp-content/uploads/2020/04/SEINE.jpg
ORGANIZER;CN="Le Village by CA Rouen Vall%C3%A9e de Seine":MAILTO:contact.rouen@levillagebyca.com
END:VEVENT
BEGIN:VEVENT
DTSTART;TZID=Europe/Paris:20210310T100000
DTEND;TZID=Europe/Paris:20210310T120000
DTSTAMP:20260424T101857
CREATED:20201217T084935Z
LAST-MODIFIED:20210225T101421Z
UID:816-1615370400-1615377600@rouen.levillagebyca.com
SUMMARY:Permanence APEC
DESCRIPTION:Bénéficiez d’un suivi individuel avec l’un de nos experts du domaine concerné lors des Permanences organisées au Village. \nL’APEC\, Association Pour l’Emploi des Cadres\, propose des services pour optimiser vos recrutements et la gestion de vos compétences internes.
URL:https://rouen.levillagebyca.com/evenement/permanence-apec-4/
LOCATION:Village by CA Rouen Vallée de Seine
CATEGORIES:Permanence
ATTACH;FMTTYPE=image/jpeg:https://rouen.levillagebyca.com/wp-content/uploads/2020/10/permanence-apec-scaled.jpeg
ORGANIZER;CN="Le Village by CA Rouen Vall%C3%A9e de Seine":MAILTO:contact.rouen@levillagebyca.com
END:VEVENT
BEGIN:VEVENT
DTSTART;TZID=Europe/Paris:20210311T100000
DTEND;TZID=Europe/Paris:20210311T120000
DTSTAMP:20260424T101857
CREATED:20201217T085754Z
LAST-MODIFIED:20201217T085754Z
UID:824-1615456800-1615464000@rouen.levillagebyca.com
SUMMARY:Permanence Avocats
DESCRIPTION:Bénéficiez d’un suivi individuel avec l’un de nos experts du domaine concerné lors des Permanences organisées au Village. \nDes avocats sont à votre disposition pour vous conseiller\, relire des documents et vous aiguiller sur l’aspect juridique de vos projets.
URL:https://rouen.levillagebyca.com/evenement/permanence-avocats/
LOCATION:Village by CA Rouen Vallée de Seine
CATEGORIES:Permanence
ATTACH;FMTTYPE=image/jpeg:https://rouen.levillagebyca.com/wp-content/uploads/2020/04/SEINE.jpg
ORGANIZER;CN="Le Village by CA Rouen Vall%C3%A9e de Seine":MAILTO:contact.rouen@levillagebyca.com
END:VEVENT
BEGIN:VEVENT
DTSTART;TZID=Europe/Paris:20210311T123000
DTEND;TZID=Europe/Paris:20210311T133000
DTSTAMP:20260424T101857
CREATED:20210223T105117Z
LAST-MODIFIED:20210223T105117Z
UID:1396-1615465800-1615469400@rouen.levillagebyca.com
SUMMARY:Webinar "PNL Générative et Résilience en Temps de Crise"
DESCRIPTION:INTERVENANT.E\n\n\n\n\n\n\n\nElisabeth FALCONE\n\n\n\n\n\n\n\n\n\n\n\n\n\n\n\n\n\nDécouvrez ce que la PNL générative\, par la reconnexion des multiples intelligences et la transformation des obstacles – par l’accueil et l’intégration – nous permet dans tous les aspects de nos Vies\, et essentiellement là en matière de résilience. Nous en avons besoin n’est-ce pas? \n\nComment rebondir\, personnellement et professionnellement\, face à l’adversité?\nLâcher nos conditionnements pour nous ouvrir au nouveau.\nDéceler l’opportunité au-delà de l’obstacle ou du danger.\nMobiliser les compétences clefs pour une maîtrise personnelle.\nAccueillir les résistances\, les transcender.\nDévelopper un état d’esprit optimal.
URL:https://rouen.levillagebyca.com/evenement/webinar-pnl-generative-et-resilience-en-temps-de-crise/
LOCATION:100% Digital
END:VEVENT
BEGIN:VEVENT
DTSTART;TZID=Europe/Paris:20210312T090000
DTEND;TZID=Europe/Paris:20210312T100000
DTSTAMP:20260424T101857
CREATED:20210305T143552Z
LAST-MODIFIED:20210305T143552Z
UID:1434-1615539600-1615543200@rouen.levillagebyca.com
SUMMARY:Webinar "2020-2030 perspectives agricoles"
DESCRIPTION:INTERVENANT.E\nArnaud REY \nL’intervenant\, Arnaud Rey\, est ingénieur-conseil en innovation agri-agro pour le groupe Crédit Agricole. Il nous livrera sa vision sur ce que pourraient être les enjeux du monde agricole dans 10 ans.
URL:https://rouen.levillagebyca.com/evenement/webinar-2020-2030-perspectives-agricoles/
LOCATION:100% Digital
ORGANIZER;CN="Le Village by CA Ch%C3%A2teaudun":MAILTO:contact@campusleschampsdupossible.com
END:VEVENT
BEGIN:VEVENT
DTSTART;TZID=Europe/Paris:20210312T113000
DTEND;TZID=Europe/Paris:20210312T120000
DTSTAMP:20260424T101857
CREATED:20201217T085934Z
LAST-MODIFIED:20201217T094122Z
UID:826-1615548600-1615550400@rouen.levillagebyca.com
SUMMARY:Colunch Mars
DESCRIPTION:Une fois par mois lors de la pause déjeuner\, venez échanger avec les autres Habitants sur vos problématiques et ainsi partager vos bonnes pratiques et contacts !
URL:https://rouen.levillagebyca.com/evenement/colunch-mars/
LOCATION:Village by CA Rouen Vallée de Seine
CATEGORIES:Convivialité
ATTACH;FMTTYPE=image/jpeg:https://rouen.levillagebyca.com/wp-content/uploads/2020/10/EhD61AJXYAIslCJ.jpeg
ORGANIZER;CN="Le Village by CA Rouen Vall%C3%A9e de Seine":MAILTO:contact.rouen@levillagebyca.com
END:VEVENT
BEGIN:VEVENT
DTSTART;TZID=Europe/Paris:20210316T100000
DTEND;TZID=Europe/Paris:20210316T120000
DTSTAMP:20260424T101857
CREATED:20201217T090759Z
LAST-MODIFIED:20201217T090759Z
UID:828-1615888800-1615896000@rouen.levillagebyca.com
SUMMARY:Permanence Banque
DESCRIPTION:Bénéficiez d’un suivi individuel avec l’un de nos experts du domaine concerné lors des Permanences organisées au Village. \nÉchangez sur vos besoins de trésorerie et d’investissement avec un expert du Crédit Agricole pour bien préparer le financement de votre développement.
URL:https://rouen.levillagebyca.com/evenement/permanence-banque-2/
LOCATION:Village by CA Rouen Vallée de Seine
CATEGORIES:Permanence
ATTACH;FMTTYPE=image/jpeg:https://rouen.levillagebyca.com/wp-content/uploads/2020/04/SEINE.jpg
ORGANIZER;CN="Le Village by CA Rouen Vall%C3%A9e de Seine":MAILTO:contact.rouen@levillagebyca.com
END:VEVENT
BEGIN:VEVENT
DTSTART;TZID=Europe/Paris:20210318T093000
DTEND;TZID=Europe/Paris:20210318T163000
DTSTAMP:20260424T101857
CREATED:20210223T105908Z
LAST-MODIFIED:20220425T082111Z
UID:1403-1616059800-1616085000@rouen.levillagebyca.com
SUMMARY:Business Connect "Levées à l'Ouest"
DESCRIPTION:Une journée d’échange entre investisseurs et startups du Réseau des Villages by CA de l’Ouest en phase de levée de fonds. \nObjectif : Le réseau des Villages by CA de l’Ouest organise cet événement afin de favoriser les rencontres entre investisseurs et startups du réseau des Villages. \nLe format : des speed-meetings de 15 minutes organisés selon vos demandes de rendez-vous réalisées en amont.
URL:https://rouen.levillagebyca.com/evenement/business-connect-levees-a-louest/
LOCATION:100% Digital
ATTACH;FMTTYPE=image/jpeg:https://rouen.levillagebyca.com/wp-content/uploads/2021/02/Bannière-plezi-1536x768-1.jpg
ORGANIZER;CN="Le Village by CA Finist%C3%A8re":MAILTO:marlene.lepennec@levillagebyca.com
END:VEVENT
BEGIN:VEVENT
DTSTART;TZID=Europe/Paris:20210318T100000
DTEND;TZID=Europe/Paris:20210318T120000
DTSTAMP:20260424T101857
CREATED:20201217T093707Z
LAST-MODIFIED:20220425T081442Z
UID:849-1616061600-1616068800@rouen.levillagebyca.com
SUMMARY:Permanence International
DESCRIPTION:Vous souhaitez vous renseigner sur vos perspectives de business hors Union Européenne ? Être accompagnés sur vos démarches de développement d’affaires à l’international ? \nRendez-vous ce Jeudi 18 Mars entre 10h et 12h sur la Place du Village pour la Permanence Internationale du Crédit Agricole 
URL:https://rouen.levillagebyca.com/evenement/permanence-internationale-3/
LOCATION:Village by CA Rouen Vallée de Seine
CATEGORIES:Permanence
ATTACH;FMTTYPE=image/jpeg:https://rouen.levillagebyca.com/wp-content/uploads/2020/10/IMG_20201022_115840-1536x1085-1.jpg
ORGANIZER;CN="Le Village by CA Rouen Vall%C3%A9e de Seine":MAILTO:contact.rouen@levillagebyca.com
END:VEVENT
BEGIN:VEVENT
DTSTART;TZID=Europe/Paris:20210319T100000
DTEND;TZID=Europe/Paris:20210319T120000
DTSTAMP:20260424T101857
CREATED:20201217T084818Z
LAST-MODIFIED:20210224T132214Z
UID:814-1616148000-1616155200@rouen.levillagebyca.com
SUMMARY:Permanence BPI
DESCRIPTION:Bénéficiez d’un suivi individuel avec l’un de nos experts du domaine concerné lors des Permanences organisées au Village. \nVous pouvez faire le point sur vos dossiers de financement auprès de BPI France\, partenaire incontournable des jeunes entreprises innovantes et plus encore lors d’une levée de fonds ou d’un projet de R&D.
URL:https://rouen.levillagebyca.com/evenement/permanence-bpi-2/
LOCATION:Village by CA Rouen Vallée de Seine
CATEGORIES:Permanence
ATTACH;FMTTYPE=image/jpeg:https://rouen.levillagebyca.com/wp-content/uploads/2020/04/SEINE.jpg
ORGANIZER;CN="Le Village by CA Rouen Vall%C3%A9e de Seine":MAILTO:contact.rouen@levillagebyca.com
END:VEVENT
BEGIN:VEVENT
DTSTART;TZID=Europe/Paris:20210322T133000
DTEND;TZID=Europe/Paris:20210322T140000
DTSTAMP:20260424T101857
CREATED:20201217T093908Z
LAST-MODIFIED:20201217T093908Z
UID:851-1616419800-1616421600@rouen.levillagebyca.com
SUMMARY:Stand Up Café Mars
DESCRIPTION:Une fois par mois\, échangez avec les autres Habitants autour d’un café\, pour vous tenir au courant des actualités des uns et des autres !
URL:https://rouen.levillagebyca.com/evenement/stand-up-cafe-mars/
LOCATION:Village by CA Rouen Vallée de Seine
CATEGORIES:Convivialité
ATTACH;FMTTYPE=image/jpeg:https://rouen.levillagebyca.com/wp-content/uploads/2020/10/EhD61AJXYAIslCJ.jpeg
ORGANIZER;CN="Le Village by CA Rouen Vall%C3%A9e de Seine":MAILTO:contact.rouen@levillagebyca.com
END:VEVENT
BEGIN:VEVENT
DTSTART;TZID=Europe/Paris:20210323T090000
DTEND;TZID=Europe/Paris:20210323T171000
DTSTAMP:20260424T101857
CREATED:20210223T110403Z
LAST-MODIFIED:20220425T124551Z
UID:1407-1616490000-1616519400@rouen.levillagebyca.com
SUMMARY:Business Connect "Agri Agro Food"
DESCRIPTION:Une journée d’échange entre les startups et les partenaires du Réseau des Villages by CA 100% en ligne. \nObjectif : les Business Connect sont des journées de speed-meeting organisés par les Villages by CA\, pour favoriser les synergies entre des entreprises\, des institutionnels et des startups. \n\n\n\n\nCette édition dédiée à l’Agriculture\, l’Agroalimentaire et la Food\, est organisé par Le Village by CA Atlantique Vendée\, Le Village by CA Centre Est\, Le Village by CA Côtes d’Armor\, Le Village by CA Finistère\, Le Village by CA Ille et Vilaine\, Normandie\, Le Village by CA Les Champs du Possible de Châteaudun\, Le Village by CA Anjou Maine Laval et Le Village by CA Le Mans en collaboration avec la Ferme Digitale\, Food-Val de Loire\, FastForward Agrifood et Valorial.
URL:https://rouen.levillagebyca.com/evenement/business-connect-agri-agro-food/
LOCATION:100% Digital
ATTACH;FMTTYPE=image/jpeg:https://rouen.levillagebyca.com/wp-content/uploads/2021/02/business-connect-agri-agro-food-1.jpg
END:VEVENT
BEGIN:VEVENT
DTSTART;TZID=Europe/Paris:20210323T140000
DTEND;TZID=Europe/Paris:20210323T150000
DTSTAMP:20260424T101857
CREATED:20210223T105243Z
LAST-MODIFIED:20210223T105243Z
UID:1398-1616508000-1616511600@rouen.levillagebyca.com
SUMMARY:Webinar "Workplace 2021 – Covid – No return to normal"
DESCRIPTION:INTERVENANT\n\n\n\n\n\n\n\nStéphane DELAPORTE\n\n\n\n\n\n\n\n\n\n\n\n\nPrésentation de l’intervenant : Stéphane Delaporte a toujours travaillé dans de grands groupes internationaux du secteur IT\, notamment aux Etats Unis\, Canada\, Angleterre\, Japon et en France. Il accompagne aujourd’hui les grands groupes du secteur bancaire dans leur transformation digitale du workplace et des parcours clients en capitalisant sur l’edge computing. Stéphane est également en charge de la relation entre le groupe Crédit Agricole et le groupe HP Inc. \n“Workplace 2021 – Covid – No return to normal”. L’impact (digital) du Covid sur la société et le workplace\, la gestion de la crise sanitaire par HP\, et la façon dont HP a fait évoluer ses solutions pour mieux répondre aux crises sanitaires et au télétravail. \nLes slides seront en anglais et le discours en français et durera 1h.
URL:https://rouen.levillagebyca.com/evenement/webinar-workplace-2021-covid-no-return-to-normal/
LOCATION:100% Digital
END:VEVENT
BEGIN:VEVENT
DTSTART;TZID=Europe/Paris:20210323T140000
DTEND;TZID=Europe/Paris:20210323T160000
DTSTAMP:20260424T101857
CREATED:20201217T092619Z
LAST-MODIFIED:20201217T092836Z
UID:846-1616508000-1616515200@rouen.levillagebyca.com
SUMMARY:Webinar International Japon
DESCRIPTION:Organisé par Le Réseau des Villages de CA\, sur l’initiative et la collaboration du Village de CA Des Savoie \nNous invitons des experts à venir témoigner sur : \n– la situation économique du pays ou de la zone \n– l’accompagnement prévu pour les start-ups dans ces pays en terme d’initiatives publiques ou privées \n– un retour d’expérience sur le développement international de start-ups précédemment accompagnés par ces experts sur le terrain \nPar Yuka Saiki
URL:https://rouen.levillagebyca.com/evenement/webinar-international-japon/
LOCATION:100% Digital
ATTACH;FMTTYPE=image/png:https://rouen.levillagebyca.com/wp-content/uploads/2020/12/3-1.png
END:VEVENT
BEGIN:VEVENT
DTSTART;TZID=Europe/Paris:20210324T110000
DTEND;TZID=Europe/Paris:20210324T120000
DTSTAMP:20260424T101857
CREATED:20210312T145843Z
LAST-MODIFIED:20210312T145843Z
UID:1454-1616583600-1616587200@rouen.levillagebyca.com
SUMMARY:Webinar "L'international distanciel\, enjeux et solutions"
DESCRIPTION:Le Crédit Agricole\, en partenariat avec Altios\, acteur majeur dans l’internationalisation des PME et ETI\, \na le plaisir de vous inviter au webinaire #1 de son cycle de conférences \nLes Webinaires de l’International \n\nL’international distanciel\, enjeux et solutions\nAvec la pandémie actuelle\, l’international est devenu distanciel… \nComment\, dans ce contexte\, poursuivre sa croissance en adaptant son entreprise à ces nouveaux enjeux et ces nouvelles pratiques à la fois en termes de prospection commerciale\, de gestion RH\, d’implantation locale et d’acquisition ?
URL:https://rouen.levillagebyca.com/evenement/webinar-linternational-distanciel-enjeux-et-solutions/
LOCATION:100% Digital
END:VEVENT
BEGIN:VEVENT
DTSTART;TZID=Europe/Paris:20210325T103000
DTEND;TZID=Europe/Paris:20210325T113000
DTSTAMP:20260424T101857
CREATED:20210223T105455Z
LAST-MODIFIED:20210223T105455Z
UID:1400-1616668200-1616671800@rouen.levillagebyca.com
SUMMARY:Webinar "Loi Pacte\, raison d'être et société à mission : comment passer à la pratique ?"
DESCRIPTION:INTERVENANT\n\n\n\n\n\n\n\nLaurent Simonneau\, Avocat Associé chez Fidal
URL:https://rouen.levillagebyca.com/evenement/webinar-loi-pacte-raison-detre-et-societe-a-mission-comment-passer-a-la-pratique/
LOCATION:100% Digital
END:VEVENT
BEGIN:VEVENT
DTSTART;TZID=Europe/Paris:20210326T100000
DTEND;TZID=Europe/Paris:20210326T120000
DTSTAMP:20260424T101857
CREATED:20201217T094616Z
LAST-MODIFIED:20201217T094616Z
UID:855-1616752800-1616760000@rouen.levillagebyca.com
SUMMARY:Permanence AD Normandie
DESCRIPTION:Bénéficiez d’un suivi individuel avec l’un de nos experts du domaine concerné lors des Permanences organisées au Village.
URL:https://rouen.levillagebyca.com/evenement/permanence-ad-normandie-2/
LOCATION:Village by CA Rouen Vallée de Seine
CATEGORIES:Permanence
ATTACH;FMTTYPE=image/jpeg:https://rouen.levillagebyca.com/wp-content/uploads/2020/04/SEINE.jpg
ORGANIZER;CN="Le Village by CA Rouen Vall%C3%A9e de Seine":MAILTO:contact.rouen@levillagebyca.com
END:VEVENT
BEGIN:VEVENT
DTSTART;TZID=Europe/Paris:20210329T133000
DTEND;TZID=Europe/Paris:20210329T140000
DTSTAMP:20260424T101857
CREATED:20210324T111147Z
LAST-MODIFIED:20210324T111319Z
UID:1462-1617024600-1617026400@rouen.levillagebyca.com
SUMMARY:Stand Up Café
DESCRIPTION:Une fois par mois\, échangez avec les autres Habitants autour d’un café\, pour vous tenir au courant des actualités des uns et des autres !
URL:https://rouen.levillagebyca.com/evenement/stand-up-cafe-4/
LOCATION:100% Digital
CATEGORIES:Convivialité
ATTACH;FMTTYPE=image/jpeg:https://rouen.levillagebyca.com/wp-content/uploads/2020/10/EhD61AJXYAIslCJ.jpeg
ORGANIZER;CN="Le Village by CA Rouen Vall%C3%A9e de Seine":MAILTO:contact.rouen@levillagebyca.com
END:VEVENT
BEGIN:VEVENT
DTSTART;TZID=Europe/Paris:20210330T100000
DTEND;TZID=Europe/Paris:20210330T120000
DTSTAMP:20260424T101857
CREATED:20201217T094730Z
LAST-MODIFIED:20210324T111516Z
UID:857-1617098400-1617105600@rouen.levillagebyca.com
SUMMARY:Permanence Nfactory
DESCRIPTION:Bénéficiez d’un suivi individuel avec l’un de nos experts du domaine concerné lors des Permanences organisées au Village.
URL:https://rouen.levillagebyca.com/evenement/permanence-nfactory/
LOCATION:100% Digital
CATEGORIES:Permanence
ATTACH;FMTTYPE=image/jpeg:https://rouen.levillagebyca.com/wp-content/uploads/2020/04/SEINE.jpg
ORGANIZER;CN="Le Village by CA Rouen Vall%C3%A9e de Seine":MAILTO:contact.rouen@levillagebyca.com
END:VEVENT
BEGIN:VEVENT
DTSTART;TZID=Europe/Paris:20210330T113000
DTEND;TZID=Europe/Paris:20210330T121500
DTSTAMP:20260424T101857
CREATED:20210312T145522Z
LAST-MODIFIED:20210312T145522Z
UID:1451-1617103800-1617106500@rouen.levillagebyca.com
SUMMARY:Webinar "Accompagner vos collaborateurs dans leur parcours professionnel"
DESCRIPTION:« Accompagner vos collaborateurs dans leur parcours professionnel : \nPrésentation du CEP mis en œuvre par l’APEC » \nA l’heure des mutations profondes du monde du travail et leurs conséquences sur la gestion des ressources humaines\, l’accompagnement de vos salariés dans leur parcours professionnel et la fidélisation de vos talents deviennent des enjeux forts pour votre entreprise. \n\nUn ou plusieurs de vos salariés se posent des questions sur leur avenir ? réfléchissent à une mobilité ? une formation ? une reconversion ?\nUne solution !\n\nLe CEP : Présenté par l’APEC\, acteur national de l’emploi des cadres\, le CEP est l’opportunité de faire le point sur la situation de vos salariés et d’engager\, le cas échéant\, une démarche d’évolution professionnelle pour chacun d’entre eux. \nLe CEP est un service gratuit\, réalisé sur mesure et dispensé par des professionnels qui accompagnent les salariés en toute confidentialité.
URL:https://rouen.levillagebyca.com/evenement/webinar-accompagner-vos-collaborateurs-dans-leur-parcours-professionnel/
LOCATION:100% Digital
END:VEVENT
BEGIN:VEVENT
DTSTART;TZID=Europe/Paris:20210330T140000
DTEND;TZID=Europe/Paris:20210330T173000
DTSTAMP:20260424T101857
CREATED:20210324T140752Z
LAST-MODIFIED:20210324T140752Z
UID:1486-1617112800-1617125400@rouen.levillagebyca.com
SUMMARY:Meet up "Innovations au service de la performance de la supply chain"
DESCRIPTION:📅 Rendez-vous le 30 mars de 14h à 17h30 sur notre salon virtuel ! \nEntreprises industrielles et logistiques\, sans vous déplacer\, faites-le plein de solutions innovantes pour améliorer votre Supply Chain ! \nOù que vous soyez\, connectez-vous au salon virtuel et faites le tour des solutions innovantes pour booster vos process et développer de nouveaux services !
URL:https://rouen.levillagebyca.com/evenement/meet-up-innovations-au-service-de-la-performance-de-la-supply-chain/
LOCATION:100% Digital
ATTACH;FMTTYPE=image/png:https://rouen.levillagebyca.com/wp-content/uploads/2021/03/meetup-nextmove.png
END:VEVENT
END:VCALENDAR