BEGIN:VCALENDAR
VERSION:2.0
PRODID:-//Le Village by CA Rouen Vallée de Seine - ECPv6.15.18//NONSGML v1.0//EN
CALSCALE:GREGORIAN
METHOD:PUBLISH
X-ORIGINAL-URL:https://rouen.levillagebyca.com
X-WR-CALDESC:Évènements pour Le Village by CA Rouen Vallée de Seine
REFRESH-INTERVAL;VALUE=DURATION:PT1H
X-Robots-Tag:noindex
X-PUBLISHED-TTL:PT1H
BEGIN:VTIMEZONE
TZID:Europe/Paris
BEGIN:DAYLIGHT
TZOFFSETFROM:+0100
TZOFFSETTO:+0200
TZNAME:CEST
DTSTART:20200329T010000
END:DAYLIGHT
BEGIN:STANDARD
TZOFFSETFROM:+0200
TZOFFSETTO:+0100
TZNAME:CET
DTSTART:20201025T010000
END:STANDARD
BEGIN:DAYLIGHT
TZOFFSETFROM:+0100
TZOFFSETTO:+0200
TZNAME:CEST
DTSTART:20210328T010000
END:DAYLIGHT
BEGIN:STANDARD
TZOFFSETFROM:+0200
TZOFFSETTO:+0100
TZNAME:CET
DTSTART:20211031T010000
END:STANDARD
BEGIN:DAYLIGHT
TZOFFSETFROM:+0100
TZOFFSETTO:+0200
TZNAME:CEST
DTSTART:20220327T010000
END:DAYLIGHT
BEGIN:STANDARD
TZOFFSETFROM:+0200
TZOFFSETTO:+0100
TZNAME:CET
DTSTART:20221030T010000
END:STANDARD
END:VTIMEZONE
BEGIN:VEVENT
DTSTART;TZID=Europe/Paris:20210706T140000
DTEND;TZID=Europe/Paris:20210706T160000
DTSTAMP:20260422T044444
CREATED:20201217T112148Z
LAST-MODIFIED:20201217T112148Z
UID:947-1625580000-1625587200@rouen.levillagebyca.com
SUMMARY:Webinar International Moyen-Orient
DESCRIPTION:Organisé par Le Réseau des Villages de CA\, sur l’initiative et la collaboration du Village de CA Des Savoie \nNous invitons des experts à venir témoigner sur : \n– la situation économique du pays ou de la zone \n– l’accompagnement prévu pour les start-ups dans ces pays en terme d’initiatives publiques ou privées \n– un retour d’expérience sur le développement international de start-ups précédemment accompagnés par ces experts sur le terrain \nPar Jean-Guy Larriviere
URL:https://rouen.levillagebyca.com/evenement/webinar-international-moyen-orient/
LOCATION:100% Digital
ATTACH;FMTTYPE=image/png:https://rouen.levillagebyca.com/wp-content/uploads/2020/12/7.png
END:VEVENT
BEGIN:VEVENT
DTSTART;TZID=Europe/Paris:20210708T170000
DTEND;TZID=Europe/Paris:20210708T200000
DTSTAMP:20260422T044444
CREATED:20201217T114652Z
LAST-MODIFIED:20220425T121848Z
UID:970-1625763600-1625774400@rouen.levillagebyca.com
SUMMARY:Afterwork de l'été & Inauguration Orion 1.7
DESCRIPTION:C’est avec grand plaisir que l’équipe du Village by CA Rouen Vallée de Seine vous invite à son dernier événement avant la pause estivale : \nJeudi 7 juillet à 17h – Place et Terrasse du Village by CA \nUne occasion pour se retrouver et trinquer entre start-up et partenaires mais également de vous convier à l’inauguration d’Orion 1.7\, notre cher voisin du 2ème étage du Hangar 107. 😉
URL:https://rouen.levillagebyca.com/evenement/afterwork-ete/
LOCATION:Village by CA Rouen Vallée de Seine
CATEGORIES:Convivialité
ATTACH;FMTTYPE=image/jpeg:https://rouen.levillagebyca.com/wp-content/uploads/2020/12/invitation-afterwork-1.jpg
ORGANIZER;CN="Le Village by CA Rouen Vall%C3%A9e de Seine":MAILTO:contact.rouen@levillagebyca.com
END:VEVENT
END:VCALENDAR