BEGIN:VCALENDAR
VERSION:2.0
PRODID:-//Le Village by CA Rouen Vallée de Seine - ECPv6.15.18//NONSGML v1.0//EN
CALSCALE:GREGORIAN
METHOD:PUBLISH
X-ORIGINAL-URL:https://rouen.levillagebyca.com
X-WR-CALDESC:Évènements pour Le Village by CA Rouen Vallée de Seine
REFRESH-INTERVAL;VALUE=DURATION:PT1H
X-Robots-Tag:noindex
X-PUBLISHED-TTL:PT1H
BEGIN:VTIMEZONE
TZID:Europe/Paris
BEGIN:DAYLIGHT
TZOFFSETFROM:+0100
TZOFFSETTO:+0200
TZNAME:CEST
DTSTART:20200329T010000
END:DAYLIGHT
BEGIN:STANDARD
TZOFFSETFROM:+0200
TZOFFSETTO:+0100
TZNAME:CET
DTSTART:20201025T010000
END:STANDARD
BEGIN:DAYLIGHT
TZOFFSETFROM:+0100
TZOFFSETTO:+0200
TZNAME:CEST
DTSTART:20210328T010000
END:DAYLIGHT
BEGIN:STANDARD
TZOFFSETFROM:+0200
TZOFFSETTO:+0100
TZNAME:CET
DTSTART:20211031T010000
END:STANDARD
BEGIN:DAYLIGHT
TZOFFSETFROM:+0100
TZOFFSETTO:+0200
TZNAME:CEST
DTSTART:20220327T010000
END:DAYLIGHT
BEGIN:STANDARD
TZOFFSETFROM:+0200
TZOFFSETTO:+0100
TZNAME:CET
DTSTART:20221030T010000
END:STANDARD
END:VTIMEZONE
BEGIN:VEVENT
DTSTART;TZID=Europe/Paris:20210901T100000
DTEND;TZID=Europe/Paris:20210901T120000
DTSTAMP:20260422T014830
CREATED:20201217T115025Z
LAST-MODIFIED:20201217T115025Z
UID:972-1630490400-1630497600@rouen.levillagebyca.com
SUMMARY:Permanence APEC
DESCRIPTION:Bénéficiez d’un suivi individuel avec l’un de nos experts du domaine concerné lors des Permanences organisées au Village. \nL’APEC\, Association Pour l’Emploi des Cadres\, propose des services pour optimiser vos recrutements et la gestion de vos compétences internes.
URL:https://rouen.levillagebyca.com/evenement/permanence-apec-6/
LOCATION:Village by CA Rouen Vallée de Seine
CATEGORIES:Permanence
ATTACH;FMTTYPE=image/jpeg:https://rouen.levillagebyca.com/wp-content/uploads/2020/10/permanence-apec-scaled.jpeg
ORGANIZER;CN="Le Village by CA Rouen Vall%C3%A9e de Seine":MAILTO:contact.rouen@levillagebyca.com
END:VEVENT
BEGIN:VEVENT
DTSTART;TZID=Europe/Paris:20210903T114500
DTEND;TZID=Europe/Paris:20210903T123000
DTSTAMP:20260422T014830
CREATED:20201217T115204Z
LAST-MODIFIED:20210825T083458Z
UID:974-1630669500-1630672200@rouen.levillagebyca.com
SUMMARY:C'est la rentrée au Village !
DESCRIPTION:  \nLe Village by CA Rouen Vallée de Seine a le plaisir de vous inviter à son événement de la rentrée\, le vendredi 3 septembre à 11h45 sur la Place du Village. Nous profiterons de cette occasion pour inaugurer la Weem qui vient tout juste d’être installée sur notre Place. \n  \nVenez partager un moment convivial entre start-up et partenaires du Village by CA. L’occasion de se retrouver et échanger autour des enjeux de la rentrée. L’équipe du Village sera heureux de vous offrir le verre de l’amitié (en terrasse\, si le soleil est de la partie☀️). \nRDV le vendredi 3 septembre à 11h45 sur la Place du Village 
URL:https://rouen.levillagebyca.com/evenement/cest-la-rentree-au-village/
LOCATION:Village by CA Rouen Vallée de Seine
CATEGORIES:Convivialité
ATTACH;FMTTYPE=image/jpeg:https://rouen.levillagebyca.com/wp-content/uploads/2020/12/a3-colunch-rentree-scaled-e1629820880881.jpg
ORGANIZER;CN="Le Village by CA Rouen Vall%C3%A9e de Seine":MAILTO:contact.rouen@levillagebyca.com
END:VEVENT
BEGIN:VEVENT
DTSTART;TZID=Europe/Paris:20210907T100000
DTEND;TZID=Europe/Paris:20210907T120000
DTSTAMP:20260422T014830
CREATED:20201217T115512Z
LAST-MODIFIED:20210824T123249Z
UID:978-1631008800-1631016000@rouen.levillagebyca.com
SUMMARY:Permanence Pôle TES
DESCRIPTION:Bénéficiez d’un suivi individuel avec l’un de nos experts du domaine concerné lors des Permanences organisées au Village.
URL:https://rouen.levillagebyca.com/evenement/permanence-pole-tes-3/
LOCATION:Village by CA Rouen Vallée de Seine
CATEGORIES:Permanence
ATTACH;FMTTYPE=image/jpeg:https://rouen.levillagebyca.com/wp-content/uploads/2020/04/SEINE.jpg
ORGANIZER;CN="Le Village by CA Rouen Vall%C3%A9e de Seine":MAILTO:contact.rouen@levillagebyca.com
END:VEVENT
BEGIN:VEVENT
DTSTART;TZID=Europe/Paris:20210907T103000
DTEND;TZID=Europe/Paris:20210907T113000
DTSTAMP:20260422T014830
CREATED:20201217T115851Z
LAST-MODIFIED:20210824T123322Z
UID:982-1631010600-1631014200@rouen.levillagebyca.com
SUMMARY:Petit déj' Pôle TES
DESCRIPTION:Le Village by CA organise régulièrement des before-works\, afterworks\, lors desquels les Start-Up\, les Partenaires et tout l’écosystème du Village est convié pour échanger autour d’un petit-déjeuner sur la Place du Village.
URL:https://rouen.levillagebyca.com/evenement/petit-dej-de-la-rentree/
LOCATION:Village by CA Rouen Vallée de Seine
CATEGORIES:Convivialité
ATTACH;FMTTYPE=image/jpeg:https://rouen.levillagebyca.com/wp-content/uploads/2020/10/EhaBGBJXkAEuTuq-scaled.jpeg
ORGANIZER;CN="Le Village by CA Rouen Vall%C3%A9e de Seine":MAILTO:contact.rouen@levillagebyca.com
END:VEVENT
BEGIN:VEVENT
DTSTART;TZID=Europe/Paris:20210907T140000
DTEND;TZID=Europe/Paris:20210907T163000
DTSTAMP:20260422T014830
CREATED:20201217T115406Z
LAST-MODIFIED:20201217T115406Z
UID:976-1631023200-1631032200@rouen.levillagebyca.com
SUMMARY:Atelier "accélérer ses ventes et son nombre de clients"
DESCRIPTION:De nombreux ateliers rythment la vie du Village autour de thématiques très diverses : Co-création/expérimentation\, développement de nouveaux produits\, conquête de nouveaux marches\, structuration… Ces ateliers\, proposés par nos partenaires ou des experts du domaine concerné\, sont ouverts à tous sur inscription\, dans la limite des places disponibles.
URL:https://rouen.levillagebyca.com/evenement/atelier-accelerer-ses-ventes-et-son-nombre-de-clients/
LOCATION:Village by CA Rouen Vallée de Seine
CATEGORIES:Atelier
ATTACH;FMTTYPE=image/jpeg:https://rouen.levillagebyca.com/wp-content/uploads/2020/10/PART_1601987817050.jpeg
ORGANIZER;CN="Le Village by CA Rouen Vall%C3%A9e de Seine":MAILTO:contact.rouen@levillagebyca.com
END:VEVENT
BEGIN:VEVENT
DTSTART;TZID=Europe/Paris:20210908T090000
DTEND;TZID=Europe/Paris:20210908T163000
DTSTAMP:20260422T014830
CREATED:20210827T071933Z
LAST-MODIFIED:20210827T071933Z
UID:2047-1631091600-1631118600@rouen.levillagebyca.com
SUMMARY:Business Connect Ressour'Seas
DESCRIPTION:RESSOUR’SEAS : LA MER AU COEUR DE NOS ENJEUX\n\nLa Filière Mer du Crédit Agricole du Finistère\, Finistère Mer Vent et Le Village by CA Finistère organisent l’événement RESSOUR’SEAS\, le mercredi 08 septembre 2021 aux Ateliers des Capucins à Brest. L’occasion de valoriser l’économie bleue et l’innovation maritime\, véritables relais de croissance pour le Finistère. \nAvec la présence exceptionnelle de Jean Le Cam\, Skipper professionnel.  \nAu programme de cette journée : \n\nDes tables rondes au coeur des enjeux de l’économie maritime : \n\nLa Mer\, laboratoire d’idées : enjeux de transition autour de la construction navale\nLa Mer nourricière\nLa Mer source d’énergie\n\n\nDes moments d’échange en face à face lors de speed-meeting de 10 minutes (à votre convenance)\n\nVous avez jusqu’au 05 septembre 2021 pour vous inscrire à cet évènement. \nPlanning : \n\nJusqu’au 05 septembre : Inscription à l’évènement via la plateforme We Connect.\nIntégration de vos disponibilités et choix des participants que vous souhaitez rencontrer (optionnel).\n08 septembre – Jour J : Rendez-vous aux Ateliers des Capucins. Remise de votre planning personnalisé (dans le cas où vous avez choisi de faire des rendez-vous en one-to-one) à votre arrivée.\n\nEn raison des conditions sanitaires\, un pass sanitaire sera à présenter pour tous les participants. \nLe pass sanitaire consiste en la présentation\, numérique (via l’application TousAntiCovid) ou papier\, d’une preuve sanitaire\, parmi les trois suivantes : \n\nUn schéma vaccinal complet\nUn test RT-PCR négatif de moins de 48h\nLe résultat d’un test RT-PCR ou antigénique positif attestant du rétablissement de la Covid-19\, datant d’au moins 11 jours et de moins de 6 mois\n\nPour toute question relative au déroulé de cet évènement\, vous pouvez contacter : filieremer@ca-finistere.fr \nPour toute question relative à votre inscription sur la plateforme\, vous pouvez contacter : marlene.lepennec@levillagebyca.com \nAu plaisir de vous y retrouver nombreux ! \nÀ très bientôt\, \nLes équipes de la Filière Mer du Crédit Agricole du Finistère\, de Finistère Mer Vent et du Village by CA Finistère.
URL:https://rouen.levillagebyca.com/evenement/business-connect-ressourseas/
LOCATION:Brest
ORGANIZER;CN="Le Village by CA Finist%C3%A8re":MAILTO:marlene.lepennec@levillagebyca.com
END:VEVENT
BEGIN:VEVENT
DTSTART;TZID=Europe/Paris:20210909T100000
DTEND;TZID=Europe/Paris:20210909T120000
DTSTAMP:20260422T014830
CREATED:20201217T115646Z
LAST-MODIFIED:20201217T115646Z
UID:980-1631181600-1631188800@rouen.levillagebyca.com
SUMMARY:Permanence Comptabilité
DESCRIPTION:Bénéficiez d’un suivi individuel avec l’un de nos experts du domaine concerné lors des Permanences organisées au Village. \nNos experts-comptables sont là pour vous éclairer sur votre comptabilité et ainsi vous conseiller sur la bonne gestion de vos comptes.
URL:https://rouen.levillagebyca.com/evenement/permanence-comptabilite-3/
LOCATION:Village by CA Rouen Vallée de Seine
CATEGORIES:Permanence
ATTACH;FMTTYPE=image/jpeg:https://rouen.levillagebyca.com/wp-content/uploads/2020/04/SEINE.jpg
ORGANIZER;CN="Le Village by CA Rouen Vall%C3%A9e de Seine":MAILTO:contact.rouen@levillagebyca.com
END:VEVENT
BEGIN:VEVENT
DTSTART;TZID=Europe/Paris:20210913T100000
DTEND;TZID=Europe/Paris:20210913T120000
DTSTAMP:20260422T014830
CREATED:20201217T120112Z
LAST-MODIFIED:20201217T120112Z
UID:984-1631527200-1631534400@rouen.levillagebyca.com
SUMMARY:Permanence Nfactory
DESCRIPTION:Bénéficiez d’un suivi individuel avec l’un de nos experts du domaine concerné lors des Permanences organisées au Village.
URL:https://rouen.levillagebyca.com/evenement/permanence-nfactory-2/
LOCATION:Village by CA Rouen Vallée de Seine
CATEGORIES:Permanence
ATTACH;FMTTYPE=image/jpeg:https://rouen.levillagebyca.com/wp-content/uploads/2020/04/SEINE.jpg
ORGANIZER;CN="Le Village by CA Rouen Vall%C3%A9e de Seine":MAILTO:contact.rouen@levillagebyca.com
END:VEVENT
BEGIN:VEVENT
DTSTART;TZID=Europe/Paris:20210914T100000
DTEND;TZID=Europe/Paris:20210914T120000
DTSTAMP:20260422T014830
CREATED:20201217T120419Z
LAST-MODIFIED:20201217T120419Z
UID:986-1631613600-1631620800@rouen.levillagebyca.com
SUMMARY:Permanence F. Iniciativas
DESCRIPTION:Bénéficiez d’un suivi individuel avec l’un de nos experts du domaine concerné lors des Permanences organisées au Village. \nDes experts sont à votre disposition pour vous conseiller sur l’obtention du statut JEI ou encore l’obtention du CIR (ou autres mécanismes de financement de l’innovation).
URL:https://rouen.levillagebyca.com/evenement/permanence-f-iniciativas-3/
LOCATION:Village by CA Rouen Vallée de Seine
CATEGORIES:Permanence
ATTACH;FMTTYPE=image/jpeg:https://rouen.levillagebyca.com/wp-content/uploads/2020/04/SEINE.jpg
ORGANIZER;CN="Le Village by CA Rouen Vall%C3%A9e de Seine":MAILTO:contact.rouen@levillagebyca.com
END:VEVENT
BEGIN:VEVENT
DTSTART;TZID=Europe/Paris:20210914T140000
DTEND;TZID=Europe/Paris:20210914T170000
DTSTAMP:20260422T014830
CREATED:20201217T120612Z
LAST-MODIFIED:20210823T153755Z
UID:988-1631628000-1631638800@rouen.levillagebyca.com
SUMMARY:Board Éphémère Ressources Humaines
DESCRIPTION:Écoutez\, challengez\, conseillez les jeunes entrepreneurs et valorisez les expertises de vos collaborateurs en les faisant participer à des sessions de coaching collectif et thématisé à destination des Start-Up.
URL:https://rouen.levillagebyca.com/evenement/board-ephemere-ressources-humaines/
LOCATION:Village by CA Rouen Vallée de Seine
CATEGORIES:Atelier
ATTACH;FMTTYPE=image/jpeg:https://rouen.levillagebyca.com/wp-content/uploads/2020/10/PART_1601987817050.jpeg
ORGANIZER;CN="Le Village by CA Rouen Vall%C3%A9e de Seine":MAILTO:contact.rouen@levillagebyca.com
END:VEVENT
BEGIN:VEVENT
DTSTART;TZID=Europe/Paris:20210916T100000
DTEND;TZID=Europe/Paris:20210916T120000
DTSTAMP:20260422T014830
CREATED:20201217T120751Z
LAST-MODIFIED:20220425T081607Z
UID:990-1631786400-1631793600@rouen.levillagebyca.com
SUMMARY:Permanence Internationale
DESCRIPTION:Vous souhaitez vous renseigner sur vos perspectives de business hors Union Européenne ? Être accompagnés sur vos démarches de développement d’affaires à l’international ? \nRendez-vous ce Jeudi 16 Septembre entre 10h et 12h sur la Place du Village pour la Permanence Internationale du Crédit Agricole 
URL:https://rouen.levillagebyca.com/evenement/permanence-internationale-5/
LOCATION:Village by CA Rouen Vallée de Seine
CATEGORIES:Permanence
ATTACH;FMTTYPE=image/jpeg:https://rouen.levillagebyca.com/wp-content/uploads/2020/10/IMG_20201022_115840-1536x1085-1.jpg
ORGANIZER;CN="Le Village by CA Rouen Vall%C3%A9e de Seine":MAILTO:contact.rouen@levillagebyca.com
END:VEVENT
BEGIN:VEVENT
DTSTART;TZID=Europe/Paris:20210920T133000
DTEND;TZID=Europe/Paris:20210920T140000
DTSTAMP:20260422T014830
CREATED:20201217T120927Z
LAST-MODIFIED:20210823T153910Z
UID:992-1632144600-1632146400@rouen.levillagebyca.com
SUMMARY:Stand Up Café spécial ADNormandie
DESCRIPTION:Une fois par mois\, échangez avec les autres Habitants autour d’un café\, pour vous tenir au courant des actualités des uns et des autres !
URL:https://rouen.levillagebyca.com/evenement/stand-up-cafe-septembre/
LOCATION:Village by CA Rouen Vallée de Seine
CATEGORIES:Convivialité
ATTACH;FMTTYPE=image/jpeg:https://rouen.levillagebyca.com/wp-content/uploads/2020/10/EhD61AJXYAIslCJ.jpeg
ORGANIZER;CN="Le Village by CA Rouen Vall%C3%A9e de Seine":MAILTO:contact.rouen@levillagebyca.com
END:VEVENT
BEGIN:VEVENT
DTSTART;TZID=Europe/Paris:20210921T100000
DTEND;TZID=Europe/Paris:20210921T120000
DTSTAMP:20260422T014830
CREATED:20201217T121051Z
LAST-MODIFIED:20201217T121051Z
UID:994-1632218400-1632225600@rouen.levillagebyca.com
SUMMARY:Permanence Banque
DESCRIPTION:Bénéficiez d’un suivi individuel avec l’un de nos experts du domaine concerné lors des Permanences organisées au Village. \nÉchangez sur vos besoins de trésorerie et d’investissement avec un expert du Crédit Agricole pour bien préparer le financement de votre développement.
URL:https://rouen.levillagebyca.com/evenement/permanence-banque-6/
LOCATION:Village by CA Rouen Vallée de Seine
CATEGORIES:Permanence
ATTACH;FMTTYPE=image/jpeg:https://rouen.levillagebyca.com/wp-content/uploads/2020/04/SEINE.jpg
ORGANIZER;CN="Le Village by CA Rouen Vall%C3%A9e de Seine":MAILTO:contact.rouen@levillagebyca.com
END:VEVENT
BEGIN:VEVENT
DTSTART;TZID=Europe/Paris:20210923T140000
DTEND;TZID=Europe/Paris:20210923T163000
DTSTAMP:20260422T014830
CREATED:20210824T123843Z
LAST-MODIFIED:20210824T123843Z
UID:2020-1632405600-1632414600@rouen.levillagebyca.com
SUMMARY:Atelier "Être à l'aise face à son auditoire"
DESCRIPTION:
URL:https://rouen.levillagebyca.com/evenement/atelier-etre-a-laise-face-a-son-auditoire/
LOCATION:Village by CA Rouen Vallée de Seine
CATEGORIES:Atelier
ORGANIZER;CN="Le Village by CA Rouen Vall%C3%A9e de Seine":MAILTO:contact.rouen@levillagebyca.com
END:VEVENT
BEGIN:VEVENT
DTSTART;TZID=Europe/Paris:20210924T100000
DTEND;TZID=Europe/Paris:20210924T120000
DTSTAMP:20260422T014830
CREATED:20201217T121149Z
LAST-MODIFIED:20201217T121149Z
UID:996-1632477600-1632484800@rouen.levillagebyca.com
SUMMARY:Permanence AD Normandie
DESCRIPTION:Bénéficiez d’un suivi individuel avec l’un de nos experts du domaine concerné lors des Permanences organisées au Village.
URL:https://rouen.levillagebyca.com/evenement/permanence-ad-normandie-4/
LOCATION:Village by CA Rouen Vallée de Seine
CATEGORIES:Permanence
ATTACH;FMTTYPE=image/jpeg:https://rouen.levillagebyca.com/wp-content/uploads/2020/04/SEINE.jpg
ORGANIZER;CN="Le Village by CA Rouen Vall%C3%A9e de Seine":MAILTO:contact.rouen@levillagebyca.com
END:VEVENT
BEGIN:VEVENT
DTSTART;TZID=Europe/Paris:20210928T110000
DTEND;TZID=Europe/Paris:20210928T120000
DTSTAMP:20260422T014830
CREATED:20210913T131624Z
LAST-MODIFIED:20210913T132812Z
UID:2074-1632826800-1632830400@rouen.levillagebyca.com
SUMMARY:Webinar "La Valorisation des Acquis de l'Expérience [VAE] :  un outil pour l'entreprise"
DESCRIPTION:L’AD Normandie\, en partenariat avec l’Agence Régionale d’Orientation et des Métiers de Normandie et la Région\, vous invite à son prochain webinaire RH sur le thème de : \n » La Valorisation des Acquis de l’Expérience [VAE] :  \nun outil pour l’entreprise«  \nle mardi 28 septembre de 11h à 12h \nVous souhaitez valoriser les compétences de vos collaborateurs et les faire évoluer ? \nVous souhaitez parer aux difficultés de recrutement ? \nCe webinaire vous permettra de savoir comment utiliser la VAE dans votre stratégie de gestion des compétences. \nDans le cadre de la semaine de la VAE\, nous vous proposons de découvrir ce dispositif\, véritable outil stratégique « gagnant-gagnant » pour l’entreprise et ses salariés. \nAu programme : \n\nPrésentation du dispositif « VAE »\nPoint Relais Conseil\nRetours d’expérience
URL:https://rouen.levillagebyca.com/evenement/webinar-la-valorisation-des-acquis-de-lexperience-vae-un-outil-pour-lentreprise/
LOCATION:100% Digital
ATTACH;FMTTYPE=image/jpeg:https://rouen.levillagebyca.com/wp-content/uploads/2021/09/adn-normandie.jpg
END:VEVENT
BEGIN:VEVENT
DTSTART;TZID=Europe/Paris:20210928T140000
DTEND;TZID=Europe/Paris:20210928T160000
DTSTAMP:20260422T014830
CREATED:20201217T112646Z
LAST-MODIFIED:20220425T082736Z
UID:953-1632837600-1632844800@rouen.levillagebyca.com
SUMMARY:Webinar International Asie
DESCRIPTION:Organisé par Le Réseau des Villages de CA\, sur l’initiative et la collaboration du Village de CA Des Savoie \nNous invitons des experts à venir témoigner sur : \n– la situation économique du pays ou de la zone \n– l’accompagnement prévu pour les start-ups dans ces pays en terme d’initiatives publiques ou privées \n– un retour d’expérience sur le développement international de start-ups précédemment accompagnés par ces experts sur le terrain
URL:https://rouen.levillagebyca.com/evenement/webinar-international-asie/
LOCATION:100% Digital
ATTACH;FMTTYPE=image/jpeg:https://rouen.levillagebyca.com/wp-content/uploads/2020/12/9-1.jpg
END:VEVENT
END:VCALENDAR