BEGIN:VCALENDAR
VERSION:2.0
PRODID:-//Le Village by CA Rouen Vallée de Seine - ECPv6.15.18//NONSGML v1.0//EN
CALSCALE:GREGORIAN
METHOD:PUBLISH
X-WR-CALNAME:Le Village by CA Rouen Vallée de Seine
X-ORIGINAL-URL:https://rouen.levillagebyca.com
X-WR-CALDESC:Évènements pour Le Village by CA Rouen Vallée de Seine
REFRESH-INTERVAL;VALUE=DURATION:PT1H
X-Robots-Tag:noindex
X-PUBLISHED-TTL:PT1H
BEGIN:VTIMEZONE
TZID:Europe/Paris
BEGIN:DAYLIGHT
TZOFFSETFROM:+0100
TZOFFSETTO:+0200
TZNAME:CEST
DTSTART:20200329T010000
END:DAYLIGHT
BEGIN:STANDARD
TZOFFSETFROM:+0200
TZOFFSETTO:+0100
TZNAME:CET
DTSTART:20201025T010000
END:STANDARD
BEGIN:DAYLIGHT
TZOFFSETFROM:+0100
TZOFFSETTO:+0200
TZNAME:CEST
DTSTART:20210328T010000
END:DAYLIGHT
BEGIN:STANDARD
TZOFFSETFROM:+0200
TZOFFSETTO:+0100
TZNAME:CET
DTSTART:20211031T010000
END:STANDARD
BEGIN:DAYLIGHT
TZOFFSETFROM:+0100
TZOFFSETTO:+0200
TZNAME:CEST
DTSTART:20220327T010000
END:DAYLIGHT
BEGIN:STANDARD
TZOFFSETFROM:+0200
TZOFFSETTO:+0100
TZNAME:CET
DTSTART:20221030T010000
END:STANDARD
END:VTIMEZONE
BEGIN:VEVENT
DTSTART;TZID=Europe/Paris:20211001T114500
DTEND;TZID=Europe/Paris:20211001T123000
DTSTAMP:20260422T001205
CREATED:20201217T140129Z
LAST-MODIFIED:20210909T092448Z
UID:1023-1633088700-1633091400@rouen.levillagebyca.com
SUMMARY:Colunch
DESCRIPTION:Une fois par mois lors de la pause déjeuner\, venez échanger avec les autres Habitants sur vos problématiques et ainsi partager vos bonnes pratiques et contacts !
URL:https://rouen.levillagebyca.com/evenement/colunch-octobre/
LOCATION:Village by CA Rouen Vallée de Seine
CATEGORIES:Convivialité
ATTACH;FMTTYPE=image/jpeg:https://rouen.levillagebyca.com/wp-content/uploads/2020/10/EhD61AJXYAIslCJ.jpeg
ORGANIZER;CN="Le Village by CA Rouen Vall%C3%A9e de Seine":MAILTO:contact.rouen@levillagebyca.com
END:VEVENT
BEGIN:VEVENT
DTSTART;TZID=Europe/Paris:20211004T083000
DTEND;TZID=Europe/Paris:20211004T103000
DTSTAMP:20260422T001205
CREATED:20210824T124635Z
LAST-MODIFIED:20210909T093136Z
UID:2022-1633336200-1633343400@rouen.levillagebyca.com
SUMMARY:Je peux pas j'ai p'tit déj' avec Jean-Louis
DESCRIPTION:Nous vous accueillerons dès 8h30 pour prendre le p’tit déjeuner ensemble\, en présence de Jean-Louis Louvel\, Président fondateur CEO de PGS Group\, et Ambassadeur du Village By CA de Rouen. \nJean-Louis est heureux de vous accueillir.  C’est l’occasion d’échanger sur son parcours et de répondre à vos interrogations. \nAttention places limitées. Inscription obligatoire auprès de Céline Rat
URL:https://rouen.levillagebyca.com/evenement/je-peux-pas-jai-petit-dej-avec-jean-louis/
LOCATION:Village by CA Rouen Vallée de Seine
CATEGORIES:Convivialité
ORGANIZER;CN="Le Village by CA Rouen Vall%C3%A9e de Seine":MAILTO:contact.rouen@levillagebyca.com
END:VEVENT
BEGIN:VEVENT
DTSTART;TZID=Europe/Paris:20211006T100000
DTEND;TZID=Europe/Paris:20211006T120000
DTSTAMP:20260422T001205
CREATED:20201217T140356Z
LAST-MODIFIED:20201217T140356Z
UID:1027-1633514400-1633521600@rouen.levillagebyca.com
SUMMARY:Permanence Pôle Emploi
DESCRIPTION:Bénéficiez d’un suivi individuel avec l’un de nos experts du domaine concerné lors des Permanences organisées au Village.
URL:https://rouen.levillagebyca.com/evenement/permanence-pole-emploi-4/
LOCATION:Village by CA Rouen Vallée de Seine
CATEGORIES:Permanence
ATTACH;FMTTYPE=image/jpeg:https://rouen.levillagebyca.com/wp-content/uploads/2020/04/SEINE.jpg
ORGANIZER;CN="Le Village by CA Rouen Vall%C3%A9e de Seine":MAILTO:contact.rouen@levillagebyca.com
END:VEVENT
BEGIN:VEVENT
DTSTART;TZID=Europe/Paris:20211007T134500
DTEND;TZID=Europe/Paris:20211007T170000
DTSTAMP:20260422T001205
CREATED:20201217T140709Z
LAST-MODIFIED:20210824T124826Z
UID:1029-1633614300-1633626000@rouen.levillagebyca.com
SUMMARY:Students Can Do It
DESCRIPTION:Le Student Can Do It\, c’est une après-midi complète d’échanges et de synergies entre les écoles partenaires du Village\, les Start-up accélérées au Village et les Partenaires du Village. Les représentants pédagogiques des établissements sont mis en relation directe avec les représentants des Start-Up et les Partenaires du Village. L’objectif est de développer des coopérations concrètes entre les étudiants\, les Partenaires et les Start-Up !
URL:https://rouen.levillagebyca.com/evenement/students-can-do-it-2/
LOCATION:Village by CA Rouen Vallée de Seine
CATEGORIES:Atelier
ATTACH;FMTTYPE=image/jpeg:https://rouen.levillagebyca.com/wp-content/uploads/2020/10/PART_1602251564088.jpeg
ORGANIZER;CN="Le Village by CA Rouen Vall%C3%A9e de Seine":MAILTO:contact.rouen@levillagebyca.com
END:VEVENT
BEGIN:VEVENT
DTSTART;TZID=Europe/Paris:20211012T100000
DTEND;TZID=Europe/Paris:20211012T120000
DTSTAMP:20260422T001205
CREATED:20201217T141032Z
LAST-MODIFIED:20201217T141032Z
UID:1033-1634032800-1634040000@rouen.levillagebyca.com
SUMMARY:Permanence INPI
DESCRIPTION:Bénéficiez d’un suivi individuel avec l’un de nos experts du domaine concerné lors des Permanences organisées au Village. \nUn expert de l’Institut National de la Propriété Industrielle est présent pour répondre à toutes vos interrogations concernant le dépôt et la protection de vos titres de propriété industrielle.
URL:https://rouen.levillagebyca.com/evenement/permanence-inpi-5/
LOCATION:Village by CA Rouen Vallée de Seine
CATEGORIES:Permanence
ATTACH;FMTTYPE=image/jpeg:https://rouen.levillagebyca.com/wp-content/uploads/2020/04/SEINE.jpg
ORGANIZER;CN="Le Village by CA Rouen Vall%C3%A9e de Seine":MAILTO:contact.rouen@levillagebyca.com
END:VEVENT
BEGIN:VEVENT
DTSTART;TZID=Europe/Paris:20211012T100000
DTEND;TZID=Europe/Paris:20211012T120000
DTSTAMP:20260422T001205
CREATED:20201217T141535Z
LAST-MODIFIED:20201217T141535Z
UID:1035-1634032800-1634040000@rouen.levillagebyca.com
SUMMARY:Matinée Open Innovation
DESCRIPTION:
URL:https://rouen.levillagebyca.com/evenement/matinee-open-innovation/
LOCATION:Village by CA Rouen Vallée de Seine
CATEGORIES:Atelier
ATTACH;FMTTYPE=image/jpeg:https://rouen.levillagebyca.com/wp-content/uploads/2020/09/auditorium-1.jpg
ORGANIZER;CN="Le Village by CA Rouen Vall%C3%A9e de Seine":MAILTO:contact.rouen@levillagebyca.com
END:VEVENT
BEGIN:VEVENT
DTSTART;TZID=Europe/Paris:20211014T100000
DTEND;TZID=Europe/Paris:20211014T120000
DTSTAMP:20260422T001205
CREATED:20201217T141652Z
LAST-MODIFIED:20201217T141652Z
UID:1037-1634205600-1634212800@rouen.levillagebyca.com
SUMMARY:Permanence Avocats
DESCRIPTION:Bénéficiez d’un suivi individuel avec l’un de nos experts du domaine concerné lors des Permanences organisées au Village. \nDes avocats sont à votre disposition pour vous conseiller\, relire des documents et vous aiguiller sur l’aspect juridique de vos projets.
URL:https://rouen.levillagebyca.com/evenement/permanence-avocats-4/
LOCATION:Village by CA Rouen Vallée de Seine
CATEGORIES:Permanence
ATTACH;FMTTYPE=image/jpeg:https://rouen.levillagebyca.com/wp-content/uploads/2020/04/SEINE.jpg
ORGANIZER;CN="Le Village by CA Rouen Vall%C3%A9e de Seine":MAILTO:contact.rouen@levillagebyca.com
END:VEVENT
BEGIN:VEVENT
DTSTART;TZID=Europe/Paris:20211019T100000
DTEND;TZID=Europe/Paris:20211019T120000
DTSTAMP:20260422T001205
CREATED:20201217T142037Z
LAST-MODIFIED:20201217T142037Z
UID:1041-1634637600-1634644800@rouen.levillagebyca.com
SUMMARY:Permanence Banque
DESCRIPTION:Bénéficiez d’un suivi individuel avec l’un de nos experts du domaine concerné lors des Permanences organisées au Village. \nÉchangez sur vos besoins de trésorerie et d’investissement avec un expert du Crédit Agricole pour bien préparer le financement de votre développement.
URL:https://rouen.levillagebyca.com/evenement/permanence-banque-8/
LOCATION:Village by CA Rouen Vallée de Seine
CATEGORIES:Permanence
ATTACH;FMTTYPE=image/jpeg:https://rouen.levillagebyca.com/wp-content/uploads/2020/04/SEINE.jpg
ORGANIZER;CN="Le Village by CA Rouen Vall%C3%A9e de Seine":MAILTO:contact.rouen@levillagebyca.com
END:VEVENT
BEGIN:VEVENT
DTSTART;TZID=Europe/Paris:20211021T100000
DTEND;TZID=Europe/Paris:20211021T120000
DTSTAMP:20260422T001205
CREATED:20201217T142144Z
LAST-MODIFIED:20201217T142144Z
UID:1043-1634810400-1634817600@rouen.levillagebyca.com
SUMMARY:Permanence Mutuelle
DESCRIPTION:Bénéficiez d’un suivi individuel avec l’un de nos experts du domaine concerné lors des Permanences organisées au Village.
URL:https://rouen.levillagebyca.com/evenement/permanence-mutuelle-4/
LOCATION:Village by CA Rouen Vallée de Seine
CATEGORIES:Permanence
ATTACH;FMTTYPE=image/jpeg:https://rouen.levillagebyca.com/wp-content/uploads/2020/04/SEINE.jpg
ORGANIZER;CN="Le Village by CA Rouen Vall%C3%A9e de Seine":MAILTO:contact.rouen@levillagebyca.com
END:VEVENT
BEGIN:VEVENT
DTSTART;TZID=Europe/Paris:20211021T140000
DTEND;TZID=Europe/Paris:20211021T160000
DTSTAMP:20260422T001205
CREATED:20201217T141925Z
LAST-MODIFIED:20210909T094130Z
UID:1039-1634824800-1634832000@rouen.levillagebyca.com
SUMMARY:Atelier "Droit de la propriété intellectuelle" animé par l'INPI
DESCRIPTION:De nombreux ateliers rythment la vie du Village autour de thématiques très diverses : Co- création/expérimentation\, développement de nouveaux produits\, conquête de nouveaux marches\, structuration… Ces ateliers\, proposés par nos partenaires ou des experts du domaine concerné\, sont ouverts à tous sur inscription\, dans la limite des places disponibles.
URL:https://rouen.levillagebyca.com/evenement/atelier-connaitre-ses-bases-juridiques-et-sociales/
LOCATION:Village by CA Rouen Vallée de Seine
CATEGORIES:Atelier
ATTACH;FMTTYPE=image/jpeg:https://rouen.levillagebyca.com/wp-content/uploads/2020/10/PART_1601987817050.jpeg
ORGANIZER;CN="Le Village by CA Rouen Vall%C3%A9e de Seine":MAILTO:contact.rouen@levillagebyca.com
END:VEVENT
BEGIN:VEVENT
DTSTART;TZID=Europe/Paris:20211021T173000
DTEND;TZID=Europe/Paris:20211021T203000
DTSTAMP:20260422T001205
CREATED:20210909T094359Z
LAST-MODIFIED:20211004T142048Z
UID:2070-1634837400-1634848200@rouen.levillagebyca.com
SUMMARY:Conférence Inspirante
DESCRIPTION:  \n\nLes Conférences Inspirantes sont de retour au Village !\n\n\nCrédit Agricole Normandie-Seine et le Village by CA Rouen Vallée de Seine ont le plaisir de vous inviter à une conférence inspirante d’exception avec les participations de Google\, Transdev Normandie et la start-up Cleyrop.\n\n\n\n  \n–\nUne conférence pour se projeter vers la Ville du futur\, optimiste et inspirante !\n –\n  \n\nDe quelle manière l’émergence des technologies peut répondre aux enjeux cruciaux de la société et de l’environnement ? Quelles solutions les entreprises et acteurs publics d’aujourd’hui peuvent-ils apporter à la construction de la Ville intelligente de demain ?\n  \n\nMobilité\, Big Data\, Intelligence Artificielle\, Objets Connectés\, Autonomie…\nBenjamin Rambour\, Frédéric Saffroy et Arnaud Muller auront le plaisir de nous partager leur vision en la matière et nous présenter des actions concrètes.\n\n\n  \n—\nÉvénement sur inscription et présentation obligatoire d’un pass sanitaire valide le jour de l’événement.
URL:https://rouen.levillagebyca.com/evenement/conference-inspirante/
LOCATION:Village by CA Rouen Vallée de Seine
ATTACH;FMTTYPE=image/jpeg:https://rouen.levillagebyca.com/wp-content/uploads/2021/09/banniere-emailing.jpg
END:VEVENT
BEGIN:VEVENT
DTSTART;TZID=Europe/Paris:20211022T100000
DTEND;TZID=Europe/Paris:20211022T120000
DTSTAMP:20260422T001205
CREATED:20201217T142240Z
LAST-MODIFIED:20210909T094237Z
UID:1045-1634896800-1634904000@rouen.levillagebyca.com
SUMMARY:Permanence Pôle TES
DESCRIPTION:Bénéficiez d’un suivi individuel avec l’un de nos experts du domaine concerné lors des Permanences organisées au Village. \nVous pouvez faire le point sur vos dossiers de financement auprès de BPI France\, partenaire incontournable des jeunes entreprises innovantes et plus encore lors d’une levée de fonds ou d’un projet de R&D.
URL:https://rouen.levillagebyca.com/evenement/permanence-bpi-5/
LOCATION:Village by CA Rouen Vallée de Seine
CATEGORIES:Permanence
ATTACH;FMTTYPE=image/jpeg:https://rouen.levillagebyca.com/wp-content/uploads/2020/04/SEINE.jpg
ORGANIZER;CN="Le Village by CA Rouen Vall%C3%A9e de Seine":MAILTO:contact.rouen@levillagebyca.com
END:VEVENT
BEGIN:VEVENT
DTSTART;TZID=Europe/Paris:20211026T140000
DTEND;TZID=Europe/Paris:20211026T160000
DTSTAMP:20260422T001205
CREATED:20201217T113059Z
LAST-MODIFIED:20201217T114031Z
UID:956-1635256800-1635264000@rouen.levillagebyca.com
SUMMARY:Webinar International Australie & Nouvelle Zélande
DESCRIPTION:Organisé par Le Réseau des Villages de CA\, sur l’initiative et la collaboration du Village de CA Des Savoie \nNous invitons des experts à venir témoigner sur : \n– la situation économique du pays ou de la zone \n– l’accompagnement prévu pour les start-ups dans ces pays en terme d’initiatives publiques ou privées \n– un retour d’expérience sur le développement international de start-ups précédemment accompagnés par ces experts sur le terrain
URL:https://rouen.levillagebyca.com/evenement/webinar-international-australie-nouvelle-zelande/
LOCATION:100% Digital
ATTACH;FMTTYPE=image/png:https://rouen.levillagebyca.com/wp-content/uploads/2020/12/10.png
END:VEVENT
BEGIN:VEVENT
DTSTART;TZID=Europe/Paris:20211028T100000
DTEND;TZID=Europe/Paris:20211028T120000
DTSTAMP:20260422T001205
CREATED:20201217T142832Z
LAST-MODIFIED:20201217T142832Z
UID:1051-1635415200-1635422400@rouen.levillagebyca.com
SUMMARY:Permanence NCI
DESCRIPTION:Bénéficiez d’un suivi individuel avec l’un de nos experts du domaine concerné lors des Permanences organisées au Village.
URL:https://rouen.levillagebyca.com/evenement/permanence-nci-4/
LOCATION:Village by CA Rouen Vallée de Seine
CATEGORIES:Permanence
ATTACH;FMTTYPE=image/jpeg:https://rouen.levillagebyca.com/wp-content/uploads/2020/04/SEINE.jpg
ORGANIZER;CN="Le Village by CA Rouen Vall%C3%A9e de Seine":MAILTO:contact.rouen@levillagebyca.com
END:VEVENT
END:VCALENDAR