BEGIN:VCALENDAR
VERSION:2.0
PRODID:-//Le Village by CA Rouen Vallée de Seine - ECPv6.15.18//NONSGML v1.0//EN
CALSCALE:GREGORIAN
METHOD:PUBLISH
X-ORIGINAL-URL:https://rouen.levillagebyca.com
X-WR-CALDESC:Évènements pour Le Village by CA Rouen Vallée de Seine
REFRESH-INTERVAL;VALUE=DURATION:PT1H
X-Robots-Tag:noindex
X-PUBLISHED-TTL:PT1H
BEGIN:VTIMEZONE
TZID:Europe/Paris
BEGIN:DAYLIGHT
TZOFFSETFROM:+0100
TZOFFSETTO:+0200
TZNAME:CEST
DTSTART:20210328T010000
END:DAYLIGHT
BEGIN:STANDARD
TZOFFSETFROM:+0200
TZOFFSETTO:+0100
TZNAME:CET
DTSTART:20211031T010000
END:STANDARD
BEGIN:DAYLIGHT
TZOFFSETFROM:+0100
TZOFFSETTO:+0200
TZNAME:CEST
DTSTART:20220327T010000
END:DAYLIGHT
BEGIN:STANDARD
TZOFFSETFROM:+0200
TZOFFSETTO:+0100
TZNAME:CET
DTSTART:20221030T010000
END:STANDARD
BEGIN:DAYLIGHT
TZOFFSETFROM:+0100
TZOFFSETTO:+0200
TZNAME:CEST
DTSTART:20230326T010000
END:DAYLIGHT
BEGIN:STANDARD
TZOFFSETFROM:+0200
TZOFFSETTO:+0100
TZNAME:CET
DTSTART:20231029T010000
END:STANDARD
END:VTIMEZONE
BEGIN:VEVENT
DTSTART;TZID=Europe/Paris:20220201T093000
DTEND;TZID=Europe/Paris:20220201T170000
DTSTAMP:20260421T181510
CREATED:20220104T144918Z
LAST-MODIFIED:20220126T124305Z
UID:2405-1643707800-1643734800@rouen.levillagebyca.com
SUMMARY:Board Éphémère Financier
DESCRIPTION:Écoutez\, challengez\, conseillez les jeunes entrepreneurs et valorisez les expertises de vos collaborateurs en les faisant participer à des sessions de coaching collectif et thématisé à destination des Start-Up. \nNous aurons 2 groupes de travail pour cette session : \n\nL’un tourné vers les financements/subventions avec Guillaume Picot BPI\, Chloé Baudry de l’ADNormandie et Fabrice HueChargé d’innovation au Crédit Agricole.\nL’autre groupe sera tourné vers l’investissement/les levée de fonds avec la présence de Sébastien Sacavin DAF de chez Lhotellier\, Cédric Ferey de Bras droit des dirigeants et Axel Lemarchand de Normandie Seine Participations.\n\n 
URL:https://rouen.levillagebyca.com/evenement/board-ephemere-financier-2/
LOCATION:Village by CA Rouen Vallée de Seine
CATEGORIES:Atelier
ORGANIZER;CN="Le Village by CA Rouen Vall%C3%A9e de Seine":MAILTO:contact.rouen@levillagebyca.com
END:VEVENT
BEGIN:VEVENT
DTSTART;TZID=Europe/Paris:20220202T100000
DTEND;TZID=Europe/Paris:20220202T120000
DTSTAMP:20260421T181510
CREATED:20220105T131247Z
LAST-MODIFIED:20220105T131253Z
UID:2416-1643796000-1643803200@rouen.levillagebyca.com
SUMMARY:Permanence Pôle Emploi
DESCRIPTION:Bénéficiez d’un suivi individuel avec l’un de nos experts du domaine concerné lors des Permanences organisées au Village.
URL:https://rouen.levillagebyca.com/evenement/permanence-pole-emploi-5/
LOCATION:Village by CA Rouen Vallée de Seine
CATEGORIES:Permanence
ORGANIZER;CN="Le Village by CA Rouen Vall%C3%A9e de Seine":MAILTO:contact.rouen@levillagebyca.com
END:VEVENT
BEGIN:VEVENT
DTSTART;TZID=Europe/Paris:20220203T100000
DTEND;TZID=Europe/Paris:20220203T120000
DTSTAMP:20260421T181510
CREATED:20220105T131806Z
LAST-MODIFIED:20220105T131839Z
UID:2418-1643882400-1643889600@rouen.levillagebyca.com
SUMMARY:Permanence INPI
DESCRIPTION:Bénéficiez d’un suivi individuel avec l’un de nos experts du domaine concerné lors des Permanences organisées au Village. \nUn expert de l’Institut National de la Propriété Industrielle est présent pour répondre à toutes vos interrogations concernant le dépôt et la protection de vos titres de propriété industrielle.
URL:https://rouen.levillagebyca.com/evenement/permanence-inpi-7/
LOCATION:Village by CA Rouen Vallée de Seine
CATEGORIES:Permanence
ORGANIZER;CN="Le Village by CA Rouen Vall%C3%A9e de Seine":MAILTO:contact.rouen@levillagebyca.com
END:VEVENT
BEGIN:VEVENT
DTSTART;TZID=Europe/Paris:20220203T140000
DTEND;TZID=Europe/Paris:20220203T163000
DTSTAMP:20260421T181510
CREATED:20220104T150402Z
LAST-MODIFIED:20220126T143235Z
UID:2407-1643896800-1643905800@rouen.levillagebyca.com
SUMMARY:Atelier "Story Telling" ou "Comment travailler son éloquence"
DESCRIPTION:Un atelier animé par Faïza Chaarani\, coach en communication. \nDe nombreux ateliers rythment la vie du Village autour de thématiques très diverses : Co- création/expérimentation\, développement de nouveaux produits\, conquête de nouveaux marches\, structuration… Ces ateliers\, proposés par nos partenaires ou des experts du domaine concerné\, sont ouverts à tous sur inscription\, dans la limite des places disponibles.
URL:https://rouen.levillagebyca.com/evenement/atelier-story-telling-ou-comment-travailler-son-eloquence/
LOCATION:Village by CA Rouen Vallée de Seine
CATEGORIES:Atelier
ORGANIZER;CN="Le Village by CA Rouen Vall%C3%A9e de Seine":MAILTO:contact.rouen@levillagebyca.com
END:VEVENT
BEGIN:VEVENT
DTSTART;TZID=Europe/Paris:20220204T090000
DTEND;TZID=Europe/Paris:20220204T103000
DTSTAMP:20260421T181510
CREATED:20220126T155105Z
LAST-MODIFIED:20220126T155105Z
UID:2857-1643965200-1643970600@rouen.levillagebyca.com
SUMMARY:Appel à candidatures - Visite du Village
DESCRIPTION:ASSISTEZ À LA PRÉSENTATION ET À LA VISITE DU VILLAGE BY CA EN COMPAGNIE DU MAIRE DU VILLAGE ET DU START-UP MANAGER. UN MOMENT POUR ÉCHANGER ET POSER TOUTES VOS QUESTIONS !\nEn présentiel ou à distance\, pour participer\, faites-nous parvenir votre nom\, prénom et nom de l’entreprise sur contact.rouen@levillagebyca.com.
URL:https://rouen.levillagebyca.com/evenement/appel-a-candidatures-visite-du-village/
LOCATION:Village by CA Rouen Vallée de Seine
CATEGORIES:Convivialité
ORGANIZER;CN="Le Village by CA Rouen Vall%C3%A9e de Seine":MAILTO:contact.rouen@levillagebyca.com
END:VEVENT
BEGIN:VEVENT
DTSTART;TZID=Europe/Paris:20220221T133000
DTEND;TZID=Europe/Paris:20220221T140000
DTSTAMP:20260421T181510
CREATED:20220106T101306Z
LAST-MODIFIED:20220106T101306Z
UID:2599-1645450200-1645452000@rouen.levillagebyca.com
SUMMARY:☕ Stand Up Café
DESCRIPTION:Une fois par mois\, échangez avec les autres Habitants autour d’un café\, pour vous tenir au courant des actualités des uns et des autres !
URL:https://rouen.levillagebyca.com/evenement/%e2%98%95-stand-up-cafe-2/
CATEGORIES:Convivialité
END:VEVENT
BEGIN:VEVENT
DTSTART;TZID=Europe/Paris:20220222T100000
DTEND;TZID=Europe/Paris:20220222T120000
DTSTAMP:20260421T181510
CREATED:20220105T141613Z
LAST-MODIFIED:20220105T141716Z
UID:2495-1645524000-1645531200@rouen.levillagebyca.com
SUMMARY:Permanence des Experts - Banque & Investissement
DESCRIPTION:Bénéficiez d’un suivi individuel avec l’un de nos experts du domaine concerné lors des Permanences organisées au Village. \nÉchangez sur vos besoins de trésorerie et d’investissement avec un expert pour bien préparer le financement de votre développement.
URL:https://rouen.levillagebyca.com/evenement/permanence-des-experts-banque-investissement-2/
LOCATION:Village by CA Rouen Vallée de Seine
CATEGORIES:Permanence
ORGANIZER;CN="Le Village by CA Rouen Vall%C3%A9e de Seine":MAILTO:contact.rouen@levillagebyca.com
END:VEVENT
BEGIN:VEVENT
DTSTART;TZID=Europe/Paris:20220223T100000
DTEND;TZID=Europe/Paris:20220223T120000
DTSTAMP:20260421T181510
CREATED:20220106T090442Z
LAST-MODIFIED:20220106T090442Z
UID:2543-1645610400-1645617600@rouen.levillagebyca.com
SUMMARY:Permanence Comptabilité
DESCRIPTION:Bénéficiez d’un suivi individuel avec l’un de nos experts du domaine concerné lors des Permanences organisées au Village. \nNos experts-comptables sont là pour vous éclairer sur votre comptabilité et ainsi vous conseiller sur la bonne gestion de vos comptes.
URL:https://rouen.levillagebyca.com/evenement/permanence-comptabilite-5/
LOCATION:Village by CA Rouen Vallée de Seine
CATEGORIES:Permanence
ATTACH;FMTTYPE=image/jpeg:https://rouen.levillagebyca.com/wp-content/uploads/2020/04/SEINE.jpg
ORGANIZER;CN="Le Village by CA Rouen Vall%C3%A9e de Seine":MAILTO:contact.rouen@levillagebyca.com
END:VEVENT
BEGIN:VEVENT
DTSTART;TZID=Europe/Paris:20220224T100000
DTEND;TZID=Europe/Paris:20220224T120000
DTSTAMP:20260421T181510
CREATED:20220106T084443Z
LAST-MODIFIED:20220125T135321Z
UID:2515-1645696800-1645704000@rouen.levillagebyca.com
SUMMARY:Permanence des Experts - International
DESCRIPTION:Vous souhaitez vous renseigner sur vos perspectives de business hors Union Européenne ? Être accompagné sur vos démarches de développement d’affaires à l’international ? \nRendez-vous entre 10h et 12h sur la Place du Village pour la Permanence Internationale du Crédit Agricole 
URL:https://rouen.levillagebyca.com/evenement/permanence-des-experts-international-mutuelle-2/
LOCATION:Village by CA Rouen Vallée de Seine
CATEGORIES:Permanence
ORGANIZER;CN="Le Village by CA Rouen Vall%C3%A9e de Seine":MAILTO:contact.rouen@levillagebyca.com
END:VEVENT
BEGIN:VEVENT
DTSTART;TZID=Europe/Paris:20220225T100000
DTEND;TZID=Europe/Paris:20220225T120000
DTSTAMP:20260421T181510
CREATED:20220106T092303Z
LAST-MODIFIED:20220106T092303Z
UID:2563-1645783200-1645790400@rouen.levillagebyca.com
SUMMARY:Permanence AD Normandie
DESCRIPTION:Bénéficiez d’un suivi individuel avec l’un de nos experts du domaine concerné lors des Permanences organisées au Village.
URL:https://rouen.levillagebyca.com/evenement/permanence-ad-normandie-7/
LOCATION:Village by CA Rouen Vallée de Seine
CATEGORIES:Permanence
ATTACH;FMTTYPE=image/jpeg:https://rouen.levillagebyca.com/wp-content/uploads/2020/04/SEINE.jpg
ORGANIZER;CN="Le Village by CA Rouen Vall%C3%A9e de Seine":MAILTO:contact.rouen@levillagebyca.com
END:VEVENT
BEGIN:VEVENT
DTSTART;TZID=Europe/Paris:20220225T120000
DTEND;TZID=Europe/Paris:20220225T133000
DTSTAMP:20260421T181510
CREATED:20220106T100335Z
LAST-MODIFIED:20220126T141726Z
UID:2583-1645790400-1645795800@rouen.levillagebyca.com
SUMMARY:Colunch Février
DESCRIPTION:Une fois par mois lors de la pause déjeuner\, venez échanger avec les autres Habitants sur vos problématiques et ainsi partager vos bonnes pratiques et contacts !
URL:https://rouen.levillagebyca.com/evenement/colunch-fevrier-2/
LOCATION:Village by CA Rouen Vallée de Seine
CATEGORIES:Convivialité
ATTACH;FMTTYPE=image/jpeg:https://rouen.levillagebyca.com/wp-content/uploads/2020/10/EhD61AJXYAIslCJ.jpeg
ORGANIZER;CN="Le Village by CA Rouen Vall%C3%A9e de Seine":MAILTO:contact.rouen@levillagebyca.com
END:VEVENT
END:VCALENDAR