BEGIN:VCALENDAR
VERSION:2.0
PRODID:-//Le Village by CA Rouen Vallée de Seine - ECPv6.15.18//NONSGML v1.0//EN
CALSCALE:GREGORIAN
METHOD:PUBLISH
X-ORIGINAL-URL:https://rouen.levillagebyca.com
X-WR-CALDESC:Évènements pour Le Village by CA Rouen Vallée de Seine
REFRESH-INTERVAL;VALUE=DURATION:PT1H
X-Robots-Tag:noindex
X-PUBLISHED-TTL:PT1H
BEGIN:VTIMEZONE
TZID:Europe/Paris
BEGIN:DAYLIGHT
TZOFFSETFROM:+0100
TZOFFSETTO:+0200
TZNAME:CEST
DTSTART:20210328T010000
END:DAYLIGHT
BEGIN:STANDARD
TZOFFSETFROM:+0200
TZOFFSETTO:+0100
TZNAME:CET
DTSTART:20211031T010000
END:STANDARD
BEGIN:DAYLIGHT
TZOFFSETFROM:+0100
TZOFFSETTO:+0200
TZNAME:CEST
DTSTART:20220327T010000
END:DAYLIGHT
BEGIN:STANDARD
TZOFFSETFROM:+0200
TZOFFSETTO:+0100
TZNAME:CET
DTSTART:20221030T010000
END:STANDARD
BEGIN:DAYLIGHT
TZOFFSETFROM:+0100
TZOFFSETTO:+0200
TZNAME:CEST
DTSTART:20230326T010000
END:DAYLIGHT
BEGIN:STANDARD
TZOFFSETFROM:+0200
TZOFFSETTO:+0100
TZNAME:CET
DTSTART:20231029T010000
END:STANDARD
END:VTIMEZONE
BEGIN:VEVENT
DTSTART;TZID=Europe/Paris:20220404T133000
DTEND;TZID=Europe/Paris:20220404T140000
DTSTAMP:20260421T150031
CREATED:20220106T101511Z
LAST-MODIFIED:20220106T101511Z
UID:2603-1649079000-1649080800@rouen.levillagebyca.com
SUMMARY:☕ Stand Up Café
DESCRIPTION:Une fois par mois\, échangez avec les autres Habitants autour d’un café\, pour vous tenir au courant des actualités des uns et des autres !
URL:https://rouen.levillagebyca.com/evenement/%e2%98%95-stand-up-cafe-4/
CATEGORIES:Convivialité
END:VEVENT
BEGIN:VEVENT
DTSTART;TZID=Europe/Paris:20220405T100000
DTEND;TZID=Europe/Paris:20220405T120000
DTSTAMP:20260421T150031
CREATED:20220105T132117Z
LAST-MODIFIED:20220105T132117Z
UID:2420-1649152800-1649160000@rouen.levillagebyca.com
SUMMARY:Permanence INPI
DESCRIPTION:Bénéficiez d’un suivi individuel avec l’un de nos experts du domaine concerné lors des Permanences organisées au Village. \nUn expert de l’Institut National de la Propriété Industrielle est présent pour répondre à toutes vos interrogations concernant le dépôt et la protection de vos titres de propriété industrielle.
URL:https://rouen.levillagebyca.com/evenement/permanence-inpi-8/
LOCATION:Village by CA Rouen Vallée de Seine
CATEGORIES:Permanence
ORGANIZER;CN="Le Village by CA Rouen Vall%C3%A9e de Seine":MAILTO:contact.rouen@levillagebyca.com
END:VEVENT
BEGIN:VEVENT
DTSTART;TZID=Europe/Paris:20220405T140000
DTEND;TZID=Europe/Paris:20220405T173000
DTSTAMP:20260421T150031
CREATED:20220106T102446Z
LAST-MODIFIED:20220106T102446Z
UID:2617-1649167200-1649179800@rouen.levillagebyca.com
SUMMARY:Board Éphémère DEVCO
DESCRIPTION:Écoutez\, challengez\, conseillez les jeunes entrepreneurs et valorisez les expertises de vos collaborateurs en les faisant participer à des sessions de coaching collectif et thématisé à destination des Start-Up.
URL:https://rouen.levillagebyca.com/evenement/board-ephemere-devco/
LOCATION:Village by CA Rouen Vallée de Seine
CATEGORIES:Atelier
ORGANIZER;CN="Le Village by CA Rouen Vall%C3%A9e de Seine":MAILTO:contact.rouen@levillagebyca.com
END:VEVENT
BEGIN:VEVENT
DTSTART;TZID=Europe/Paris:20220406T100000
DTEND;TZID=Europe/Paris:20220406T120000
DTSTAMP:20260421T150031
CREATED:20220105T132638Z
LAST-MODIFIED:20220105T132638Z
UID:2428-1649239200-1649246400@rouen.levillagebyca.com
SUMMARY:Permanence Pôle Emploi
DESCRIPTION:Bénéficiez d’un suivi individuel avec l’un de nos experts du domaine concerné lors des Permanences organisées au Village.
URL:https://rouen.levillagebyca.com/evenement/permanence-pole-emploi-6/
LOCATION:Village by CA Rouen Vallée de Seine
CATEGORIES:Permanence
ORGANIZER;CN="Le Village by CA Rouen Vall%C3%A9e de Seine":MAILTO:contact.rouen@levillagebyca.com
END:VEVENT
BEGIN:VEVENT
DTSTART;TZID=Europe/Paris:20220407T100000
DTEND;TZID=Europe/Paris:20220407T120000
DTSTAMP:20260421T150031
CREATED:20220106T090549Z
LAST-MODIFIED:20220106T090549Z
UID:2545-1649325600-1649332800@rouen.levillagebyca.com
SUMMARY:Permanence Comptabilité
DESCRIPTION:Bénéficiez d’un suivi individuel avec l’un de nos experts du domaine concerné lors des Permanences organisées au Village. \nNos experts-comptables sont là pour vous éclairer sur votre comptabilité et ainsi vous conseiller sur la bonne gestion de vos comptes.
URL:https://rouen.levillagebyca.com/evenement/permanence-comptabilite-6/
LOCATION:Village by CA Rouen Vallée de Seine
CATEGORIES:Permanence
ATTACH;FMTTYPE=image/jpeg:https://rouen.levillagebyca.com/wp-content/uploads/2020/04/SEINE.jpg
ORGANIZER;CN="Le Village by CA Rouen Vall%C3%A9e de Seine":MAILTO:contact.rouen@levillagebyca.com
END:VEVENT
BEGIN:VEVENT
DTSTART;TZID=Europe/Paris:20220426T100000
DTEND;TZID=Europe/Paris:20220426T120000
DTSTAMP:20260421T150031
CREATED:20220105T141907Z
LAST-MODIFIED:20220105T141907Z
UID:2499-1650967200-1650974400@rouen.levillagebyca.com
SUMMARY:Permanence des Experts - Banque & Investissement
DESCRIPTION:Bénéficiez d’un suivi individuel avec l’un de nos experts du domaine concerné lors des Permanences organisées au Village. \nÉchangez sur vos besoins de trésorerie et d’investissement avec un expert pour bien préparer le financement de votre développement.
URL:https://rouen.levillagebyca.com/evenement/permanence-des-experts-banque-investissement-4/
LOCATION:Village by CA Rouen Vallée de Seine
CATEGORIES:Permanence
ORGANIZER;CN="Le Village by CA Rouen Vall%C3%A9e de Seine":MAILTO:contact.rouen@levillagebyca.com
END:VEVENT
BEGIN:VEVENT
DTSTART;TZID=Europe/Paris:20220426T140000
DTEND;TZID=Europe/Paris:20220426T170000
DTSTAMP:20260421T150031
CREATED:20220324T090921Z
LAST-MODIFIED:20220324T090921Z
UID:3587-1650981600-1650992400@rouen.levillagebyca.com
SUMMARY:Atelier Presse et Communication
DESCRIPTION:De nombreux ateliers rythment la vie du Village autour de thématiques très diverses : Co- création/expérimentation\, développement de nouveaux produits\, conquête de nouveaux marches\, structuration… Ces ateliers\, proposés par nos partenaires ou des experts du domaine concerné\, sont ouverts à tous sur inscription\, dans la limite des places disponibles. \n— \nAtelier animé par Solène Mauro\, Directrice & Attachée de presse chez Impulse Communication \nVenez échanger et vous questionner sur votre plan communication avec l’appui d’un expert\, sur inscription.
URL:https://rouen.levillagebyca.com/evenement/atelier-presse-et-communication/
LOCATION:Village by CA Rouen Vallée de Seine
CATEGORIES:Atelier
ATTACH;FMTTYPE=image/jpeg:https://rouen.levillagebyca.com/wp-content/uploads/2020/10/Eh9e5paXkAEjaM7-scaled.jpeg
ORGANIZER;CN="Le Village by CA Rouen Vall%C3%A9e de Seine":MAILTO:contact.rouen@levillagebyca.com
END:VEVENT
BEGIN:VEVENT
DTSTART;TZID=Europe/Paris:20220428T100000
DTEND;TZID=Europe/Paris:20220428T120000
DTSTAMP:20260421T150031
CREATED:20220106T084705Z
LAST-MODIFIED:20220106T084705Z
UID:2519-1651140000-1651147200@rouen.levillagebyca.com
SUMMARY:Permanence des Experts - International / Mutuelle
DESCRIPTION:Vous souhaitez vous renseigner sur vos perspectives de business hors Union Européenne ? Être accompagné sur vos démarches de développement d’affaires à l’international ? \nRendez-vous entre 10h et 12h sur la Place du Village pour la Permanence Internationale du Crédit Agricole 
URL:https://rouen.levillagebyca.com/evenement/permanence-des-experts-international-mutuelle-4/
LOCATION:Village by CA Rouen Vallée de Seine
CATEGORIES:Permanence
ORGANIZER;CN="Le Village by CA Rouen Vall%C3%A9e de Seine":MAILTO:contact.rouen@levillagebyca.com
END:VEVENT
BEGIN:VEVENT
DTSTART;TZID=Europe/Paris:20220429T100000
DTEND;TZID=Europe/Paris:20220429T120000
DTSTAMP:20260421T150031
CREATED:20220106T092402Z
LAST-MODIFIED:20220106T092402Z
UID:2565-1651226400-1651233600@rouen.levillagebyca.com
SUMMARY:Permanence AD Normandie
DESCRIPTION:Bénéficiez d’un suivi individuel avec l’un de nos experts du domaine concerné lors des Permanences organisées au Village.
URL:https://rouen.levillagebyca.com/evenement/permanence-ad-normandie-8/
LOCATION:Village by CA Rouen Vallée de Seine
CATEGORIES:Permanence
ATTACH;FMTTYPE=image/jpeg:https://rouen.levillagebyca.com/wp-content/uploads/2020/04/SEINE.jpg
ORGANIZER;CN="Le Village by CA Rouen Vall%C3%A9e de Seine":MAILTO:contact.rouen@levillagebyca.com
END:VEVENT
END:VCALENDAR