BEGIN:VCALENDAR
VERSION:2.0
PRODID:-//Le Village by CA Rouen Vallée de Seine - ECPv6.15.18//NONSGML v1.0//EN
CALSCALE:GREGORIAN
METHOD:PUBLISH
X-ORIGINAL-URL:https://rouen.levillagebyca.com
X-WR-CALDESC:Évènements pour Le Village by CA Rouen Vallée de Seine
REFRESH-INTERVAL;VALUE=DURATION:PT1H
X-Robots-Tag:noindex
X-PUBLISHED-TTL:PT1H
BEGIN:VTIMEZONE
TZID:Europe/Paris
BEGIN:DAYLIGHT
TZOFFSETFROM:+0100
TZOFFSETTO:+0200
TZNAME:CEST
DTSTART:20210328T010000
END:DAYLIGHT
BEGIN:STANDARD
TZOFFSETFROM:+0200
TZOFFSETTO:+0100
TZNAME:CET
DTSTART:20211031T010000
END:STANDARD
BEGIN:DAYLIGHT
TZOFFSETFROM:+0100
TZOFFSETTO:+0200
TZNAME:CEST
DTSTART:20220327T010000
END:DAYLIGHT
BEGIN:STANDARD
TZOFFSETFROM:+0200
TZOFFSETTO:+0100
TZNAME:CET
DTSTART:20221030T010000
END:STANDARD
BEGIN:DAYLIGHT
TZOFFSETFROM:+0100
TZOFFSETTO:+0200
TZNAME:CEST
DTSTART:20230326T010000
END:DAYLIGHT
BEGIN:STANDARD
TZOFFSETFROM:+0200
TZOFFSETTO:+0100
TZNAME:CET
DTSTART:20231029T010000
END:STANDARD
END:VTIMEZONE
BEGIN:VEVENT
DTSTART;TZID=Europe/Paris:20220602T100000
DTEND;TZID=Europe/Paris:20220602T120000
DTSTAMP:20260421T120452
CREATED:20220105T132226Z
LAST-MODIFIED:20220105T132241Z
UID:2422-1654164000-1654171200@rouen.levillagebyca.com
SUMMARY:Permanence INPI
DESCRIPTION:Bénéficiez d’un suivi individuel avec l’un de nos experts du domaine concerné lors des Permanences organisées au Village. \nUn expert de l’Institut National de la Propriété Industrielle est présent pour répondre à toutes vos interrogations concernant le dépôt et la protection de vos titres de propriété industrielle.
URL:https://rouen.levillagebyca.com/evenement/permanence-inpi-9/
LOCATION:Village by CA Rouen Vallée de Seine
CATEGORIES:Permanence
ORGANIZER;CN="Le Village by CA Rouen Vall%C3%A9e de Seine":MAILTO:contact.rouen@levillagebyca.com
END:VEVENT
BEGIN:VEVENT
DTSTART;TZID=Europe/Paris:20220602T140000
DTEND;TZID=Europe/Paris:20220602T163000
DTSTAMP:20260421T120452
CREATED:20220330T100802Z
LAST-MODIFIED:20220330T101046Z
UID:3593-1654178400-1654187400@rouen.levillagebyca.com
SUMMARY:Atelier « Positionnement de l’entreprise et travail autour de la proposition de valeur »
DESCRIPTION:De nombreux ateliers rythment la vie du Village autour de thématiques très diverses : Co- création/expérimentation\, développement de nouveaux produits\, conquête de nouveaux marches\, structuration… Ces ateliers\, proposés par nos partenaires ou des experts du domaine concerné\, sont ouverts à tous sur inscription\, dans la limite des places disponibles. \n— \nAtelier animé par Nicolas BREQUIGNY\, CMO chez AIRENC et Fondateur de SUMATO \nVenez échanger et vous questionner sur votre plan communication avec l’appui d’un expert\, sur inscription.
URL:https://rouen.levillagebyca.com/evenement/atelier-positionnement-de-lentreprise-et-travail-autour-de-la-proposition-de-valeur/
LOCATION:Village by CA Rouen Vallée de Seine
CATEGORIES:Atelier
ATTACH;FMTTYPE=image/jpeg:https://rouen.levillagebyca.com/wp-content/uploads/2020/10/Eh9e5paXkAEjaM7-scaled.jpeg
ORGANIZER;CN="Le Village by CA Rouen Vall%C3%A9e de Seine":MAILTO:contact.rouen@levillagebyca.com
END:VEVENT
BEGIN:VEVENT
DTSTART;TZID=Europe/Paris:20220603T090000
DTEND;TZID=Europe/Paris:20220603T100000
DTSTAMP:20260421T120452
CREATED:20220503T140012Z
LAST-MODIFIED:20220523T134358Z
UID:3792-1654246800-1654250400@rouen.levillagebyca.com
SUMMARY:Petit-déjeuner/Visite - Appel à candidature
DESCRIPTION:[☕ 🥐 VISITE/PRÉSENTATION DU VILLAGE] \n👀 Dans le cadre de notre nouvel appel à candidature\, venez découvrir le Village by CA Rouen et son programme d’accompagnement le 4 novembre prochain autour d’un café ! \nUne occasion également pour rencontrer et échanger avec les #startup accélérées. 😉
URL:https://rouen.levillagebyca.com/evenement/petit-dejeuner-visite-appel-a-candidature-2/
LOCATION:Village by CA Rouen Vallée de Seine
CATEGORIES:Convivialité
ORGANIZER;CN="Le Village by CA Rouen Vall%C3%A9e de Seine":MAILTO:contact.rouen@levillagebyca.com
END:VEVENT
BEGIN:VEVENT
DTSTART;TZID=Europe/Paris:20220603T120000
DTEND;TZID=Europe/Paris:20220603T133000
DTSTAMP:20260421T120452
CREATED:20220106T100627Z
LAST-MODIFIED:20220106T100627Z
UID:2589-1654257600-1654263000@rouen.levillagebyca.com
SUMMARY:Colunch Juin
DESCRIPTION:Une fois par mois lors de la pause déjeuner\, venez échanger avec les autres Habitants sur vos problématiques et ainsi partager vos bonnes pratiques et contacts !
URL:https://rouen.levillagebyca.com/evenement/colunch-juin-2/
LOCATION:Village by CA Rouen Vallée de Seine
CATEGORIES:Convivialité
ATTACH;FMTTYPE=image/jpeg:https://rouen.levillagebyca.com/wp-content/uploads/2020/10/EhD61AJXYAIslCJ.jpeg
ORGANIZER;CN="Le Village by CA Rouen Vall%C3%A9e de Seine":MAILTO:contact.rouen@levillagebyca.com
END:VEVENT
BEGIN:VEVENT
DTSTART;TZID=Europe/Paris:20220607T100000
DTEND;TZID=Europe/Paris:20220607T120000
DTSTAMP:20260421T120452
CREATED:20220525T083106Z
LAST-MODIFIED:20220525T083106Z
UID:3979-1654596000-1654603200@rouen.levillagebyca.com
SUMMARY:Club Meeting Presse
DESCRIPTION:De nombreux ateliers rythment la vie du Village autour de thématiques très diverses : Co- création/expérimentation\, développement de nouveaux produits\, conquête de nouveaux marches\, structuration… Ces ateliers\, proposés par nos partenaires ou des experts du domaine concerné\, sont ouverts à tous sur inscription\, dans la limite des places disponibles. \n— \nVenez échanger et vous questionner sur votre plan communication avec l’appui d’un expert\, sur inscription.
URL:https://rouen.levillagebyca.com/evenement/club-meeting-presse/
LOCATION:Village by CA Rouen Vallée de Seine
CATEGORIES:Atelier
ORGANIZER;CN="Le Village by CA Rouen Vall%C3%A9e de Seine":MAILTO:contact.rouen@levillagebyca.com
END:VEVENT
BEGIN:VEVENT
DTSTART;TZID=Europe/Paris:20220607T140000
DTEND;TZID=Europe/Paris:20220607T173000
DTSTAMP:20260421T120452
CREATED:20220525T083645Z
LAST-MODIFIED:20220525T083645Z
UID:3981-1654610400-1654623000@rouen.levillagebyca.com
SUMMARY:Board Éphémère Développement à l’International
DESCRIPTION:Écoutez\, challengez\, conseillez les jeunes entrepreneurs et valorisez les expertises de vos collaborateurs en les faisant participer à des sessions de coaching collectif et thématisé à destination des Start-Up.
URL:https://rouen.levillagebyca.com/evenement/board-ephemere-developpement-a-linternational/
LOCATION:Village by CA Rouen Vallée de Seine
CATEGORIES:Atelier
ORGANIZER;CN="Le Village by CA Rouen Vall%C3%A9e de Seine":MAILTO:contact.rouen@levillagebyca.com
END:VEVENT
BEGIN:VEVENT
DTSTART;TZID=Europe/Paris:20220608T100000
DTEND;TZID=Europe/Paris:20220608T120000
DTSTAMP:20260421T120452
CREATED:20220525T084018Z
LAST-MODIFIED:20220525T084018Z
UID:3983-1654682400-1654689600@rouen.levillagebyca.com
SUMMARY:Permanence des Experts - Avocats
DESCRIPTION:Bénéficiez d’un suivi individuel avec l’un de nos experts du domaine concerné lors des Permanences organisées au Village. \nDes avocats sont à votre disposition pour vous conseiller\, relire des documents et vous aiguiller sur l’aspect juridique de vos projets. \nRendez-vous sur La Place du Village !
URL:https://rouen.levillagebyca.com/evenement/permanence-des-experts-avocats-6/
LOCATION:Village by CA Rouen Vallée de Seine
CATEGORIES:Permanence
ORGANIZER;CN="Le Village by CA Rouen Vall%C3%A9e de Seine":MAILTO:contact.rouen@levillagebyca.com
END:VEVENT
BEGIN:VEVENT
DTSTART;TZID=Europe/Paris:20220609T100000
DTEND;TZID=Europe/Paris:20220609T120000
DTSTAMP:20260421T120452
CREATED:20220106T090640Z
LAST-MODIFIED:20220106T090640Z
UID:2547-1654768800-1654776000@rouen.levillagebyca.com
SUMMARY:Permanence Comptabilité
DESCRIPTION:Bénéficiez d’un suivi individuel avec l’un de nos experts du domaine concerné lors des Permanences organisées au Village. \nNos experts-comptables sont là pour vous éclairer sur votre comptabilité et ainsi vous conseiller sur la bonne gestion de vos comptes.
URL:https://rouen.levillagebyca.com/evenement/permanence-comptabilite-7/
LOCATION:Village by CA Rouen Vallée de Seine
CATEGORIES:Permanence
ATTACH;FMTTYPE=image/jpeg:https://rouen.levillagebyca.com/wp-content/uploads/2020/04/SEINE.jpg
ORGANIZER;CN="Le Village by CA Rouen Vall%C3%A9e de Seine":MAILTO:contact.rouen@levillagebyca.com
END:VEVENT
BEGIN:VEVENT
DTSTART;TZID=Europe/Paris:20220610T090000
DTEND;TZID=Europe/Paris:20220610T170000
DTSTAMP:20260421T120452
CREATED:20220602T081150Z
LAST-MODIFIED:20220602T082620Z
UID:4050-1654851600-1654880400@rouen.levillagebyca.com
SUMMARY:Business Connect Levées à l'Ouest
DESCRIPTION:Une journée d’échange entre investisseurs et startups du Réseau des Villages by CA de l’Ouest en phase de levée de fonds. \nObjectif : Le réseau des Villages by CA de l’Ouest organise cet événement afin de favoriser les rencontres entre investisseurs et startups du réseau des Villages. \nLe format : des speed-meetings de 15 minutes organisés selon vos demandes de rendez-vous réalisées en amont. \nStartups et investisseurs : vous avez jusqu’au 3 juin 2022 pour vous inscrire. \nDu 04 au 08 juin 2022\, vous choisirez les participants que vous souhaitez rencontrer parmi ceux inscrits.\nVous aurez accès à votre planning personnalisé dès le 09 juin. \nNous vous attendons le 10 juin sur la plateforme pour une journée de rencontres digitales en BtoB. \nToute l’organisation en amont de l’évènement se fera au travers de cette plateforme.
URL:https://rouen.levillagebyca.com/evenement/business-levees-a-louest/
LOCATION:100% Digital
ORGANIZER;CN="Le Village by CA Finist%C3%A8re":MAILTO:marlene.lepennec@levillagebyca.com
END:VEVENT
BEGIN:VEVENT
DTSTART;TZID=Europe/Paris:20220610T100000
DTEND;TZID=Europe/Paris:20220610T120000
DTSTAMP:20260421T120452
CREATED:20220105T132752Z
LAST-MODIFIED:20220105T132752Z
UID:2430-1654855200-1654862400@rouen.levillagebyca.com
SUMMARY:Permanence Pôle Emploi
DESCRIPTION:Bénéficiez d’un suivi individuel avec l’un de nos experts du domaine concerné lors des Permanences organisées au Village.
URL:https://rouen.levillagebyca.com/evenement/permanence-pole-emploi-7/
LOCATION:Village by CA Rouen Vallée de Seine
CATEGORIES:Permanence
ORGANIZER;CN="Le Village by CA Rouen Vall%C3%A9e de Seine":MAILTO:contact.rouen@levillagebyca.com
END:VEVENT
BEGIN:VEVENT
DTSTART;TZID=Europe/Paris:20220614T090000
DTEND;TZID=Europe/Paris:20220614T170000
DTSTAMP:20260421T120452
CREATED:20220602T075831Z
LAST-MODIFIED:20220602T082158Z
UID:4048-1655197200-1655226000@rouen.levillagebyca.com
SUMMARY:Business Connect Médias
DESCRIPTION:Business Connect Médias\nUne journée d’échange entre les startups et les partenaires du Réseau des Villages by CA 100% en ligne. \nLes Business Connect sont des événements organisés par les Villages by CA pour favoriser les synergies entre des partenaires et des startups. \nLe format : des speed-meetings de 20 minutes organisés selon vos préférences. \nCette édition dédiée aux médias est organisée par Le Villages by CA Ille-et-Vilaine\, en partenariat avec Ouest-France\, acteur média majeurs du territoire et ambassadeurs du Village by CA. \nStartups et Entreprises Partenaires : vous avez jusqu’au dimanche 29 mai 2022 pour vous inscrire et vous présenter aux autres participants. \nDu lundi 30 mai 2022 au mardi 7 juin 2022 : vous choisirez les participants que vous souhaitez rencontrer parmi ceux inscrits. \nLe jeudi 9 juin 2022 : vous aurez votre planning personnalisé pour l’événement. \nConférence\, sur inscription : https://airtable.com/shrZ8YHZYplBAWHqa \nToute l’organisation ainsi que vos rendez-vous se feront au travers de cette plateforme. \nTélécharger le Save the Date \n#CoopérerPourInnover
URL:https://rouen.levillagebyca.com/evenement/business-connect-medias-2/
LOCATION:100% Digital
END:VEVENT
BEGIN:VEVENT
DTSTART;TZID=Europe/Paris:20220614T100000
DTEND;TZID=Europe/Paris:20220614T120000
DTSTAMP:20260421T120452
CREATED:20220106T084922Z
LAST-MODIFIED:20220106T084922Z
UID:2523-1655200800-1655208000@rouen.levillagebyca.com
SUMMARY:Permanence des Experts - International / Mutuelle
DESCRIPTION:Vous souhaitez vous renseigner sur vos perspectives de business hors Union Européenne ? Être accompagné sur vos démarches de développement d’affaires à l’international ? \nRendez-vous entre 10h et 12h sur la Place du Village pour la Permanence Internationale du Crédit Agricole 
URL:https://rouen.levillagebyca.com/evenement/permanence-des-experts-international-mutuelle-6/
LOCATION:Village by CA Rouen Vallée de Seine
CATEGORIES:Permanence
ORGANIZER;CN="Le Village by CA Rouen Vall%C3%A9e de Seine":MAILTO:contact.rouen@levillagebyca.com
END:VEVENT
BEGIN:VEVENT
DTSTART;TZID=Europe/Paris:20220615T100000
DTEND;TZID=Europe/Paris:20220615T120000
DTSTAMP:20260421T120452
CREATED:20220525T084313Z
LAST-MODIFIED:20220525T085218Z
UID:3985-1655287200-1655294400@rouen.levillagebyca.com
SUMMARY:Permanence Bras Droit Des Dirigeants : thématique DRH
DESCRIPTION:Bénéficiez des services de cadres opérationnels expérimentés pour intervenir dans votre entreprise avec vous et auprès de vos équipes dans le domaine administratif et financier. \nRendez-vous sur La Place du Village !​
URL:https://rouen.levillagebyca.com/evenement/permanence-bras-droit-des-dirigeants-3/
LOCATION:Village by CA Rouen Vallée de Seine
CATEGORIES:Permanence
ORGANIZER;CN="Le Village by CA Rouen Vall%C3%A9e de Seine":MAILTO:contact.rouen@levillagebyca.com
END:VEVENT
BEGIN:VEVENT
DTSTART;TZID=Europe/Paris:20220616T100000
DTEND;TZID=Europe/Paris:20220616T120000
DTSTAMP:20260421T120452
CREATED:20220105T143557Z
LAST-MODIFIED:20220105T144020Z
UID:2503-1655373600-1655380800@rouen.levillagebyca.com
SUMMARY:Permanence des Experts - Banque & Investissement
DESCRIPTION:Bénéficiez d’un suivi individuel avec l’un de nos experts du domaine concerné lors des Permanences organisées au Village. \nÉchangez sur vos besoins de trésorerie et d’investissement avec un expert pour bien préparer le financement de votre développement.
URL:https://rouen.levillagebyca.com/evenement/permanence-des-experts-banque-investissement-6/
LOCATION:Village by CA Rouen Vallée de Seine
CATEGORIES:Permanence
ORGANIZER;CN="Le Village by CA Rouen Vall%C3%A9e de Seine":MAILTO:contact.rouen@levillagebyca.com
END:VEVENT
BEGIN:VEVENT
DTSTART;TZID=Europe/Paris:20220617T090000
DTEND;TZID=Europe/Paris:20220617T170000
DTSTAMP:20260421T120452
CREATED:20220602T074554Z
LAST-MODIFIED:20220602T082333Z
UID:4042-1655456400-1655485200@rouen.levillagebyca.com
SUMMARY:Business Connect Solutions Innovantes pour le Tourisme Alpin
DESCRIPTION:Business Connect Solutions Innovantes pour le Tourisme Alpin\nUne journée d’échange entre les acteurs du Tourisme Alpin et les start-up proposant des solutions innovantes en réponse à leurs enjeux. \nEntreprises et acteurs du Tourisme sur les territoires de montagne\, découvrez des projets innovants pour inventer la montagne de demain! \nStart-up du tourisme\, présentez vos solutions à des acteurs et décideurs du territoire. \nLe format : une journée de speed-meetings de 20 minutes organisés selon vos préférences. \nL’Alpes Tourisme Lab vous propose cette édition dédiée aux solutions innovantes qui répondent aux enjeux du tourisme alpin: \nHabitat en montagne\, énergie et mobilité\nEconomie circulaire et réduction de l’impact de l’activité touristique\nDigitalisation\, expérience visiteurs et nouveaux modèles d’attractivité \nVous avez jusqu’au 7 juin pour vous inscrire. \nDu 8 au 14 juin\, vous pourrez choisir les participants que vous souhaitez rencontrer parmi les inscrits. \nDès le 15 juin : vous recevrez votre planning personnalisé pour l’évènement. \nNous vous attendons le 17 juin à 9h00 au Pôle Entrepreneuriat de Savoie Technolac pour une journée de rencontre.
URL:https://rouen.levillagebyca.com/evenement/business-connect-bien-vieillir-demain-sur-notre-territoire-2/
LOCATION:Pôle Entrepreneuriat de Savoie Technolac\, 19 Boulevard de la mer Caspienne\, Le Bourget du Lac\, 73370\, France
END:VEVENT
BEGIN:VEVENT
DTSTART;TZID=Europe/Paris:20220621T100000
DTEND;TZID=Europe/Paris:20220621T120000
DTSTAMP:20260421T120452
CREATED:20220106T091507Z
LAST-MODIFIED:20220106T091642Z
UID:2557-1655805600-1655812800@rouen.levillagebyca.com
SUMMARY:Permanence NextMove
DESCRIPTION:Bénéficiez d’un suivi individuel avec l’un de nos experts du domaine concerné lors des Permanences organisées au Village.
URL:https://rouen.levillagebyca.com/evenement/permanence-nextmove-3/
LOCATION:Village by CA Rouen Vallée de Seine
CATEGORIES:Permanence
ATTACH;FMTTYPE=image/jpeg:https://rouen.levillagebyca.com/wp-content/uploads/2020/04/SEINE.jpg
ORGANIZER;CN="Le Village by CA Rouen Vall%C3%A9e de Seine":MAILTO:contact.rouen@levillagebyca.com
END:VEVENT
BEGIN:VEVENT
DTSTART;TZID=Europe/Paris:20220621T140000
DTEND;TZID=Europe/Paris:20220621T163000
DTSTAMP:20260421T120452
CREATED:20220525T085024Z
LAST-MODIFIED:20220525T085024Z
UID:3987-1655820000-1655829000@rouen.levillagebyca.com
SUMMARY:Atelier « Atelier STORY TELLING  »
DESCRIPTION:De nombreux ateliers rythment la vie du Village autour de thématiques très diverses : Co- création/expérimentation\, développement de nouveaux produits\, conquête de nouveaux marches\, structuration… Ces ateliers\, proposés par nos partenaires ou des experts du domaine concerné\, sont ouverts à tous sur inscription\, dans la limite des places disponibles. \n— \nAtelier animé par Faïza Chaarani\, Linguiste & Formatrice certifiée. \nVenez échanger et profitez d’un coaching personnalisé.
URL:https://rouen.levillagebyca.com/evenement/atelier-atelier-story-telling/
LOCATION:Village by CA Rouen Vallée de Seine
CATEGORIES:Atelier
ORGANIZER;CN="Le Village by CA Rouen Vall%C3%A9e de Seine":MAILTO:contact.rouen@levillagebyca.com
END:VEVENT
BEGIN:VEVENT
DTSTART;TZID=Europe/Paris:20220622T133000
DTEND;TZID=Europe/Paris:20220622T140000
DTSTAMP:20260421T120452
CREATED:20220106T101705Z
LAST-MODIFIED:20220525T090032Z
UID:2607-1655904600-1655906400@rouen.levillagebyca.com
SUMMARY:☕ Stand Up Café
DESCRIPTION:Une fois par mois\, échangez avec les autres Habitants autour d’un café\, pour vous tenir au courant des actualités des uns et des autres !
URL:https://rouen.levillagebyca.com/evenement/%e2%98%95-stand-up-cafe-6/
LOCATION:Village by CA Rouen Vallée de Seine
CATEGORIES:Convivialité
ORGANIZER;CN="Le Village by CA Rouen Vall%C3%A9e de Seine":MAILTO:contact.rouen@levillagebyca.com
END:VEVENT
BEGIN:VEVENT
DTSTART;TZID=Europe/Paris:20220623T173000
DTEND;TZID=Europe/Paris:20220623T173000
DTSTAMP:20260421T120452
CREATED:20220525T085727Z
LAST-MODIFIED:20220602T073655Z
UID:3992-1656005400-1656005400@rouen.levillagebyca.com
SUMMARY:Afterwork de l'été
DESCRIPTION:C’est avec grand plaisir que l’équipe du Village by CA Rouen Vallée de Seine vous invite à son dernier événement avant la pause estivale : \nJeudi 23 juin à 17h30 – Place et Terrasse du Village by CA \nUne occasion pour se retrouver et trinquer entre start-up et partenaires.😉
URL:https://rouen.levillagebyca.com/evenement/afterwork-de-lete/
LOCATION:Village by CA Rouen Vallée de Seine
CATEGORIES:Convivialité
ORGANIZER;CN="Le Village by CA Rouen Vall%C3%A9e de Seine":MAILTO:contact.rouen@levillagebyca.com
END:VEVENT
BEGIN:VEVENT
DTSTART;TZID=Europe/Paris:20220624T100000
DTEND;TZID=Europe/Paris:20220624T120000
DTSTAMP:20260421T120452
CREATED:20220106T092451Z
LAST-MODIFIED:20220106T092636Z
UID:2567-1656064800-1656072000@rouen.levillagebyca.com
SUMMARY:Permanence AD Normandie
DESCRIPTION:Bénéficiez d’un suivi individuel avec l’un de nos experts du domaine concerné lors des Permanences organisées au Village.
URL:https://rouen.levillagebyca.com/evenement/permanence-ad-normandie-9/
LOCATION:Village by CA Rouen Vallée de Seine
CATEGORIES:Permanence
ATTACH;FMTTYPE=image/jpeg:https://rouen.levillagebyca.com/wp-content/uploads/2020/04/SEINE.jpg
ORGANIZER;CN="Le Village by CA Rouen Vall%C3%A9e de Seine":MAILTO:contact.rouen@levillagebyca.com
END:VEVENT
BEGIN:VEVENT
DTSTART;TZID=Europe/Paris:20220628T100000
DTEND;TZID=Europe/Paris:20220628T120000
DTSTAMP:20260421T120452
CREATED:20220525T085414Z
LAST-MODIFIED:20220525T085414Z
UID:3990-1656410400-1656417600@rouen.levillagebyca.com
SUMMARY:Permanence Bras Droit Des Dirigeants : thématique DG
DESCRIPTION:Bénéficiez des services de cadres opérationnels expérimentés pour intervenir dans votre entreprise avec vous et auprès de vos équipes dans le domaine administratif et financier. \nRendez-vous sur La Place du Village !​
URL:https://rouen.levillagebyca.com/evenement/permanence-bras-droit-des-dirigeants-thematique-dg/
LOCATION:Village by CA Rouen Vallée de Seine
CATEGORIES:Permanence
ORGANIZER;CN="Le Village by CA Rouen Vall%C3%A9e de Seine":MAILTO:contact.rouen@levillagebyca.com
END:VEVENT
END:VCALENDAR