BEGIN:VCALENDAR
VERSION:2.0
PRODID:-//Le Village by CA Rouen Vallée de Seine - ECPv6.15.18//NONSGML v1.0//EN
CALSCALE:GREGORIAN
METHOD:PUBLISH
X-ORIGINAL-URL:https://rouen.levillagebyca.com
X-WR-CALDESC:Évènements pour Le Village by CA Rouen Vallée de Seine
REFRESH-INTERVAL;VALUE=DURATION:PT1H
X-Robots-Tag:noindex
X-PUBLISHED-TTL:PT1H
BEGIN:VTIMEZONE
TZID:Europe/Paris
BEGIN:DAYLIGHT
TZOFFSETFROM:+0100
TZOFFSETTO:+0200
TZNAME:CEST
DTSTART:20240331T010000
END:DAYLIGHT
BEGIN:STANDARD
TZOFFSETFROM:+0200
TZOFFSETTO:+0100
TZNAME:CET
DTSTART:20241027T010000
END:STANDARD
BEGIN:DAYLIGHT
TZOFFSETFROM:+0100
TZOFFSETTO:+0200
TZNAME:CEST
DTSTART:20250330T010000
END:DAYLIGHT
BEGIN:STANDARD
TZOFFSETFROM:+0200
TZOFFSETTO:+0100
TZNAME:CET
DTSTART:20251026T010000
END:STANDARD
BEGIN:DAYLIGHT
TZOFFSETFROM:+0100
TZOFFSETTO:+0200
TZNAME:CEST
DTSTART:20260329T010000
END:DAYLIGHT
BEGIN:STANDARD
TZOFFSETFROM:+0200
TZOFFSETTO:+0100
TZNAME:CET
DTSTART:20261025T010000
END:STANDARD
END:VTIMEZONE
BEGIN:VEVENT
DTSTART;TZID=Europe/Paris:20250519T080000
DTEND;TZID=Europe/Paris:20250613T170000
DTSTAMP:20260421T150049
CREATED:20250113T095429Z
LAST-MODIFIED:20250113T095429Z
UID:10500-1747641600-1749834000@rouen.levillagebyca.com
SUMMARY:Appel à candidature - 26
DESCRIPTION:
URL:https://rouen.levillagebyca.com/evenement/appel-a-candidature-26/
END:VEVENT
BEGIN:VEVENT
DTSTART;TZID=Europe/Paris:20250605T080000
DTEND;TZID=Europe/Paris:20250605T170000
DTSTAMP:20260421T150049
CREATED:20250114T130805Z
LAST-MODIFIED:20250114T130805Z
UID:10567-1749110400-1749142800@rouen.levillagebyca.com
SUMMARY:Lunch & Com
DESCRIPTION:Club des communicants
URL:https://rouen.levillagebyca.com/evenement/lunch-com/
END:VEVENT
BEGIN:VEVENT
DTSTART;TZID=Europe/Paris:20250617T080000
DTEND;TZID=Europe/Paris:20250617T170000
DTSTAMP:20260421T150049
CREATED:20250114T131335Z
LAST-MODIFIED:20250114T131335Z
UID:10577-1750147200-1750179600@rouen.levillagebyca.com
SUMMARY:Formation IA
DESCRIPTION:Formation Intelligence Artificielle
URL:https://rouen.levillagebyca.com/evenement/formation-ia-3/
END:VEVENT
BEGIN:VEVENT
DTSTART;TZID=Europe/Paris:20250626T080000
DTEND;TZID=Europe/Paris:20250626T170000
DTSTAMP:20260421T150049
CREATED:20250113T095544Z
LAST-MODIFIED:20250113T095544Z
UID:10503-1750924800-1750957200@rouen.levillagebyca.com
SUMMARY:Comité de selection AAC 26
DESCRIPTION:
URL:https://rouen.levillagebyca.com/evenement/comite-de-selection-aac-26/
END:VEVENT
END:VCALENDAR