BEGIN:VCALENDAR
VERSION:2.0
PRODID:-//Le Village by CA Rouen Vallée de Seine - ECPv6.15.18//NONSGML v1.0//EN
CALSCALE:GREGORIAN
METHOD:PUBLISH
X-WR-CALNAME:Le Village by CA Rouen Vallée de Seine
X-ORIGINAL-URL:https://rouen.levillagebyca.com
X-WR-CALDESC:Évènements pour Le Village by CA Rouen Vallée de Seine
REFRESH-INTERVAL;VALUE=DURATION:PT1H
X-Robots-Tag:noindex
X-PUBLISHED-TTL:PT1H
BEGIN:VTIMEZONE
TZID:Europe/Paris
BEGIN:DAYLIGHT
TZOFFSETFROM:+0100
TZOFFSETTO:+0200
TZNAME:CEST
DTSTART:20240331T010000
END:DAYLIGHT
BEGIN:STANDARD
TZOFFSETFROM:+0200
TZOFFSETTO:+0100
TZNAME:CET
DTSTART:20241027T010000
END:STANDARD
BEGIN:DAYLIGHT
TZOFFSETFROM:+0100
TZOFFSETTO:+0200
TZNAME:CEST
DTSTART:20250330T010000
END:DAYLIGHT
BEGIN:STANDARD
TZOFFSETFROM:+0200
TZOFFSETTO:+0100
TZNAME:CET
DTSTART:20251026T010000
END:STANDARD
BEGIN:DAYLIGHT
TZOFFSETFROM:+0100
TZOFFSETTO:+0200
TZNAME:CEST
DTSTART:20260329T010000
END:DAYLIGHT
BEGIN:STANDARD
TZOFFSETFROM:+0200
TZOFFSETTO:+0100
TZNAME:CET
DTSTART:20261025T010000
END:STANDARD
END:VTIMEZONE
BEGIN:VEVENT
DTSTART;TZID=Europe/Paris:20251007T080000
DTEND;TZID=Europe/Paris:20251007T170000
DTSTAMP:20260421T193041
CREATED:20250114T131403Z
LAST-MODIFIED:20250114T131419Z
UID:10579-1759824000-1759856400@rouen.levillagebyca.com
SUMMARY:Formation IA
DESCRIPTION:Formation Intelligence Artificielle
URL:https://rouen.levillagebyca.com/evenement/formation-ia-4/
END:VEVENT
BEGIN:VEVENT
DTSTART;TZID=Europe/Paris:20251013T080000
DTEND;TZID=Europe/Paris:20251107T170000
DTSTAMP:20260421T193041
CREATED:20250113T154704Z
LAST-MODIFIED:20250113T154704Z
UID:10506-1760342400-1762534800@rouen.levillagebyca.com
SUMMARY:Appel à candidature - 27
DESCRIPTION:
URL:https://rouen.levillagebyca.com/evenement/appel-a-candidature-27/
END:VEVENT
BEGIN:VEVENT
DTSTART;TZID=Europe/Paris:20251016T120000
DTEND;TZID=Europe/Paris:20251016T140000
DTSTAMP:20260421T193041
CREATED:20250114T131616Z
LAST-MODIFIED:20250114T131616Z
UID:10584-1760616000-1760623200@rouen.levillagebyca.com
SUMMARY:Lunch& Com
DESCRIPTION:Club des communicants
URL:https://rouen.levillagebyca.com/evenement/lunch-com-3/
END:VEVENT
END:VCALENDAR